BEGIN:VCALENDAR
VERSION:2.0
PRODID:-//The Fig Tree - ECPv6.15.20//NONSGML v1.0//EN
CALSCALE:GREGORIAN
METHOD:PUBLISH
X-ORIGINAL-URL:https://figtreecoffee.com
X-WR-CALDESC:Events for The Fig Tree
REFRESH-INTERVAL;VALUE=DURATION:PT1H
X-Robots-Tag:noindex
X-PUBLISHED-TTL:PT1H
BEGIN:VTIMEZONE
TZID:America/Los_Angeles
BEGIN:DAYLIGHT
TZOFFSETFROM:-0800
TZOFFSETTO:-0700
TZNAME:PDT
DTSTART:20220313T100000
END:DAYLIGHT
BEGIN:STANDARD
TZOFFSETFROM:-0700
TZOFFSETTO:-0800
TZNAME:PST
DTSTART:20221106T090000
END:STANDARD
BEGIN:DAYLIGHT
TZOFFSETFROM:-0800
TZOFFSETTO:-0700
TZNAME:PDT
DTSTART:20230312T100000
END:DAYLIGHT
BEGIN:STANDARD
TZOFFSETFROM:-0700
TZOFFSETTO:-0800
TZNAME:PST
DTSTART:20231105T090000
END:STANDARD
BEGIN:DAYLIGHT
TZOFFSETFROM:-0800
TZOFFSETTO:-0700
TZNAME:PDT
DTSTART:20240310T100000
END:DAYLIGHT
BEGIN:STANDARD
TZOFFSETFROM:-0700
TZOFFSETTO:-0800
TZNAME:PST
DTSTART:20241103T090000
END:STANDARD
END:VTIMEZONE
BEGIN:VEVENT
DTSTART;TZID=America/Los_Angeles:20230617T180000
DTEND;TZID=America/Los_Angeles:20230617T210000
DTSTAMP:20260425T143843
CREATED:20230614T070307Z
LAST-MODIFIED:20230614T070307Z
UID:2571-1687024800-1687035600@figtreecoffee.com
SUMMARY:Open Mic Night
DESCRIPTION:Unleash your creativity and take the stage at our weekly Open Mic Night. Share your talents with an enthusiastic audience as you sing and play. Whether you’re a seasoned performer or trying it for the first time\, this welcoming and supportive environment is the perfect place to showcase your skills and connect with fellow artists. \nRules are as follows: \n1. All materials must be family-friendly. \n2. The signup list will be available at 5 PM in-house. Time slots will be first come first serve. \n3. We encourage each other and create a positive environment\, no matter how big or small. \nWe hope to see you there! \nHost: Alec Ogston
URL:https://figtreecoffee.com/event/open-mic-night-28/
LOCATION:The Fig Tree\, 217 Vernon Street\, Roseville\, CA\, 95678\, United States
CATEGORIES:Open Mic
ATTACH;FMTTYPE=image/jpeg:https://figtreecoffee.com/wp-content/uploads/2023/04/open-mic-Night.jpg
END:VEVENT
END:VCALENDAR