BEGIN:VCALENDAR
VERSION:2.0
PRODID:-//The Fig Tree - ECPv6.15.20//NONSGML v1.0//EN
CALSCALE:GREGORIAN
METHOD:PUBLISH
X-ORIGINAL-URL:https://figtreecoffee.com
X-WR-CALDESC:Events for The Fig Tree
REFRESH-INTERVAL;VALUE=DURATION:PT1H
X-Robots-Tag:noindex
X-PUBLISHED-TTL:PT1H
BEGIN:VTIMEZONE
TZID:America/Los_Angeles
BEGIN:DAYLIGHT
TZOFFSETFROM:-0800
TZOFFSETTO:-0700
TZNAME:PDT
DTSTART:20220313T100000
END:DAYLIGHT
BEGIN:STANDARD
TZOFFSETFROM:-0700
TZOFFSETTO:-0800
TZNAME:PST
DTSTART:20221106T090000
END:STANDARD
BEGIN:DAYLIGHT
TZOFFSETFROM:-0800
TZOFFSETTO:-0700
TZNAME:PDT
DTSTART:20230312T100000
END:DAYLIGHT
BEGIN:STANDARD
TZOFFSETFROM:-0700
TZOFFSETTO:-0800
TZNAME:PST
DTSTART:20231105T090000
END:STANDARD
BEGIN:DAYLIGHT
TZOFFSETFROM:-0800
TZOFFSETTO:-0700
TZNAME:PDT
DTSTART:20240310T100000
END:DAYLIGHT
BEGIN:STANDARD
TZOFFSETFROM:-0700
TZOFFSETTO:-0800
TZNAME:PST
DTSTART:20241103T090000
END:STANDARD
END:VTIMEZONE
BEGIN:VEVENT
DTSTART;TZID=America/Los_Angeles:20231011T180000
DTEND;TZID=America/Los_Angeles:20231011T210000
DTSTAMP:20260425T082908
CREATED:20231013T184556Z
LAST-MODIFIED:20231013T184556Z
UID:2792-1697047200-1697058000@figtreecoffee.com
SUMMARY:Jonathan Schneider & Madilyn Mackensie
DESCRIPTION:Join us this Wednesday for an evening of live music! From 6-7 pm\, Jonathan Schneider will captivate you with his soulful tunes\, followed by the enchanting performance of Madilyn Mackensie from 7-7:45 pm. It’s an hour of diverse musical talents and unforgettable melodies.
URL:https://figtreecoffee.com/event/jonathan-schneider-madilyn-mackensie/
LOCATION:The Fig Tree\, 217 Vernon Street\, Roseville\, CA\, 95678\, United States
CATEGORIES:Live Music
ATTACH;FMTTYPE=image/jpeg:https://figtreecoffee.com/wp-content/uploads/2023/04/Live-Music.jpg
END:VEVENT
END:VCALENDAR