BEGIN:VCALENDAR
VERSION:2.0
PRODID:-//The Fig Tree - ECPv6.15.20//NONSGML v1.0//EN
CALSCALE:GREGORIAN
METHOD:PUBLISH
X-ORIGINAL-URL:https://figtreecoffee.com
X-WR-CALDESC:Events for The Fig Tree
REFRESH-INTERVAL;VALUE=DURATION:PT1H
X-Robots-Tag:noindex
X-PUBLISHED-TTL:PT1H
BEGIN:VTIMEZONE
TZID:America/Los_Angeles
BEGIN:DAYLIGHT
TZOFFSETFROM:-0800
TZOFFSETTO:-0700
TZNAME:PDT
DTSTART:20220313T100000
END:DAYLIGHT
BEGIN:STANDARD
TZOFFSETFROM:-0700
TZOFFSETTO:-0800
TZNAME:PST
DTSTART:20221106T090000
END:STANDARD
BEGIN:DAYLIGHT
TZOFFSETFROM:-0800
TZOFFSETTO:-0700
TZNAME:PDT
DTSTART:20230312T100000
END:DAYLIGHT
BEGIN:STANDARD
TZOFFSETFROM:-0700
TZOFFSETTO:-0800
TZNAME:PST
DTSTART:20231105T090000
END:STANDARD
BEGIN:DAYLIGHT
TZOFFSETFROM:-0800
TZOFFSETTO:-0700
TZNAME:PDT
DTSTART:20240310T100000
END:DAYLIGHT
BEGIN:STANDARD
TZOFFSETFROM:-0700
TZOFFSETTO:-0800
TZNAME:PST
DTSTART:20241103T090000
END:STANDARD
END:VTIMEZONE
BEGIN:VEVENT
DTSTART;TZID=America/Los_Angeles:20231103T180000
DTEND;TZID=America/Los_Angeles:20231103T204500
DTSTAMP:20260425T063838
CREATED:20231031T050233Z
LAST-MODIFIED:20231031T052832Z
UID:3068-1699034400-1699044300@figtreecoffee.com
SUMMARY:Recycle Michael & Of the Heart
DESCRIPTION:An evening of musical magic awaits! From 6-7 pm\, Recycle Michael will serenade you with Fig Tree Songs\, and from 7-9 pm\, immerse yourself in the soulful tunes of Of the Heart. Join us for a night of diverse musical talents and unforgettable performances that will leave you enchanted.
URL:https://figtreecoffee.com/event/recycle-michael-of-the-heart/
LOCATION:The Fig Tree\, 217 Vernon Street\, Roseville\, CA\, 95678\, United States
CATEGORIES:Live Music
ATTACH;FMTTYPE=image/jpeg:https://figtreecoffee.com/wp-content/uploads/2023/10/Live-Music-Of-The-Heart.jpg
END:VEVENT
END:VCALENDAR