BEGIN:VCALENDAR
VERSION:2.0
PRODID:-//The Fig Tree - ECPv6.15.20//NONSGML v1.0//EN
CALSCALE:GREGORIAN
METHOD:PUBLISH
X-WR-CALNAME:The Fig Tree
X-ORIGINAL-URL:https://figtreecoffee.com
X-WR-CALDESC:Events for The Fig Tree
REFRESH-INTERVAL;VALUE=DURATION:PT1H
X-Robots-Tag:noindex
X-PUBLISHED-TTL:PT1H
BEGIN:VTIMEZONE
TZID:America/Los_Angeles
BEGIN:DAYLIGHT
TZOFFSETFROM:-0800
TZOFFSETTO:-0700
TZNAME:PDT
DTSTART:20230312T100000
END:DAYLIGHT
BEGIN:STANDARD
TZOFFSETFROM:-0700
TZOFFSETTO:-0800
TZNAME:PST
DTSTART:20231105T090000
END:STANDARD
BEGIN:DAYLIGHT
TZOFFSETFROM:-0800
TZOFFSETTO:-0700
TZNAME:PDT
DTSTART:20240310T100000
END:DAYLIGHT
BEGIN:STANDARD
TZOFFSETFROM:-0700
TZOFFSETTO:-0800
TZNAME:PST
DTSTART:20241103T090000
END:STANDARD
BEGIN:DAYLIGHT
TZOFFSETFROM:-0800
TZOFFSETTO:-0700
TZNAME:PDT
DTSTART:20250309T100000
END:DAYLIGHT
BEGIN:STANDARD
TZOFFSETFROM:-0700
TZOFFSETTO:-0800
TZNAME:PST
DTSTART:20251102T090000
END:STANDARD
END:VTIMEZONE
BEGIN:VEVENT
DTSTART;TZID=America/Los_Angeles:20240124T170000
DTEND;TZID=America/Los_Angeles:20240124T210000
DTSTAMP:20260425T043357
CREATED:20240123T211213Z
LAST-MODIFIED:20240123T213318Z
UID:3329-1706115600-1706130000@figtreecoffee.com
SUMMARY:Fig Tree's Seven Year Anniversary
DESCRIPTION:Celebrate Fig Tree’s Seven Year Anniversary with an exciting lineup: \n– 5-6:30 PM: One Giant Fish \n– 6:30-7:30 PM: Joshua Ray Magic Show \n– 7:30-8:30 PM: Alec Ogston \n– 8:30-8:50 PM: Recycle Michael Sings Fig Tree Songs \nJoin us on January 24th for a night of festivities\, music\, and magic at Fig Coffee Shop. Don’t miss the fun!
URL:https://figtreecoffee.com/event/fig-trees-seven-year-anniversary/
LOCATION:The Fig Tree\, 217 Vernon Street\, Roseville\, CA\, 95678\, United States
CATEGORIES:Live Music
ATTACH;FMTTYPE=image/png:https://figtreecoffee.com/wp-content/uploads/2024/01/20240123_133139_0000.png
END:VEVENT
END:VCALENDAR