BEGIN:VCALENDAR
VERSION:2.0
PRODID:-//The Fig Tree - ECPv6.15.20//NONSGML v1.0//EN
CALSCALE:GREGORIAN
METHOD:PUBLISH
X-WR-CALNAME:The Fig Tree
X-ORIGINAL-URL:https://figtreecoffee.com
X-WR-CALDESC:Events for The Fig Tree
REFRESH-INTERVAL;VALUE=DURATION:PT1H
X-Robots-Tag:noindex
X-PUBLISHED-TTL:PT1H
BEGIN:VTIMEZONE
TZID:America/Los_Angeles
BEGIN:DAYLIGHT
TZOFFSETFROM:-0800
TZOFFSETTO:-0700
TZNAME:PDT
DTSTART:20230312T100000
END:DAYLIGHT
BEGIN:STANDARD
TZOFFSETFROM:-0700
TZOFFSETTO:-0800
TZNAME:PST
DTSTART:20231105T090000
END:STANDARD
BEGIN:DAYLIGHT
TZOFFSETFROM:-0800
TZOFFSETTO:-0700
TZNAME:PDT
DTSTART:20240310T100000
END:DAYLIGHT
BEGIN:STANDARD
TZOFFSETFROM:-0700
TZOFFSETTO:-0800
TZNAME:PST
DTSTART:20241103T090000
END:STANDARD
BEGIN:DAYLIGHT
TZOFFSETFROM:-0800
TZOFFSETTO:-0700
TZNAME:PDT
DTSTART:20250309T100000
END:DAYLIGHT
BEGIN:STANDARD
TZOFFSETFROM:-0700
TZOFFSETTO:-0800
TZNAME:PST
DTSTART:20251102T090000
END:STANDARD
END:VTIMEZONE
BEGIN:VEVENT
DTSTART;TZID=America/Los_Angeles:20240605T180000
DTEND;TZID=America/Los_Angeles:20240605T210000
DTSTAMP:20260424T191752
CREATED:20240604T002845Z
LAST-MODIFIED:20240604T004512Z
UID:3610-1717610400-1717621200@figtreecoffee.com
SUMMARY:Joshua Ray; Tae Sierra; & Donrico De Castro
DESCRIPTION:Join us at Fig Tree Coffee for an evening of magic\, music\, and mouthwatering treats! Indulge in our freshly brewed coffee\, aromatic tea\, gluten-free pastries\, and handmade baked goodies while enjoying an exciting lineup of entertainment. \n\nJoshua Ray (6-7 pm): Be mesmerized by the incredible magic of Joshua Ray\, making your evening truly magical as you sip on your favorite drink.\nTae Sierra (7-8 pm): Delight in the captivating live music of Tae Sierra\, whose soothing melodies will create a perfect backdrop for enjoying our delicious treats.\nDonrico De Castro (8-9 pm): Conclude the night with the enchanting tunes of Donrico De Castro\, wrapping up a perfect evening in our cozy and inviting space.\n\nBring your friends or come meet new ones in the warm\, welcoming atmosphere of Fig Tree Coffee. We can’t wait to share this special night with you!
URL:https://figtreecoffee.com/event/aiko-shimada-cloudshine-2/
LOCATION:The Fig Tree\, 217 Vernon Street\, Roseville\, CA\, 95678\, United States
CATEGORIES:Live Music
ATTACH;FMTTYPE=image/png:https://figtreecoffee.com/wp-content/uploads/2024/06/Joshua-Ray-and-Donrico-De-Castro.png
END:VEVENT
END:VCALENDAR