BEGIN:VCALENDAR
VERSION:2.0
PRODID:-//The Fig Tree - ECPv6.15.20//NONSGML v1.0//EN
CALSCALE:GREGORIAN
METHOD:PUBLISH
X-WR-CALNAME:The Fig Tree
X-ORIGINAL-URL:https://figtreecoffee.com
X-WR-CALDESC:Events for The Fig Tree
REFRESH-INTERVAL;VALUE=DURATION:PT1H
X-Robots-Tag:noindex
X-PUBLISHED-TTL:PT1H
BEGIN:VTIMEZONE
TZID:America/Los_Angeles
BEGIN:DAYLIGHT
TZOFFSETFROM:-0800
TZOFFSETTO:-0700
TZNAME:PDT
DTSTART:20230312T100000
END:DAYLIGHT
BEGIN:STANDARD
TZOFFSETFROM:-0700
TZOFFSETTO:-0800
TZNAME:PST
DTSTART:20231105T090000
END:STANDARD
BEGIN:DAYLIGHT
TZOFFSETFROM:-0800
TZOFFSETTO:-0700
TZNAME:PDT
DTSTART:20240310T100000
END:DAYLIGHT
BEGIN:STANDARD
TZOFFSETFROM:-0700
TZOFFSETTO:-0800
TZNAME:PST
DTSTART:20241103T090000
END:STANDARD
BEGIN:DAYLIGHT
TZOFFSETFROM:-0800
TZOFFSETTO:-0700
TZNAME:PDT
DTSTART:20250309T100000
END:DAYLIGHT
BEGIN:STANDARD
TZOFFSETFROM:-0700
TZOFFSETTO:-0800
TZNAME:PST
DTSTART:20251102T090000
END:STANDARD
END:VTIMEZONE
BEGIN:VEVENT
DTSTART;TZID=America/Los_Angeles:20240829T180000
DTEND;TZID=America/Los_Angeles:20240829T210000
DTSTAMP:20260424T161020
CREATED:20240826T040053Z
LAST-MODIFIED:20240826T040053Z
UID:3841-1724954400-1724965200@figtreecoffee.com
SUMMARY:Stephen Madrick; Joanna Hinojosa; Analogue Banana featuring Still Sam
DESCRIPTION:Kick off your evening with Stephen Madrick from 6-7 PM\, where his captivating melodies will set the perfect tone. Then\, let Joanna Hinojosa take you on a musical journey from 7-8 PM\, offering her unique blend of sound and soul. Finally\, wrap up the night with Analogue Banana featuring Still Sam from 8-9 PM—a performance sure to leave a lasting impression. It’s an evening of eclectic tunes and unforgettable vibes!
URL:https://figtreecoffee.com/event/stephen-madrick-joanna-hinojosa-analogue-banana-featuring-still-sam/
LOCATION:The Fig Tree\, 217 Vernon Street\, Roseville\, CA\, 95678\, United States
CATEGORIES:Live Music
ATTACH;FMTTYPE=image/jpeg:https://figtreecoffee.com/wp-content/uploads/2024/06/Live-Music.jpg
END:VEVENT
END:VCALENDAR