BEGIN:VCALENDAR
VERSION:2.0
PRODID:-//The Fig Tree - ECPv6.15.20//NONSGML v1.0//EN
CALSCALE:GREGORIAN
METHOD:PUBLISH
X-ORIGINAL-URL:https://figtreecoffee.com
X-WR-CALDESC:Events for The Fig Tree
REFRESH-INTERVAL;VALUE=DURATION:PT1H
X-Robots-Tag:noindex
X-PUBLISHED-TTL:PT1H
BEGIN:VTIMEZONE
TZID:America/Los_Angeles
BEGIN:DAYLIGHT
TZOFFSETFROM:-0800
TZOFFSETTO:-0700
TZNAME:PDT
DTSTART:20250309T100000
END:DAYLIGHT
BEGIN:STANDARD
TZOFFSETFROM:-0700
TZOFFSETTO:-0800
TZNAME:PST
DTSTART:20251102T090000
END:STANDARD
BEGIN:DAYLIGHT
TZOFFSETFROM:-0800
TZOFFSETTO:-0700
TZNAME:PDT
DTSTART:20260308T100000
END:DAYLIGHT
BEGIN:STANDARD
TZOFFSETFROM:-0700
TZOFFSETTO:-0800
TZNAME:PST
DTSTART:20261101T090000
END:STANDARD
BEGIN:DAYLIGHT
TZOFFSETFROM:-0800
TZOFFSETTO:-0700
TZNAME:PDT
DTSTART:20270314T100000
END:DAYLIGHT
BEGIN:STANDARD
TZOFFSETFROM:-0700
TZOFFSETTO:-0800
TZNAME:PST
DTSTART:20271107T090000
END:STANDARD
END:VTIMEZONE
BEGIN:VEVENT
DTSTART;TZID=America/Los_Angeles:20260106T180000
DTEND;TZID=America/Los_Angeles:20260106T210000
DTSTAMP:20260423T152357
CREATED:20260106T000133Z
LAST-MODIFIED:20260106T000133Z
UID:6228-1767722400-1767733200@figtreecoffee.com
SUMMARY:Piano Night\, featuring Zachary Piazzisi
DESCRIPTION:Enjoy an enchanting Piano Night with Zachary Piazzisi as he fills the room with soothing melodies from 6-9 PM. Settle in for a relaxing evening of music that will captivate your soul. Don’t miss it!
URL:https://figtreecoffee.com/event/piano-night-featuring-zachary-piazzisi-27/
LOCATION:The Fig Tree\, 217 Vernon Street\, Roseville\, CA\, 95678\, United States
CATEGORIES:Piano Night
ATTACH;FMTTYPE=image/png:https://figtreecoffee.com/wp-content/uploads/2025/11/Zachary-Piazzisi.png
END:VEVENT
BEGIN:VEVENT
DTSTART;TZID=America/Los_Angeles:20260106T183000
DTEND;TZID=America/Los_Angeles:20260106T203000
DTSTAMP:20260423T152357
CREATED:20260106T000503Z
LAST-MODIFIED:20260106T000503Z
UID:6230-1767724200-1767731400@figtreecoffee.com
SUMMARY:Celtic Session
DESCRIPTION:Get ready for a lively Celtic Session from 6:30-8:30 PM! Bring your own instrument and jump into the jam\, or simply enjoy the traditional tunes and good company. Let the music bring a bit of Celtic charm to your evening!
URL:https://figtreecoffee.com/event/celtic-session-15/
LOCATION:The Fig Tree\, 217 Vernon Street\, Roseville\, CA\, 95678\, United States
CATEGORIES:Live Music
ATTACH;FMTTYPE=image/png:https://figtreecoffee.com/wp-content/uploads/2025/03/Celtic-Session.png
END:VEVENT
END:VCALENDAR