BEGIN:VCALENDAR
VERSION:2.0
PRODID:-//The Fig Tree - ECPv6.15.20//NONSGML v1.0//EN
CALSCALE:GREGORIAN
METHOD:PUBLISH
X-ORIGINAL-URL:https://figtreecoffee.com
X-WR-CALDESC:Events for The Fig Tree
REFRESH-INTERVAL;VALUE=DURATION:PT1H
X-Robots-Tag:noindex
X-PUBLISHED-TTL:PT1H
BEGIN:VTIMEZONE
TZID:America/Los_Angeles
BEGIN:DAYLIGHT
TZOFFSETFROM:-0800
TZOFFSETTO:-0700
TZNAME:PDT
DTSTART:20230312T100000
END:DAYLIGHT
BEGIN:STANDARD
TZOFFSETFROM:-0700
TZOFFSETTO:-0800
TZNAME:PST
DTSTART:20231105T090000
END:STANDARD
BEGIN:DAYLIGHT
TZOFFSETFROM:-0800
TZOFFSETTO:-0700
TZNAME:PDT
DTSTART:20240310T100000
END:DAYLIGHT
BEGIN:STANDARD
TZOFFSETFROM:-0700
TZOFFSETTO:-0800
TZNAME:PST
DTSTART:20241103T090000
END:STANDARD
BEGIN:DAYLIGHT
TZOFFSETFROM:-0800
TZOFFSETTO:-0700
TZNAME:PDT
DTSTART:20250309T100000
END:DAYLIGHT
BEGIN:STANDARD
TZOFFSETFROM:-0700
TZOFFSETTO:-0800
TZNAME:PST
DTSTART:20251102T090000
END:STANDARD
END:VTIMEZONE
BEGIN:VEVENT
DTSTART;TZID=America/Los_Angeles:20240904T180000
DTEND;TZID=America/Los_Angeles:20240904T210000
DTSTAMP:20260425T183100
CREATED:20240902T180449Z
LAST-MODIFIED:20240903T195147Z
UID:3849-1725472800-1725483600@figtreecoffee.com
SUMMARY:Anthony V; One Giant Fish
DESCRIPTION:Start your night with the smooth sounds of Anthony V from 6-7 PM\, delivering a performance that’s sure to warm your heart. Then\, settle in for an unforgettable evening with One Giant Fish from 7-9 PM\, where the music will carry you away. It’s the ideal way to spend an evening immersed in melody and rhythm.
URL:https://figtreecoffee.com/event/anthony-v-one-giant-fish/
LOCATION:The Fig Tree\, 217 Vernon Street\, Roseville\, CA\, 95678\, United States
CATEGORIES:Live Music
ATTACH;FMTTYPE=image/jpeg:https://figtreecoffee.com/wp-content/uploads/2024/06/Live-Music.jpg
END:VEVENT
BEGIN:VEVENT
DTSTART;TZID=America/Los_Angeles:20240905T180000
DTEND;TZID=America/Los_Angeles:20240905T210000
DTSTAMP:20260425T183100
CREATED:20240902T180559Z
LAST-MODIFIED:20240902T180559Z
UID:3851-1725559200-1725570000@figtreecoffee.com
SUMMARY:Steve Wildanger; Sam Caylor
DESCRIPTION:Kick off your evening with Steve Wildanger from 6-7 PM\, setting the tone with his signature style. Then\, dive deeper into the night with Sam Caylor from 7-9 PM\, bringing you a captivating blend of sounds to keep the good vibes flowing. Perfect for an evening of live music and relaxation!
URL:https://figtreecoffee.com/event/steve-wildanger-sam-caylor/
LOCATION:The Fig Tree\, 217 Vernon Street\, Roseville\, CA\, 95678\, United States
CATEGORIES:Live Music
ATTACH;FMTTYPE=image/jpeg:https://figtreecoffee.com/wp-content/uploads/2024/04/Live-Music.jpg
END:VEVENT
BEGIN:VEVENT
DTSTART;TZID=America/Los_Angeles:20240906T180000
DTEND;TZID=America/Los_Angeles:20240906T210000
DTSTAMP:20260425T183100
CREATED:20240902T180744Z
LAST-MODIFIED:20240906T191927Z
UID:3853-1725645600-1725656400@figtreecoffee.com
SUMMARY:Ace G.; Tae Sierra
DESCRIPTION:Get ready for an evening filled with incredible performances! Ace G. will kick things off from 6-7 PM\, bringing his unique energy and style to the stage. Then\, Tae Sierra takes over from 7-9 PM\, delivering a powerful set that promises to keep the crowd engaged. Settle in for a night of memorable live music!
URL:https://figtreecoffee.com/event/ace-g-tae-sierra/
LOCATION:The Fig Tree\, 217 Vernon Street\, Roseville\, CA\, 95678\, United States
CATEGORIES:Live Music
ATTACH;FMTTYPE=image/png:https://figtreecoffee.com/wp-content/uploads/2023/11/Live-Music-Fall-Brown.png
END:VEVENT
BEGIN:VEVENT
DTSTART;TZID=America/Los_Angeles:20240912T180000
DTEND;TZID=America/Los_Angeles:20240912T210000
DTSTAMP:20260425T183100
CREATED:20240909T232152Z
LAST-MODIFIED:20240909T232152Z
UID:3865-1726164000-1726174800@figtreecoffee.com
SUMMARY:Grayson & James Jazz Combo
DESCRIPTION:Prepare for an elegant evening of live jazz as the Grayson & James Jazz Combo takes the stage from 6-9 PM. With their smooth rhythms and sophisticated melodies\, this duo is sure to create the perfect ambiance. Let the music take you away!
URL:https://figtreecoffee.com/event/grayson-james-jazz-combo/
LOCATION:The Fig Tree\, 217 Vernon Street\, Roseville\, CA\, 95678\, United States
CATEGORIES:Live Music
ATTACH;FMTTYPE=image/png:https://figtreecoffee.com/wp-content/uploads/2023/11/Live-Music-Fall-Brown.png
END:VEVENT
BEGIN:VEVENT
DTSTART;TZID=America/Los_Angeles:20240913T180000
DTEND;TZID=America/Los_Angeles:20240913T210000
DTSTAMP:20260425T183100
CREATED:20240909T231950Z
LAST-MODIFIED:20240909T231950Z
UID:3863-1726250400-1726261200@figtreecoffee.com
SUMMARY:Rumi Shimada & Friends
DESCRIPTION:Embark on a musical adventure with Rumi Shimada & Friends from 6-9 pm. Join us for a night filled with soulful melodies and captivating performances that you won’t want to miss.
URL:https://figtreecoffee.com/event/rumi-shimada-friends-5/
LOCATION:The Fig Tree\, 217 Vernon Street\, Roseville\, CA\, 95678\, United States
CATEGORIES:Live Music
ATTACH;FMTTYPE=image/jpeg:https://figtreecoffee.com/wp-content/uploads/2024/01/Live-Music-Rumi-Shimada-Friends.jpg
END:VEVENT
BEGIN:VEVENT
DTSTART;TZID=America/Los_Angeles:20240918T180000
DTEND;TZID=America/Los_Angeles:20240918T203000
DTSTAMP:20260425T183100
CREATED:20240916T083354Z
LAST-MODIFIED:20240916T083354Z
UID:3876-1726682400-1726691400@figtreecoffee.com
SUMMARY:Irish Session
DESCRIPTION:Wednesday night is all about the Irish Session! From 6-8:30 PM\, come experience lively music with added flair. Bring your own instrument and join the jam—it’s an open invitation to musicians of all skill levels. Let’s fill the room with melodies and collaborative entertainment!
URL:https://figtreecoffee.com/event/irish-session/
LOCATION:The Fig Tree\, 217 Vernon Street\, Roseville\, CA\, 95678\, United States
CATEGORIES:Live Music
ATTACH;FMTTYPE=image/png:https://figtreecoffee.com/wp-content/uploads/2023/11/Live-Music-Fall-Brown.png
END:VEVENT
BEGIN:VEVENT
DTSTART;TZID=America/Los_Angeles:20240919T180000
DTEND;TZID=America/Los_Angeles:20240919T210000
DTSTAMP:20260425T183100
CREATED:20240916T083539Z
LAST-MODIFIED:20240916T083539Z
UID:3878-1726768800-1726779600@figtreecoffee.com
SUMMARY:Sara Star & Travis Roseberry
DESCRIPTION:Join us for an evening of captivating performances with Sara Star and Travis Roseberry from 6-9 PM. Settle in for three hours of soulful music that will carry you through a mix of powerful vocals and melodic tunes. This is the perfect midweek escape! \n 
URL:https://figtreecoffee.com/event/sara-star-travis-roseberry/
LOCATION:The Fig Tree\, 217 Vernon Street\, Roseville\, CA\, 95678\, United States
CATEGORIES:Live Music
ATTACH;FMTTYPE=image/jpeg:https://figtreecoffee.com/wp-content/uploads/2024/04/Live-Music.jpg
END:VEVENT
BEGIN:VEVENT
DTSTART;TZID=America/Los_Angeles:20240920T180000
DTEND;TZID=America/Los_Angeles:20240920T210000
DTSTAMP:20260425T183100
CREATED:20240916T083936Z
LAST-MODIFIED:20240916T083936Z
UID:3880-1726855200-1726866000@figtreecoffee.com
SUMMARY:Mischief; Vinnie Jewell
DESCRIPTION:Get ready for a night of fantastic live music with Mischief kicking things off from 6-8 PM. Stick around as Vinnie Jewell takes the stage from 8-9 PM to close out the evening with an unforgettable set. It’s the perfect way to enjoy some great tunes and unwind! \n 
URL:https://figtreecoffee.com/event/mischief-vinnie-jewell/
LOCATION:The Fig Tree\, 217 Vernon Street\, Roseville\, CA\, 95678\, United States
CATEGORIES:Live Music
ATTACH;FMTTYPE=image/jpeg:https://figtreecoffee.com/wp-content/uploads/2023/04/Live-Music.jpg
END:VEVENT
BEGIN:VEVENT
DTSTART;TZID=America/Los_Angeles:20240925T180000
DTEND;TZID=America/Los_Angeles:20240925T203000
DTSTAMP:20260425T183100
CREATED:20240923T161120Z
LAST-MODIFIED:20240923T161120Z
UID:3886-1727287200-1727296200@figtreecoffee.com
SUMMARY:Jessica Jenkins; Anthony Boccaleoni; & Adam Schild
DESCRIPTION:Join us for an evening of live music\, starting with Jessica Jenkins from 6-7 PM\, followed by the talented Anthony Boccaleoni from 7-8 PM\, and closing out with Adam Schild from 8-9 PM. It’s a perfect night to enjoy some great performances and unwind with good company!
URL:https://figtreecoffee.com/event/jessica-jenkins-anthony-boccaleoni-adam-schild/
LOCATION:The Fig Tree\, 217 Vernon Street\, Roseville\, CA\, 95678\, United States
CATEGORIES:Live Music
ATTACH;FMTTYPE=image/png:https://figtreecoffee.com/wp-content/uploads/2023/11/Live-Music-Fall-Brown.png
END:VEVENT
BEGIN:VEVENT
DTSTART;TZID=America/Los_Angeles:20240926T180000
DTEND;TZID=America/Los_Angeles:20240926T210000
DTSTAMP:20260425T183100
CREATED:20240923T161343Z
LAST-MODIFIED:20240923T161404Z
UID:3888-1727373600-1727384400@figtreecoffee.com
SUMMARY:Madison Lazark; & Tim Williamson
DESCRIPTION:Join us for a musical journey! From 6-7 pm\, let Madison Lazark serenade you with enchanting melodies. Then\, from 7-9 pm\, immerse yourself in the dynamic sounds of TMB. It’s an evening filled with diverse musical talents and captivating performances that you won’t want to miss.
URL:https://figtreecoffee.com/event/madison-lazark-tmb-2/
LOCATION:The Fig Tree\, 217 Vernon Street\, Roseville\, CA\, 95678\, United States
CATEGORIES:Live Music
ATTACH;FMTTYPE=image/png:https://figtreecoffee.com/wp-content/uploads/2024/01/Live-Music-featuring-Madison-Lazark.png
END:VEVENT
BEGIN:VEVENT
DTSTART;TZID=America/Los_Angeles:20240927T180000
DTEND;TZID=America/Los_Angeles:20240927T210000
DTSTAMP:20260425T183100
CREATED:20240923T161452Z
LAST-MODIFIED:20240923T161452Z
UID:3891-1727460000-1727470800@figtreecoffee.com
SUMMARY:Charivari Jazz Quartet
DESCRIPTION:Immerse yourself in an evening of jazz excellence! Join us from 6-9 pm for the Charivari Jazz Quartet\, as they serenade you with soulful melodies and captivating rhythms. It’s a night filled with musical magic that jazz enthusiasts won’t want to miss.
URL:https://figtreecoffee.com/event/charivari-jazz-quartet-3/
LOCATION:The Fig Tree\, 217 Vernon Street\, Roseville\, CA\, 95678\, United States
CATEGORIES:Live Music
ATTACH;FMTTYPE=image/jpeg:https://figtreecoffee.com/wp-content/uploads/2024/06/Live-Music.jpg
END:VEVENT
END:VCALENDAR