BEGIN:VCALENDAR
VERSION:2.0
PRODID:-//The Fig Tree - ECPv6.15.20//NONSGML v1.0//EN
CALSCALE:GREGORIAN
METHOD:PUBLISH
X-ORIGINAL-URL:https://figtreecoffee.com
X-WR-CALDESC:Events for The Fig Tree
REFRESH-INTERVAL;VALUE=DURATION:PT1H
X-Robots-Tag:noindex
X-PUBLISHED-TTL:PT1H
BEGIN:VTIMEZONE
TZID:America/Los_Angeles
BEGIN:DAYLIGHT
TZOFFSETFROM:-0800
TZOFFSETTO:-0700
TZNAME:PDT
DTSTART:20240310T100000
END:DAYLIGHT
BEGIN:STANDARD
TZOFFSETFROM:-0700
TZOFFSETTO:-0800
TZNAME:PST
DTSTART:20241103T090000
END:STANDARD
BEGIN:DAYLIGHT
TZOFFSETFROM:-0800
TZOFFSETTO:-0700
TZNAME:PDT
DTSTART:20250309T100000
END:DAYLIGHT
BEGIN:STANDARD
TZOFFSETFROM:-0700
TZOFFSETTO:-0800
TZNAME:PST
DTSTART:20251102T090000
END:STANDARD
BEGIN:DAYLIGHT
TZOFFSETFROM:-0800
TZOFFSETTO:-0700
TZNAME:PDT
DTSTART:20260308T100000
END:DAYLIGHT
BEGIN:STANDARD
TZOFFSETFROM:-0700
TZOFFSETTO:-0800
TZNAME:PST
DTSTART:20261101T090000
END:STANDARD
END:VTIMEZONE
BEGIN:VEVENT
DTSTART;TZID=America/Los_Angeles:20250305T180000
DTEND;TZID=America/Los_Angeles:20250305T210000
DTSTAMP:20260425T084557
CREATED:20250303T195520Z
LAST-MODIFIED:20250303T195520Z
UID:4238-1741197600-1741208400@figtreecoffee.com
SUMMARY:Celtic Session
DESCRIPTION:Get ready for a lively Celtic Session from 6-9 PM! Bring your own instrument and jump into the jam\, or simply enjoy the traditional tunes and good company. Let the music bring a bit of Celtic charm to your evening!
URL:https://figtreecoffee.com/event/celtic-session-5/
LOCATION:The Fig Tree\, 217 Vernon Street\, Roseville\, CA\, 95678\, United States
CATEGORIES:Live Music
ATTACH;FMTTYPE=image/png:https://figtreecoffee.com/wp-content/uploads/2025/03/Celtic-Session.png
END:VEVENT
BEGIN:VEVENT
DTSTART;TZID=America/Los_Angeles:20250306T180000
DTEND;TZID=America/Los_Angeles:20250306T210000
DTSTAMP:20260425T084557
CREATED:20250303T211237Z
LAST-MODIFIED:20250303T211237Z
UID:4241-1741284000-1741294800@figtreecoffee.com
SUMMARY:One Giant Fish & Friends
DESCRIPTION:Enjoy an evening of live music with One Giant Fish & Friends from 6-9 PM! Immerse yourself in the energy of their performance while sipping on one of our monthly specials—crafted just for the season. Whether you’re here for the music\, the drinks\, or the cozy atmosphere\, it’s the perfect way to unwind and enjoy the night.
URL:https://figtreecoffee.com/event/one-giant-fish-friends/
LOCATION:The Fig Tree\, 217 Vernon Street\, Roseville\, CA\, 95678\, United States
CATEGORIES:Live Music
ATTACH;FMTTYPE=image/png:https://figtreecoffee.com/wp-content/uploads/2025/03/One-Giant-Fish-Friends.png
END:VEVENT
BEGIN:VEVENT
DTSTART;TZID=America/Los_Angeles:20250307T180000
DTEND;TZID=America/Los_Angeles:20250307T210000
DTSTAMP:20260425T084557
CREATED:20250303T211806Z
LAST-MODIFIED:20250303T211806Z
UID:4244-1741370400-1741381200@figtreecoffee.com
SUMMARY:Mischief; Anthony Boccaleoni
DESCRIPTION:Join us this evening as Mischief takes the stage from 6-8 PM with their captivating tunes to start your night right. Then\, stick around for Anthony Boccaleoni from 8-9 PM to wrap up the evening with his soulful sound. A night filled with rhythm\, good company\, and the perfect atmosphere awaits! \n 
URL:https://figtreecoffee.com/event/mischief-anthony-boccaleoni-2/
LOCATION:The Fig Tree\, 217 Vernon Street\, Roseville\, CA\, 95678\, United States
CATEGORIES:Live Music
ATTACH;FMTTYPE=image/png:https://figtreecoffee.com/wp-content/uploads/2024/10/1000010517.png
END:VEVENT
BEGIN:VEVENT
DTSTART;TZID=America/Los_Angeles:20250312T180000
DTEND;TZID=America/Los_Angeles:20250312T210000
DTSTAMP:20260425T084557
CREATED:20250310T220000Z
LAST-MODIFIED:20250310T220000Z
UID:4257-1741802400-1741813200@figtreecoffee.com
SUMMARY:Jazz Jam Session
DESCRIPTION:Immerse yourself in the smooth\, soulful sounds of jazz at tonight’s Jazz Jam Session. Whether you’re a musician looking to join the groove or a listener soaking in the melodies\, it’s the perfect night for jazz lovers to connect and enjoy the art of improvisation. Grab your favorite coffee or tea and let the music take you away! \n 
URL:https://figtreecoffee.com/event/jazz-jam-session-4/
LOCATION:The Fig Tree\, 217 Vernon Street\, Roseville\, CA\, 95678\, United States
CATEGORIES:Live Music
ATTACH;FMTTYPE=image/png:https://figtreecoffee.com/wp-content/uploads/2025/03/Jazz-Jam-Session.png
END:VEVENT
BEGIN:VEVENT
DTSTART;TZID=America/Los_Angeles:20250320T180000
DTEND;TZID=America/Los_Angeles:20250320T210000
DTSTAMP:20260425T084557
CREATED:20250318T042205Z
LAST-MODIFIED:20250318T042205Z
UID:4270-1742493600-1742504400@figtreecoffee.com
SUMMARY:Tae Sierra and Leslie W.
DESCRIPTION:Spend your evening with the incredible duo Tae Sierra and Leslie W.\, performing live from 6-9 PM. Their captivating harmonies and soulful sound will set the perfect vibe for a night of great music and good company!
URL:https://figtreecoffee.com/event/tae-sierra-and-leslie-w/
LOCATION:The Fig Tree\, 217 Vernon Street\, Roseville\, CA\, 95678\, United States
CATEGORIES:Live Music
ATTACH;FMTTYPE=image/png:https://figtreecoffee.com/wp-content/uploads/2025/02/Live-Music.png
END:VEVENT
BEGIN:VEVENT
DTSTART;TZID=America/Los_Angeles:20250321T180000
DTEND;TZID=America/Los_Angeles:20250321T210000
DTSTAMP:20260425T084557
CREATED:20250318T042305Z
LAST-MODIFIED:20250320T214515Z
UID:4272-1742580000-1742590800@figtreecoffee.com
SUMMARY:Chloe Mead; Ali Bohannon
DESCRIPTION:Enjoy a night of live music with Chloe Mead from 6-7 PM\, followed by Ali Bohannon from 7-9 PM. Sip on our monthly specials\, settle in\, and let the music take you away!
URL:https://figtreecoffee.com/event/chloe-mead-ali-bohannon/
LOCATION:The Fig Tree\, 217 Vernon Street\, Roseville\, CA\, 95678\, United States
CATEGORIES:Live Music
ATTACH;FMTTYPE=image/png:https://figtreecoffee.com/wp-content/uploads/2025/03/Chloe-Mead-Alison-Bohannon.png
END:VEVENT
BEGIN:VEVENT
DTSTART;TZID=America/Los_Angeles:20250326T180000
DTEND;TZID=America/Los_Angeles:20250326T210000
DTSTAMP:20260425T084557
CREATED:20250324T182647Z
LAST-MODIFIED:20250324T182647Z
UID:4280-1743012000-1743022800@figtreecoffee.com
SUMMARY:Marco Lemus; Avery Henry; Dead Wood Rolling
DESCRIPTION:Join us for an evening of live music\, starting with Marco Lemus from 6-7 PM\, followed by Avery Henry from 7-8 PM\, and closing out the night with Dead Wood Rolling from 8-9 PM. Don’t forget to try our monthly specials while you enjoy the show!
URL:https://figtreecoffee.com/event/marco-lemus-avery-henry-dead-wood-rolling/
LOCATION:The Fig Tree\, 217 Vernon Street\, Roseville\, CA\, 95678\, United States
CATEGORIES:Live Music
ATTACH;FMTTYPE=image/png:https://figtreecoffee.com/wp-content/uploads/2025/03/Live-Music.png
END:VEVENT
BEGIN:VEVENT
DTSTART;TZID=America/Los_Angeles:20250327T180000
DTEND;TZID=America/Los_Angeles:20250327T210000
DTSTAMP:20260425T084557
CREATED:20250324T183021Z
LAST-MODIFIED:20250324T183308Z
UID:4282-1743098400-1743109200@figtreecoffee.com
SUMMARY:Jessica Jenkins; Anthony V; Lydia Shepherd
DESCRIPTION:Enjoy a night of live music with an incredible lineup! Jessica Jenkins kicks things off from 6-7 PM\, followed by Anthony V from 7-8 PM\, and Lydia Shepherd closes out the evening from 8-9 PM. Sip on your favorite drink\, relax\, and take in the sounds! \n 
URL:https://figtreecoffee.com/event/jessica-jenkins-anthony-v-lydia-shepherd/
LOCATION:The Fig Tree\, 217 Vernon Street\, Roseville\, CA\, 95678\, United States
CATEGORIES:Live Music
ATTACH;FMTTYPE=image/png:https://figtreecoffee.com/wp-content/uploads/2024/12/Live-Music_20241230_145839_0000.png
END:VEVENT
BEGIN:VEVENT
DTSTART;TZID=America/Los_Angeles:20250328T180000
DTEND;TZID=America/Los_Angeles:20250328T210000
DTSTAMP:20260425T084557
CREATED:20250324T183616Z
LAST-MODIFIED:20250324T183616Z
UID:4284-1743184800-1743195600@figtreecoffee.com
SUMMARY:Brody Roberts; Alli & Donny
DESCRIPTION:Kick off your weekend with an evening of live music featuring local talents. From 6-7 PM\, Brody Roberts sets the stage with his heartfelt performance. Then\, from 7-9 PM\, enjoy the soulful harmonies of Alli & Donny. It’s the perfect opportunity to relax\, savor our delicious baked goods\, and immerse yourself in the inviting atmosphere. \n 
URL:https://figtreecoffee.com/event/brody-roberts-alli-donny/
LOCATION:The Fig Tree\, 217 Vernon Street\, Roseville\, CA\, 95678\, United States
CATEGORIES:Live Music
ATTACH;FMTTYPE=image/png:https://figtreecoffee.com/wp-content/uploads/2025/02/Live-Music.png
END:VEVENT
END:VCALENDAR