BEGIN:VCALENDAR
VERSION:2.0
PRODID:-//The Fig Tree - ECPv6.15.20//NONSGML v1.0//EN
CALSCALE:GREGORIAN
METHOD:PUBLISH
X-ORIGINAL-URL:https://figtreecoffee.com
X-WR-CALDESC:Events for The Fig Tree
REFRESH-INTERVAL;VALUE=DURATION:PT1H
X-Robots-Tag:noindex
X-PUBLISHED-TTL:PT1H
BEGIN:VTIMEZONE
TZID:America/Los_Angeles
BEGIN:DAYLIGHT
TZOFFSETFROM:-0800
TZOFFSETTO:-0700
TZNAME:PDT
DTSTART:20240310T100000
END:DAYLIGHT
BEGIN:STANDARD
TZOFFSETFROM:-0700
TZOFFSETTO:-0800
TZNAME:PST
DTSTART:20241103T090000
END:STANDARD
BEGIN:DAYLIGHT
TZOFFSETFROM:-0800
TZOFFSETTO:-0700
TZNAME:PDT
DTSTART:20250309T100000
END:DAYLIGHT
BEGIN:STANDARD
TZOFFSETFROM:-0700
TZOFFSETTO:-0800
TZNAME:PST
DTSTART:20251102T090000
END:STANDARD
BEGIN:DAYLIGHT
TZOFFSETFROM:-0800
TZOFFSETTO:-0700
TZNAME:PDT
DTSTART:20260308T100000
END:DAYLIGHT
BEGIN:STANDARD
TZOFFSETFROM:-0700
TZOFFSETTO:-0800
TZNAME:PST
DTSTART:20261101T090000
END:STANDARD
END:VTIMEZONE
BEGIN:VEVENT
DTSTART;TZID=America/Los_Angeles:20251203T183000
DTEND;TZID=America/Los_Angeles:20251203T203000
DTSTAMP:20260424T174622
CREATED:20251202T001859Z
LAST-MODIFIED:20251202T001859Z
UID:5875-1764786600-1764793800@figtreecoffee.com
SUMMARY:Celtic Session
DESCRIPTION:Get ready for a lively Celtic Session from 6:30-8:30 PM! Bring your own instrument and jump into the jam\, or simply enjoy the traditional tunes and good company. Let the music bring a bit of Celtic charm to your evening!
URL:https://figtreecoffee.com/event/celtic-session-14/
LOCATION:The Fig Tree\, 217 Vernon Street\, Roseville\, CA\, 95678\, United States
CATEGORIES:Live Music
ATTACH;FMTTYPE=image/png:https://figtreecoffee.com/wp-content/uploads/2025/03/Celtic-Session.png
END:VEVENT
BEGIN:VEVENT
DTSTART;TZID=America/Los_Angeles:20251204T180000
DTEND;TZID=America/Los_Angeles:20251204T210000
DTSTAMP:20260424T174622
CREATED:20251202T002121Z
LAST-MODIFIED:20251202T002321Z
UID:5877-1764871200-1764882000@figtreecoffee.com
SUMMARY:Alec Ogston; Bryan Quinn; Chris Conway
DESCRIPTION:Ease into your Thursday with Alec Ogston from 6–7 pm\, followed by Bryan Quinn from 7–8 pm\, and closing out the night with Chris Conway from 8–9 pm. A perfect blend of local talent\, warm drinks\, and a welcoming atmosphere. Perfect for relaxing\, studying\, or catching up with friends as we head into the weekend.
URL:https://figtreecoffee.com/event/alec-ogston-bryan-quinn-chris-conway/
LOCATION:The Fig Tree\, 217 Vernon Street\, Roseville\, CA\, 95678\, United States
CATEGORIES:Live Music
ATTACH;FMTTYPE=image/png:https://figtreecoffee.com/wp-content/uploads/2025/11/Live-Music.png
END:VEVENT
BEGIN:VEVENT
DTSTART;TZID=America/Los_Angeles:20251205T180000
DTEND;TZID=America/Los_Angeles:20251205T210000
DTSTAMP:20260424T174622
CREATED:20251202T002654Z
LAST-MODIFIED:20251208T223824Z
UID:5879-1764957600-1764968400@figtreecoffee.com
SUMMARY:The Footsies Jazz Combo
DESCRIPTION:Set the tone for your Friday night with The Footsies Jazz Combo performing from 6–9 pm. Smooth jazz\, cozy drinks\, and an inviting atmosphere make this the perfect spot to unwind\, gather with friends\, or ease into your weekend plans.
URL:https://figtreecoffee.com/event/the-footsies-jazz-combo/
LOCATION:The Fig Tree\, 217 Vernon Street\, Roseville\, CA\, 95678\, United States
CATEGORIES:Live Music
ATTACH;FMTTYPE=image/jpeg:https://figtreecoffee.com/wp-content/uploads/2025/12/Live-Music.jpg
END:VEVENT
BEGIN:VEVENT
DTSTART;TZID=America/Los_Angeles:20251210T180000
DTEND;TZID=America/Los_Angeles:20251210T203000
DTSTAMP:20260424T174622
CREATED:20251208T224335Z
LAST-MODIFIED:20251209T071106Z
UID:5965-1765389600-1765398600@figtreecoffee.com
SUMMARY:Jazz Jam Session Celebrates 1 Year
DESCRIPTION:Join us from 6-9 pm as we celebrate one year of incredible music with a lively anniversary Jazz Jam. Expect an inviting atmosphere\, talented local musicians\, and the perfect midweek reset with great drinks\, friends\, and plenty of feel-good energy.
URL:https://figtreecoffee.com/event/jazz-jam-session-celebrates-1-year/
LOCATION:The Fig Tree\, 217 Vernon Street\, Roseville\, CA\, 95678\, United States
CATEGORIES:Live Music
ATTACH;FMTTYPE=image/png:https://figtreecoffee.com/wp-content/uploads/2025/11/Jazz-Jam-Session-Free-Admission.png
END:VEVENT
BEGIN:VEVENT
DTSTART;TZID=America/Los_Angeles:20251211T180000
DTEND;TZID=America/Los_Angeles:20251211T210000
DTSTAMP:20260424T174622
CREATED:20251208T224947Z
LAST-MODIFIED:20251211T153217Z
UID:5968-1765476000-1765486800@figtreecoffee.com
SUMMARY:Zachary Piazzisi; Tae Sierra; Brenna Weeks
DESCRIPTION:Settle into Thursday evening with a great mix of local talent. Zachary Piazzisi opens the night from 6–7 pm\, followed by Tae Sierra’s warm\, soulful set from 7–8 pm. Brenna Weeks closes things out from 8–9 pm with inviting vibes that pair perfectly with a cozy drink. A relaxed\, welcoming night to unwind\, study\, or catch up with friends.
URL:https://figtreecoffee.com/event/zachary-piazzisi-tae-sierra-brenna-weeks/
LOCATION:The Fig Tree\, 217 Vernon Street\, Roseville\, CA\, 95678\, United States
CATEGORIES:Live Music
ATTACH;FMTTYPE=image/png:https://figtreecoffee.com/wp-content/uploads/2025/12/Live-Music_20251208_144617_0000.png
END:VEVENT
BEGIN:VEVENT
DTSTART;TZID=America/Los_Angeles:20251212T180000
DTEND;TZID=America/Los_Angeles:20251212T210000
DTSTAMP:20260424T174622
CREATED:20251209T071537Z
LAST-MODIFIED:20251209T071537Z
UID:5972-1765562400-1765573200@figtreecoffee.com
SUMMARY:Alex McClintock Quartet
DESCRIPTION:Ease into Friday night with the Alex McClintock Quartet from 6–9 pm. Their smooth\, dynamic jazz sets the tone for a perfect evening\, whether you’re meeting friends\, enjoying a date night\, or flying solo. Grab a seasonal drink\, relax\, and let the music carry you into the weekend.
URL:https://figtreecoffee.com/event/alex-mcclintock-quartet/
LOCATION:The Fig Tree\, 217 Vernon Street\, Roseville\, CA\, 95678\, United States
CATEGORIES:Live Music
ATTACH;FMTTYPE=image/png:https://figtreecoffee.com/wp-content/uploads/2025/12/Live-Music.png
END:VEVENT
BEGIN:VEVENT
DTSTART;TZID=America/Los_Angeles:20251218T180000
DTEND;TZID=America/Los_Angeles:20251218T210000
DTSTAMP:20260424T174622
CREATED:20251217T063052Z
LAST-MODIFIED:20251217T063137Z
UID:6027-1766080800-1766091600@figtreecoffee.com
SUMMARY:Spotlight Sessions Young Artist Showcase
DESCRIPTION:Join us on Wednesday from 6–9 pm for our Spotlight Sessions Young Artist Showcase. It’s a night dedicated to celebrating rising local talent. Enjoy fresh performances\, bakery treats\, and cozy midweek vibes as you relax\, connect\, and support the next generation of musicians.
URL:https://figtreecoffee.com/event/spotlight-sessions-young-artist-showcase-4/
LOCATION:The Fig Tree\, 217 Vernon Street\, Roseville\, CA\, 95678\, United States
CATEGORIES:Live Music
ATTACH;FMTTYPE=image/png:https://figtreecoffee.com/wp-content/uploads/2025/12/Young-Artist-Showcase.png
END:VEVENT
BEGIN:VEVENT
DTSTART;TZID=America/Los_Angeles:20251219T180000
DTEND;TZID=America/Los_Angeles:20251219T210000
DTSTAMP:20260424T174622
CREATED:20251217T063936Z
LAST-MODIFIED:20251217T063957Z
UID:6032-1766167200-1766178000@figtreecoffee.com
SUMMARY:Avery Henry; Anthony Boccaleoni; Jazmine Monterrosa
DESCRIPTION:Start the weekend right with a full Friday night of live music and good vibes. Avery Henry kicks things off from 6–7 pm\, followed by Anthony Boccaleoni from 7–8 pm\, with Jazmine Monterrosa closing the night from 8–9 pm. Grab a seasonal drink\, settle in with friends\, or enjoy a relaxed date night while supporting local artists in a warm\, welcoming space.
URL:https://figtreecoffee.com/event/avery-henry-anthony-boccaleoni-jazmine-monterrosa/
LOCATION:The Fig Tree\, 217 Vernon Street\, Roseville\, CA\, 95678\, United States
CATEGORIES:Live Music
ATTACH;FMTTYPE=image/png:https://figtreecoffee.com/wp-content/uploads/2025/12/Avery-Henry-Anthony-Boccaleoni-Jazmine-Monterrosa.png
END:VEVENT
BEGIN:VEVENT
DTSTART;TZID=America/Los_Angeles:20251226T180000
DTEND;TZID=America/Los_Angeles:20251226T210000
DTSTAMP:20260424T174622
CREATED:20251223T051904Z
LAST-MODIFIED:20251226T203301Z
UID:5967-1766772000-1766782800@figtreecoffee.com
SUMMARY:Laila Baum; Aiko Shimada Jazz Combo
DESCRIPTION:Ease into your Friday night with live music and cozy café vibes. Laila Baum sets the tone from 6–7 pm\, followed by the smooth sounds of the Aiko Shimada Jazz Combo from 7–9 pm. Sip on seasonal drinks\, enjoy a sweet pastry\, and kick off the weekend with friends\, a date\, or a relaxed solo night out.
URL:https://figtreecoffee.com/event/laila-baum-aiko-shimada-jazz-combo/
LOCATION:The Fig Tree\, 217 Vernon Street\, Roseville\, CA\, 95678\, United States
CATEGORIES:Live Music
ATTACH;FMTTYPE=image/png:https://figtreecoffee.com/wp-content/uploads/2025/12/Laila-Baum.png
END:VEVENT
END:VCALENDAR