BEGIN:VCALENDAR
VERSION:2.0
PRODID:-//The Fig Tree - ECPv6.15.20//NONSGML v1.0//EN
CALSCALE:GREGORIAN
METHOD:PUBLISH
X-WR-CALNAME:The Fig Tree
X-ORIGINAL-URL:https://figtreecoffee.com
X-WR-CALDESC:Events for The Fig Tree
REFRESH-INTERVAL;VALUE=DURATION:PT1H
X-Robots-Tag:noindex
X-PUBLISHED-TTL:PT1H
BEGIN:VTIMEZONE
TZID:America/Los_Angeles
BEGIN:DAYLIGHT
TZOFFSETFROM:-0800
TZOFFSETTO:-0700
TZNAME:PDT
DTSTART:20230312T100000
END:DAYLIGHT
BEGIN:STANDARD
TZOFFSETFROM:-0700
TZOFFSETTO:-0800
TZNAME:PST
DTSTART:20231105T090000
END:STANDARD
BEGIN:DAYLIGHT
TZOFFSETFROM:-0800
TZOFFSETTO:-0700
TZNAME:PDT
DTSTART:20240310T100000
END:DAYLIGHT
BEGIN:STANDARD
TZOFFSETFROM:-0700
TZOFFSETTO:-0800
TZNAME:PST
DTSTART:20241103T090000
END:STANDARD
BEGIN:DAYLIGHT
TZOFFSETFROM:-0800
TZOFFSETTO:-0700
TZNAME:PDT
DTSTART:20250309T100000
END:DAYLIGHT
BEGIN:STANDARD
TZOFFSETFROM:-0700
TZOFFSETTO:-0800
TZNAME:PST
DTSTART:20251102T090000
END:STANDARD
BEGIN:DAYLIGHT
TZOFFSETFROM:-0800
TZOFFSETTO:-0700
TZNAME:PDT
DTSTART:20260308T100000
END:DAYLIGHT
BEGIN:STANDARD
TZOFFSETFROM:-0700
TZOFFSETTO:-0800
TZNAME:PST
DTSTART:20261101T090000
END:STANDARD
END:VTIMEZONE
BEGIN:VEVENT
DTSTART;TZID=America/Los_Angeles:20241115T180000
DTEND;TZID=America/Los_Angeles:20241115T210000
DTSTAMP:20260425T183220
CREATED:20241112T014612Z
LAST-MODIFIED:20241112T014612Z
UID:3978-1731693600-1731704400@figtreecoffee.com
SUMMARY:Charivari Jazz Quartet
DESCRIPTION:Immerse yourself in an evening of jazz excellence! Join us from 6-9 pm for the Charivari Jazz Quartet\, as they serenade you with soulful melodies and captivating rhythms. It’s a night filled with musical magic that jazz enthusiasts won’t want to miss.
URL:https://figtreecoffee.com/event/charivari-jazz-quartet-4/
LOCATION:The Fig Tree\, 217 Vernon Street\, Roseville\, CA\, 95678\, United States
CATEGORIES:Live Music
ATTACH;FMTTYPE=image/jpeg:https://figtreecoffee.com/wp-content/uploads/2024/04/Live-Music.jpg
END:VEVENT
BEGIN:VEVENT
DTSTART;TZID=America/Los_Angeles:20241120T180000
DTEND;TZID=America/Los_Angeles:20241120T210000
DTSTAMP:20260425T183220
CREATED:20241120T211138Z
LAST-MODIFIED:20241120T211153Z
UID:4007-1732125600-1732136400@figtreecoffee.com
SUMMARY:Cancelled
DESCRIPTION:Tonight’s event has been cancelled. We apologize for the inconvenience and appreciate your understanding. Stay tuned for updates on future events!
URL:https://figtreecoffee.com/event/cancelled/
LOCATION:The Fig Tree\, 217 Vernon Street\, Roseville\, CA\, 95678\, United States
CATEGORIES:Live Music
ATTACH;FMTTYPE=image/png:https://figtreecoffee.com/wp-content/uploads/2024/11/Copy-of-Live-Music_20241120_130936_0000.png
END:VEVENT
BEGIN:VEVENT
DTSTART;TZID=America/Los_Angeles:20241121T180000
DTEND;TZID=America/Los_Angeles:20241121T210000
DTSTAMP:20260425T183220
CREATED:20241118T230013Z
LAST-MODIFIED:20241118T230013Z
UID:3773-1732212000-1732222800@figtreecoffee.com
SUMMARY:One Giant Fish; Sara Star
DESCRIPTION:Dive into a night of unforgettable live music! Start with the unique sounds of One Giant Fish from 6-7 PM to set the tone. Then\, let Sara Star take you on a captivating journey from 7-9 PM with her soulful melodies. Perfect for warming up your evening with incredible tunes and good vibes!
URL:https://figtreecoffee.com/event/one-giant-fish-sara-star/
LOCATION:The Fig Tree\, 217 Vernon Street\, Roseville\, CA\, 95678\, United States
CATEGORIES:Live Music
ATTACH;FMTTYPE=image/png:https://figtreecoffee.com/wp-content/uploads/2024/02/Live-Music_20240203_220203_0000.png
END:VEVENT
BEGIN:VEVENT
DTSTART;TZID=America/Los_Angeles:20241122T180000
DTEND;TZID=America/Los_Angeles:20241122T210000
DTSTAMP:20260425T183220
CREATED:20241118T230451Z
LAST-MODIFIED:20241122T225204Z
UID:4003-1732298400-1732309200@figtreecoffee.com
SUMMARY:John Freeman; Jeff & Eric Jazz Duo; Brendan Speights
DESCRIPTION:Get ready for a night of diverse musical talent! Start with John Freeman from 6-7 PM\, setting the mood with his signature sound. Then\, enjoy the smooth and sophisticated rhythms of the Jeff & Eric Jazz Duo from 7-8 PM. Wrap up the evening with the soulful performance of Brendan Speights from 8-9 PM. It’s the perfect way to spend your night immersed in incredible live music!
URL:https://figtreecoffee.com/event/john-freeman-jeff-brendan-speights/
LOCATION:The Fig Tree\, 217 Vernon Street\, Roseville\, CA\, 95678\, United States
CATEGORIES:Live Music
ATTACH;FMTTYPE=image/png:https://figtreecoffee.com/wp-content/uploads/2024/11/Live-Music-Purple-Nov-2024.png
END:VEVENT
BEGIN:VEVENT
DTSTART;TZID=America/Los_Angeles:20241127T180000
DTEND;TZID=America/Los_Angeles:20241127T210000
DTSTAMP:20260425T183220
CREATED:20241125T185823Z
LAST-MODIFIED:20241125T185823Z
UID:4015-1732730400-1732741200@figtreecoffee.com
SUMMARY:Anthony Boccaleoni; Dominic Prosio
DESCRIPTION:Join us for a wonderful night of live music! Start with the captivating sounds of Anthony Boccaleoni from 6-7 PM\, then stay for an extended performance by Dominic Prosio from 7-9 PM. It’s the perfect way to relax and enjoy a great evening of talent and tunes! \n 
URL:https://figtreecoffee.com/event/anthony-boccaleoni-dominic-prosio/
LOCATION:The Fig Tree\, 217 Vernon Street\, Roseville\, CA\, 95678\, United States
CATEGORIES:Live Music
ATTACH;FMTTYPE=image/png:https://figtreecoffee.com/wp-content/uploads/2024/11/Live-Music-Purple-Nov-2024.png
END:VEVENT
BEGIN:VEVENT
DTSTART;TZID=America/Los_Angeles:20241129T180000
DTEND;TZID=America/Los_Angeles:20241129T210000
DTSTAMP:20260425T183220
CREATED:20241125T190216Z
LAST-MODIFIED:20241126T231357Z
UID:4017-1732903200-1732914000@figtreecoffee.com
SUMMARY:Christopher Maricle; Alli and Donny; Madison Lazark
DESCRIPTION:Join us for an unforgettable evening of live music! Christopher Maricle kicks things off from 6-7 PM with his captivating tunes\, followed by the soulful harmonies of Alli and Donny from 7-8 PM. Finally\, let Madison Lazark close the night with her enchanting melodies from 8-9 PM. It’s a perfect lineup for a relaxing and inspiring night! \n 
URL:https://figtreecoffee.com/event/erika-paul-duo-madison-lazark/
LOCATION:The Fig Tree\, 217 Vernon Street\, Roseville\, CA\, 95678\, United States
CATEGORIES:Live Music
ATTACH;FMTTYPE=image/png:https://figtreecoffee.com/wp-content/uploads/2024/11/Copy-of-Live-Music_20241126_151157_0000.png
END:VEVENT
BEGIN:VEVENT
DTSTART;TZID=America/Los_Angeles:20241204T180000
DTEND;TZID=America/Los_Angeles:20241204T210000
DTSTAMP:20260425T183220
CREATED:20241202T185910Z
LAST-MODIFIED:20241202T185910Z
UID:4028-1733335200-1733346000@figtreecoffee.com
SUMMARY:Vinnie G; Rachel Mullen
DESCRIPTION:Spend your evening with the perfect blend of live music! Start with Vinnie G from 6-7 PM\, setting the stage with his smooth tunes. Then\, let Rachel Mullen take you on a soulful journey from 7-9 PM. It’s a night of captivating performances you won’t want to miss!
URL:https://figtreecoffee.com/event/vinnie-g-rachel-mullen/
LOCATION:The Fig Tree\, 217 Vernon Street\, Roseville\, CA\, 95678\, United States
CATEGORIES:Live Music
ATTACH;FMTTYPE=image/png:https://figtreecoffee.com/wp-content/uploads/2024/12/Rachel-Mullen.png
END:VEVENT
BEGIN:VEVENT
DTSTART;TZID=America/Los_Angeles:20241205T180000
DTEND;TZID=America/Los_Angeles:20241205T210000
DTSTAMP:20260425T183220
CREATED:20241202T191000Z
LAST-MODIFIED:20241202T191000Z
UID:4031-1733421600-1733432400@figtreecoffee.com
SUMMARY:Scott Brothers Christmas Show; Myxoldians
DESCRIPTION:Get into the holiday spirit with an evening of festive live music! Start with the Scott Brothers Christmas Show from 6-7 PM\, bringing all your favorite holiday tunes. Then\, from 7-9 PM\, enjoy the dynamic and captivating sounds of the Myxoldians. It’s the perfect way to celebrate the season with great music and good vibes!
URL:https://figtreecoffee.com/event/scott-brothers-christmas-show-myxoldians/
LOCATION:The Fig Tree\, 217 Vernon Street\, Roseville\, CA\, 95678\, United States
CATEGORIES:Live Music
ATTACH;FMTTYPE=image/png:https://figtreecoffee.com/wp-content/uploads/2024/12/Scott-Brothers-Christmas-Show-Myxoldians.png
END:VEVENT
BEGIN:VEVENT
DTSTART;TZID=America/Los_Angeles:20241206T180000
DTEND;TZID=America/Los_Angeles:20241206T210000
DTSTAMP:20260425T183220
CREATED:20241202T191122Z
LAST-MODIFIED:20241202T191122Z
UID:4034-1733508000-1733518800@figtreecoffee.com
SUMMARY:Sam Caylor; Adam Schild
DESCRIPTION:Start your evening with the smooth sounds of Sam Caylor from 6-7 PM. Then\, settle in for a longer set as Adam Schild takes the stage from 7-9 PM. It’s a night of pure musical vibes—come relax and let the music carry you away!
URL:https://figtreecoffee.com/event/sam-caylor-adam-schild/
LOCATION:The Fig Tree\, 217 Vernon Street\, Roseville\, CA\, 95678\, United States
CATEGORIES:Live Music
ATTACH;FMTTYPE=image/png:https://figtreecoffee.com/wp-content/uploads/2024/10/Live-Music.png
END:VEVENT
BEGIN:VEVENT
DTSTART;TZID=America/Los_Angeles:20241211T180000
DTEND;TZID=America/Los_Angeles:20241211T210000
DTSTAMP:20260425T183220
CREATED:20241210T021151Z
LAST-MODIFIED:20241210T021151Z
UID:4039-1733940000-1733950800@figtreecoffee.com
SUMMARY:Jazz Jam Session
DESCRIPTION:Immerse yourself in the smooth\, soulful sounds of jazz at tonight’s Jazz Jam Session. Whether you’re a musician looking to join the groove or a listener soaking in the melodies\, it’s the perfect night for jazz lovers to connect and enjoy the art of improvisation. Grab your favorite coffee or tea and let the music take you away! \n 
URL:https://figtreecoffee.com/event/jazz-jam-session/
LOCATION:The Fig Tree\, 217 Vernon Street\, Roseville\, CA\, 95678\, United States
CATEGORIES:Live Music
ATTACH;FMTTYPE=image/png:https://figtreecoffee.com/wp-content/uploads/2024/11/Live-Music-Purple-Nov-2024.png
END:VEVENT
BEGIN:VEVENT
DTSTART;TZID=America/Los_Angeles:20241212T180000
DTEND;TZID=America/Los_Angeles:20241212T210000
DTSTAMP:20260425T183220
CREATED:20241210T021427Z
LAST-MODIFIED:20241210T021427Z
UID:4041-1734026400-1734037200@figtreecoffee.com
SUMMARY:Avenue Blue; Brendan Speights; One Giant Fish
DESCRIPTION:Join us for an incredible evening of live music! Start with the soulful sounds of Avenue Blue from 6–7\, followed by the captivating performance of Brendan Speights from 7–8. End your night on a high note with the dynamic energy of One Giant Fish from 8–9. Pair the music with your favorite brew and make it a night to remember! \n 
URL:https://figtreecoffee.com/event/avenue-blue-brendan-speights-one-giant-fish/
LOCATION:The Fig Tree\, 217 Vernon Street\, Roseville\, CA\, 95678\, United States
CATEGORIES:Live Music
ATTACH;FMTTYPE=image/png:https://figtreecoffee.com/wp-content/uploads/2024/02/Live-Music_20240203_220203_0000.png
END:VEVENT
BEGIN:VEVENT
DTSTART;TZID=America/Los_Angeles:20241213T180000
DTEND;TZID=America/Los_Angeles:20241213T210000
DTSTAMP:20260425T183220
CREATED:20241210T021608Z
LAST-MODIFIED:20241210T021608Z
UID:4043-1734112800-1734123600@figtreecoffee.com
SUMMARY:Charivari Jazz Quartet
DESCRIPTION:Immerse yourself in an evening of jazz excellence! Join us from 6-9 pm for the Charivari Jazz Quartet\, as they serenade you with soulful melodies and captivating rhythms. It’s a night filled with musical magic that jazz enthusiasts won’t want to miss.
URL:https://figtreecoffee.com/event/charivari-jazz-quartet-5/
LOCATION:The Fig Tree\, 217 Vernon Street\, Roseville\, CA\, 95678\, United States
CATEGORIES:Live Music
ATTACH;FMTTYPE=image/jpeg:https://figtreecoffee.com/wp-content/uploads/2024/04/Live-Music.jpg
END:VEVENT
BEGIN:VEVENT
DTSTART;TZID=America/Los_Angeles:20241218T180000
DTEND;TZID=America/Los_Angeles:20241218T203000
DTSTAMP:20260425T183220
CREATED:20241118T225652Z
LAST-MODIFIED:20241216T180110Z
UID:4000-1734544800-1734553800@figtreecoffee.com
SUMMARY:Celtic Session
DESCRIPTION:Get ready for a lively Celtic Session from 6-8:30 PM! Bring your own instrument and jump into the jam\, or simply enjoy the traditional tunes and good company. Let the music bring a bit of Celtic charm to your evening!
URL:https://figtreecoffee.com/event/celtic-session-2/
LOCATION:The Fig Tree\, 217 Vernon Street\, Roseville\, CA\, 95678\, United States
CATEGORIES:Live Music
ATTACH;FMTTYPE=image/png:https://figtreecoffee.com/wp-content/uploads/2023/11/Live-Music-Fall-Brown.png
END:VEVENT
BEGIN:VEVENT
DTSTART;TZID=America/Los_Angeles:20241219T180000
DTEND;TZID=America/Los_Angeles:20241219T210000
DTSTAMP:20260425T183220
CREATED:20241216T180304Z
LAST-MODIFIED:20241216T180304Z
UID:4056-1734631200-1734642000@figtreecoffee.com
SUMMARY:Denim Nuns CD Release Party
DESCRIPTION:Join us for a special evening celebrating The Denim Nuns’ CD Release Party from 6-9 PM! Be among the first to hear their latest tracks performed live and experience their unique sound in an intimate setting. Don’t miss this exciting event—come for the music\, stay for the memories! \n 
URL:https://figtreecoffee.com/event/denim-nuns-cd-release-party/
LOCATION:The Fig Tree\, 217 Vernon Street\, Roseville\, CA\, 95678\, United States
CATEGORIES:Live Music
ATTACH;FMTTYPE=image/png:https://figtreecoffee.com/wp-content/uploads/2024/06/Live-Music_20240610_161708_0000.png
END:VEVENT
BEGIN:VEVENT
DTSTART;TZID=America/Los_Angeles:20241220T180000
DTEND;TZID=America/Los_Angeles:20241220T210000
DTSTAMP:20260425T183220
CREATED:20241216T180438Z
LAST-MODIFIED:20241216T180438Z
UID:4058-1734717600-1734728400@figtreecoffee.com
SUMMARY:Erika Paul Duo; Dominic Prosio
DESCRIPTION:Spend your evening immersed in live music! Start with the elegant stylings of the Erika Paul Duo from 6-7 PM\, followed by the captivating sounds of Dominic Prosio from 7-9 PM. It’s the perfect way to relax and unwind! \n 
URL:https://figtreecoffee.com/event/erika-paul-duo-dominic-prosio/
LOCATION:The Fig Tree\, 217 Vernon Street\, Roseville\, CA\, 95678\, United States
CATEGORIES:Live Music
ATTACH;FMTTYPE=image/jpeg:https://figtreecoffee.com/wp-content/uploads/2024/04/Live-Music.jpg
END:VEVENT
BEGIN:VEVENT
DTSTART;TZID=America/Los_Angeles:20241226T180000
DTEND;TZID=America/Los_Angeles:20241226T210000
DTSTAMP:20260425T183220
CREATED:20241226T225252Z
LAST-MODIFIED:20241226T225252Z
UID:4066-1735236000-1735246800@figtreecoffee.com
SUMMARY:Tim Williamson & John R Williamson
DESCRIPTION:Spend your evening immersed in live music\, good company\, and great coffee! Enjoy the elegant stylings of Tim Williamson & John R Williamson from 6-9 PM. It’s the perfect way to relax and unwind\, right before the weekend. \n 
URL:https://figtreecoffee.com/event/tim-williamson-john-r-williamson/
LOCATION:The Fig Tree\, 217 Vernon Street\, Roseville\, CA\, 95678\, United States
CATEGORIES:Live Music
ATTACH;FMTTYPE=image/png:https://figtreecoffee.com/wp-content/uploads/2024/12/Live-Music_20241226_144941_0000.png
END:VEVENT
BEGIN:VEVENT
DTSTART;TZID=America/Los_Angeles:20241227T180000
DTEND;TZID=America/Los_Angeles:20241227T210000
DTSTAMP:20260425T183220
CREATED:20241226T225441Z
LAST-MODIFIED:20241226T225441Z
UID:4069-1735322400-1735333200@figtreecoffee.com
SUMMARY:Tae Sierra & Leslie W
DESCRIPTION:Settle in for a captivating evening as Tae Sierra and Leslie W take the stage from 6-9 PM. Their performances will flow seamlessly\, creating the perfect backdrop for an unforgettable night. Whether you’re savoring a rich coffee or indulging in a soothing tea\, this is the perfect setting to unwind and enjoy some extraordinary live music.
URL:https://figtreecoffee.com/event/tae-sierra-leslie-w/
LOCATION:The Fig Tree\, 217 Vernon Street\, Roseville\, CA\, 95678\, United States
CATEGORIES:Live Music
ATTACH;FMTTYPE=image/jpeg:https://figtreecoffee.com/wp-content/uploads/2024/04/Live-Music.jpg
END:VEVENT
BEGIN:VEVENT
DTSTART;TZID=America/Los_Angeles:20250102T180000
DTEND;TZID=America/Los_Angeles:20250102T210000
DTSTAMP:20260425T183220
CREATED:20241230T225957Z
LAST-MODIFIED:20241230T225957Z
UID:4077-1735840800-1735851600@figtreecoffee.com
SUMMARY:Brendan Speights; Zachary Piazzisi
DESCRIPTION:Brendan Speights kicks off the evening from 6 to 7\, bringing his signature sound to the stage. Then\, from 7 to 9\, Zachary Piazzisi captivates the room with a stunning piano performance. Grab a cozy seat\, enjoy your favorite brew\, and let the music warm your night!
URL:https://figtreecoffee.com/event/brendan-speights-zachary-piazzisi/
LOCATION:The Fig Tree\, 217 Vernon Street\, Roseville\, CA\, 95678\, United States
CATEGORIES:Live Music
ATTACH;FMTTYPE=image/png:https://figtreecoffee.com/wp-content/uploads/2024/12/Live-Music_20241230_145839_0000.png
END:VEVENT
BEGIN:VEVENT
DTSTART;TZID=America/Los_Angeles:20250103T180000
DTEND;TZID=America/Los_Angeles:20250103T210000
DTSTAMP:20260425T183220
CREATED:20241230T230513Z
LAST-MODIFIED:20241230T230720Z
UID:4080-1735927200-1735938000@figtreecoffee.com
SUMMARY:Madison Lazark; Anthony Boccaleoni; One Giant Fish
DESCRIPTION:Start your evening with Madison Lazark from 6 to 7\, showcasing her soulful melodies. Then\, enjoy the captivating tunes of Anthony Boccaleoni from 7 to 8. Finally\, let One Giant Fish take you on a musical journey from 8 to 9. Pair the performances with your favorite drink and make it a night to remember!
URL:https://figtreecoffee.com/event/madison-lazark-anthony-boccaleoni-one-giant-fish/
LOCATION:The Fig Tree\, 217 Vernon Street\, Roseville\, CA\, 95678\, United States
CATEGORIES:Live Music
ATTACH;FMTTYPE=image/png:https://figtreecoffee.com/wp-content/uploads/2024/12/Live-Music_20241230_150410_0000.png
END:VEVENT
BEGIN:VEVENT
DTSTART;TZID=America/Los_Angeles:20250108T180000
DTEND;TZID=America/Los_Angeles:20250108T210000
DTSTAMP:20260425T183220
CREATED:20250107T000005Z
LAST-MODIFIED:20250107T000005Z
UID:4087-1736359200-1736370000@figtreecoffee.com
SUMMARY:Celtic Session
DESCRIPTION:Get ready for a lively Celtic Session from 6-9 PM! Bring your own instrument and jump into the jam\, or simply enjoy the traditional tunes and good company. Let the music bring a bit of Celtic charm to your evening!
URL:https://figtreecoffee.com/event/celtic-session-3/
LOCATION:The Fig Tree\, 217 Vernon Street\, Roseville\, CA\, 95678\, United States
CATEGORIES:Live Music
ATTACH;FMTTYPE=image/png:https://figtreecoffee.com/wp-content/uploads/2023/11/Live-Music-Fall-Brown.png
END:VEVENT
BEGIN:VEVENT
DTSTART;TZID=America/Los_Angeles:20250109T180000
DTEND;TZID=America/Los_Angeles:20250109T210000
DTSTAMP:20260425T183220
CREATED:20250107T000718Z
LAST-MODIFIED:20250108T165649Z
UID:4093-1736445600-1736456400@figtreecoffee.com
SUMMARY:Leah Kai; Dirty Laundry
DESCRIPTION:Kick off the night with the smooth sounds of Leah Kai from 6 to 7. Then\, stick around as Dirty Laundry takes over from 7 to 9\, bringing their electrifying energy to the stage. Sip on your favorite beverage and let the music wash over you for an unforgettable evening!
URL:https://figtreecoffee.com/event/leah-kai-dirty-laundry/
LOCATION:The Fig Tree\, 217 Vernon Street\, Roseville\, CA\, 95678\, United States
CATEGORIES:Live Music
ATTACH;FMTTYPE=image/png:https://figtreecoffee.com/wp-content/uploads/2025/01/Live-Music_20250108_085601_0000.png
END:VEVENT
BEGIN:VEVENT
DTSTART;TZID=America/Los_Angeles:20250110T180000
DTEND;TZID=America/Los_Angeles:20250110T210000
DTSTAMP:20260425T183220
CREATED:20250107T000104Z
LAST-MODIFIED:20250107T000104Z
UID:4089-1736532000-1736542800@figtreecoffee.com
SUMMARY:Sam Caylor; Adam Schild
DESCRIPTION:Start your evening with the smooth sounds of Sam Caylor from 6-7 PM. Then\, settle in for a longer set as Adam Schild takes the stage from 7-9 PM. It’s a night of pure musical vibes—come relax and let the music carry you away!
URL:https://figtreecoffee.com/event/sam-caylor-adam-schild-2/
LOCATION:The Fig Tree\, 217 Vernon Street\, Roseville\, CA\, 95678\, United States
CATEGORIES:Live Music
ATTACH;FMTTYPE=image/png:https://figtreecoffee.com/wp-content/uploads/2024/10/Live-Music.png
END:VEVENT
BEGIN:VEVENT
DTSTART;TZID=America/Los_Angeles:20250115T180000
DTEND;TZID=America/Los_Angeles:20250115T210000
DTSTAMP:20260425T183220
CREATED:20250113T182104Z
LAST-MODIFIED:20250113T182104Z
UID:4101-1736964000-1736974800@figtreecoffee.com
SUMMARY:Jazz Jam Session
DESCRIPTION:Immerse yourself in the smooth\, soulful sounds of jazz at tonight’s Jazz Jam Session. Whether you’re a musician looking to join the groove or a listener soaking in the melodies\, it’s the perfect night for jazz lovers to connect and enjoy the art of improvisation. Grab your favorite coffee or tea and let the music take you away! \n 
URL:https://figtreecoffee.com/event/jazz-jam-session-2/
LOCATION:The Fig Tree\, 217 Vernon Street\, Roseville\, CA\, 95678\, United States
CATEGORIES:Live Music
ATTACH;FMTTYPE=image/png:https://figtreecoffee.com/wp-content/uploads/2024/11/Live-Music-Purple-Nov-2024.png
END:VEVENT
BEGIN:VEVENT
DTSTART;TZID=America/Los_Angeles:20250116T180000
DTEND;TZID=America/Los_Angeles:20250116T210000
DTSTAMP:20260425T183220
CREATED:20241112T014444Z
LAST-MODIFIED:20250113T182533Z
UID:3976-1737050400-1737061200@figtreecoffee.com
SUMMARY:Jessica Jenkins; Anthony V; Alec Ogston
DESCRIPTION:Start your evening with the captivating melodies of Jessica Jenkins from 6 to 7\, followed by the soulful tunes of Anthony V from 7 to 8. Wrap up the night with Alec Ogston from 8 to 9\, delivering an hour of musical magic. Sit back\, relax\, and let the music take you on a journey. \n 
URL:https://figtreecoffee.com/event/alec-ogston-liz-shine-ace/
LOCATION:The Fig Tree\, 217 Vernon Street\, Roseville\, CA\, 95678\, United States
CATEGORIES:Live Music
ATTACH;FMTTYPE=image/jpeg:https://figtreecoffee.com/wp-content/uploads/2024/06/Live-Music.jpg
END:VEVENT
BEGIN:VEVENT
DTSTART;TZID=America/Los_Angeles:20250117T180000
DTEND;TZID=America/Los_Angeles:20250117T210000
DTSTAMP:20260425T183220
CREATED:20250113T182718Z
LAST-MODIFIED:20250113T182718Z
UID:4105-1737136800-1737147600@figtreecoffee.com
SUMMARY:Mischief; Tae Sierra
DESCRIPTION:Begin your evening with Mischief from 6 to 8\, a duo ready to bring an electrifying performance to set the mood just right. Then\, Tae Sierra takes the stage from 8 to 9\, closing the night with her enchanting sound. It’s the perfect way to unwind with live music.
URL:https://figtreecoffee.com/event/mischief-tae-sierra/
LOCATION:The Fig Tree\, 217 Vernon Street\, Roseville\, CA\, 95678\, United States
CATEGORIES:Live Music
ATTACH;FMTTYPE=image/png:https://figtreecoffee.com/wp-content/uploads/2024/10/1000010517.png
END:VEVENT
BEGIN:VEVENT
DTSTART;TZID=America/Los_Angeles:20250123T180000
DTEND;TZID=America/Los_Angeles:20250123T210000
DTSTAMP:20260425T183220
CREATED:20250121T050629Z
LAST-MODIFIED:20250121T050629Z
UID:4112-1737655200-1737666000@figtreecoffee.com
SUMMARY:Vinnie Jewell; Lydia Shepherd; Tae & Leslie
DESCRIPTION:Start the night with Vinnie Jewell from 6 to 7\, followed by the soulful performance of Lydia Shepherd from 7 to 8. Wrap up your evening with the captivating duo Tae & Leslie from 8 to 9. A delightful blend of talent awaits you!
URL:https://figtreecoffee.com/event/vinnie-jewell-lydia-shepherd-tae-leslie/
LOCATION:The Fig Tree\, 217 Vernon Street\, Roseville\, CA\, 95678\, United States
CATEGORIES:Live Music
ATTACH;FMTTYPE=image/png:https://figtreecoffee.com/wp-content/uploads/2024/12/Live-Music_20241230_145839_0000.png
END:VEVENT
BEGIN:VEVENT
DTSTART;TZID=America/Los_Angeles:20250124T180000
DTEND;TZID=America/Los_Angeles:20250124T210000
DTSTAMP:20260425T183220
CREATED:20250121T052431Z
LAST-MODIFIED:20250121T052431Z
UID:4117-1737741600-1737752400@figtreecoffee.com
SUMMARY:Fig Tree's 8 Year Anniversary
DESCRIPTION:Fig Tree 8-Year Anniversary!\nJoin us in celebrating eight incredible years of Fig Tree! Enjoy Recycle Michael singing heartfelt Fig Tree songs from 6-7 PM\, followed by the enchanting sounds of Dominic Prosio from 7-9 PM. Let’s make this anniversary one to remember!
URL:https://figtreecoffee.com/event/fig-trees-8-year-anniversary/
LOCATION:The Fig Tree\, 217 Vernon Street\, Roseville\, CA\, 95678\, United States
CATEGORIES:Live Music
ATTACH;FMTTYPE=image/png:https://figtreecoffee.com/wp-content/uploads/2024/01/20240123_133139_0000.png
END:VEVENT
BEGIN:VEVENT
DTSTART;TZID=America/Los_Angeles:20250129T180000
DTEND;TZID=America/Los_Angeles:20250129T210000
DTSTAMP:20260425T183220
CREATED:20250127T182447Z
LAST-MODIFIED:20250127T210502Z
UID:4123-1738173600-1738184400@figtreecoffee.com
SUMMARY:New Richard; One Giant Fish & Larkin
DESCRIPTION:Settle in for an unforgettable evening! New Richard kicks things off from 6-7 PM with their unique sound. Then\, stick around as One Giant Fish & Larkin team up to deliver an incredible performance from 7-9 PM. Don’t miss it!
URL:https://figtreecoffee.com/event/new-richard-one-giant-fish-larkin/
LOCATION:The Fig Tree\, 217 Vernon Street\, Roseville\, CA\, 95678\, United States
CATEGORIES:Live Music
ATTACH;FMTTYPE=image/png:https://figtreecoffee.com/wp-content/uploads/2025/01/Live-Music_20250127_130344_0000.png
END:VEVENT
BEGIN:VEVENT
DTSTART;TZID=America/Los_Angeles:20250130T180000
DTEND;TZID=America/Los_Angeles:20250130T210000
DTSTAMP:20260425T183220
CREATED:20250127T182632Z
LAST-MODIFIED:20250127T182632Z
UID:4125-1738260000-1738270800@figtreecoffee.com
SUMMARY:Brody Roberts; Ali & Donnie
DESCRIPTION:Join us for an evening of captivating live music! Brody Roberts takes the stage from 6-7 PM\, setting the tone with his heartfelt performance. Then\, stick around for the dynamic duo Ali & Donnie\, performing together from 7-9 PM. It’s the perfect way to unwind!
URL:https://figtreecoffee.com/event/brody-roberts-ali-donnie/
LOCATION:The Fig Tree\, 217 Vernon Street\, Roseville\, CA\, 95678\, United States
CATEGORIES:Live Music
ATTACH;FMTTYPE=image/jpeg:https://figtreecoffee.com/wp-content/uploads/2024/06/Live-Music.jpg
END:VEVENT
BEGIN:VEVENT
DTSTART;TZID=America/Los_Angeles:20250131T180000
DTEND;TZID=America/Los_Angeles:20250131T210000
DTSTAMP:20260425T183220
CREATED:20250127T182829Z
LAST-MODIFIED:20250127T182929Z
UID:4127-1738346400-1738357200@figtreecoffee.com
SUMMARY:The Synchronicity Band; Annabelle Rodriguez
DESCRIPTION:Spend your evening with us and enjoy incredible live music! Annabelle Rodriguez kicks things off from 6-7 PM with her soulful performance. Then\, stick around for the energetic and vibrant sounds of The Synchronicity Band from 7-9 PM. A night of great tunes awaits! \n 
URL:https://figtreecoffee.com/event/the-synchronicity-band-annabelle-rodriguez/
LOCATION:The Fig Tree\, 217 Vernon Street\, Roseville\, CA\, 95678\, United States
CATEGORIES:Live Music
ATTACH;FMTTYPE=image/png:https://figtreecoffee.com/wp-content/uploads/2024/11/Live-Music-Purple-Nov-2024.png
END:VEVENT
END:VCALENDAR