BEGIN:VCALENDAR
VERSION:2.0
PRODID:-//The Fig Tree - ECPv6.15.20//NONSGML v1.0//EN
CALSCALE:GREGORIAN
METHOD:PUBLISH
X-WR-CALNAME:The Fig Tree
X-ORIGINAL-URL:https://figtreecoffee.com
X-WR-CALDESC:Events for The Fig Tree
REFRESH-INTERVAL;VALUE=DURATION:PT1H
X-Robots-Tag:noindex
X-PUBLISHED-TTL:PT1H
BEGIN:VTIMEZONE
TZID:America/Los_Angeles
BEGIN:DAYLIGHT
TZOFFSETFROM:-0800
TZOFFSETTO:-0700
TZNAME:PDT
DTSTART:20240310T100000
END:DAYLIGHT
BEGIN:STANDARD
TZOFFSETFROM:-0700
TZOFFSETTO:-0800
TZNAME:PST
DTSTART:20241103T090000
END:STANDARD
BEGIN:DAYLIGHT
TZOFFSETFROM:-0800
TZOFFSETTO:-0700
TZNAME:PDT
DTSTART:20250309T100000
END:DAYLIGHT
BEGIN:STANDARD
TZOFFSETFROM:-0700
TZOFFSETTO:-0800
TZNAME:PST
DTSTART:20251102T090000
END:STANDARD
BEGIN:DAYLIGHT
TZOFFSETFROM:-0800
TZOFFSETTO:-0700
TZNAME:PDT
DTSTART:20260308T100000
END:DAYLIGHT
BEGIN:STANDARD
TZOFFSETFROM:-0700
TZOFFSETTO:-0800
TZNAME:PST
DTSTART:20261101T090000
END:STANDARD
END:VTIMEZONE
BEGIN:VEVENT
DTSTART;TZID=America/Los_Angeles:20250813T180000
DTEND;TZID=America/Los_Angeles:20250813T210000
DTSTAMP:20260425T045827
CREATED:20250812T050644Z
LAST-MODIFIED:20250812T050644Z
UID:5025-1755108000-1755118800@figtreecoffee.com
SUMMARY:Jazz Jam Session
DESCRIPTION:Immerse yourself in the smooth\, soulful sounds of jazz at tonight’s Jazz Jam Session. Whether you’re a musician looking to join the groove or a listener soaking in the melodies\, it’s the perfect night for jazz lovers to connect and enjoy the art of improvisation. Grab your favorite coffee or tea and let the music take you away! \n 
URL:https://figtreecoffee.com/event/jazz-jam-session-8/
LOCATION:The Fig Tree\, 217 Vernon Street\, Roseville\, CA\, 95678\, United States
CATEGORIES:Live Music
ATTACH;FMTTYPE=image/png:https://figtreecoffee.com/wp-content/uploads/2025/03/Jazz-Jam-Session.png
END:VEVENT
BEGIN:VEVENT
DTSTART;TZID=America/Los_Angeles:20250814T180000
DTEND;TZID=America/Los_Angeles:20250814T210000
DTSTAMP:20260425T045827
CREATED:20250812T051025Z
LAST-MODIFIED:20250813T001941Z
UID:5027-1755194400-1755205200@figtreecoffee.com
SUMMARY:Brody Roberts; Paige Jordyn; Avery Henry
DESCRIPTION:Thursday is filled with soulful sounds and local talent! From 6 to 7 pm\, Brody Roberts kicks things off with heartfelt melodies. Paige Jordyn takes the stage from 7 to 8 pm\, captivating with her rich vocals and engaging presence. Then from 8 to 9 pm\, Avery Henry closes the evening with a smooth\, memorable set. A perfect night to unwind\, enjoy good company\, and soak in the music.
URL:https://figtreecoffee.com/event/brody-roberts-paige-jordyn-avery-henry/
LOCATION:The Fig Tree\, 217 Vernon Street\, Roseville\, CA\, 95678\, United States
CATEGORIES:Live Music
ATTACH;FMTTYPE=image/jpeg:https://figtreecoffee.com/wp-content/uploads/2025/08/Paige-Jordyn.jpg
END:VEVENT
BEGIN:VEVENT
DTSTART;TZID=America/Los_Angeles:20250815T180000
DTEND;TZID=America/Los_Angeles:20250815T210000
DTSTAMP:20260425T045827
CREATED:20250812T051922Z
LAST-MODIFIED:20250812T052021Z
UID:5030-1755280800-1755291600@figtreecoffee.com
SUMMARY:Vinnie Jewell; Ace G Music Showcase
DESCRIPTION:Friday brings an evening of groove and good vibes. From 6 to 7 pm\, Vinnie Jewell sets the tone with smooth\, captivating tunes. Then from 7 to 9 pm\, the Ace G Music Showcase takes over\, packed with energy\, talent\, and unforgettable performances. A perfect way to spend a summer night surrounded by music\, friends\, and a welcoming atmosphere.
URL:https://figtreecoffee.com/event/vinnie-jewell-ace-g-music-showcase/
LOCATION:The Fig Tree\, 217 Vernon Street\, Roseville\, CA\, 95678\, United States
CATEGORIES:Live Music
ATTACH;FMTTYPE=image/png:https://figtreecoffee.com/wp-content/uploads/2025/08/Live-Music.png
END:VEVENT
BEGIN:VEVENT
DTSTART;TZID=America/Los_Angeles:20250821T180000
DTEND;TZID=America/Los_Angeles:20250821T210000
DTSTAMP:20260425T045827
CREATED:20250812T201623Z
LAST-MODIFIED:20250812T201727Z
UID:5051-1755799200-1755810000@figtreecoffee.com
SUMMARY:Sam Caylor; Adam Schild; Prettier in Person
DESCRIPTION:Enjoy an evening of live music from Sam Caylor\, Adam Schild\, and Prettier in Person from 6-9 pm. Grab a drink\, relax with friends\, and soak in the warm\, inviting atmosphere while supporting local artists.
URL:https://figtreecoffee.com/event/thursday-sam-caylor-adam-schild-prettier-in-person/
LOCATION:The Fig Tree\, 217 Vernon Street\, Roseville\, CA\, 95678\, United States
CATEGORIES:Live Music
ATTACH;FMTTYPE=image/png:https://figtreecoffee.com/wp-content/uploads/2025/08/Live-Music-1.png
END:VEVENT
BEGIN:VEVENT
DTSTART;TZID=America/Los_Angeles:20250822T180000
DTEND;TZID=America/Los_Angeles:20250822T210000
DTSTAMP:20260425T045827
CREATED:20250812T202215Z
LAST-MODIFIED:20250812T202215Z
UID:5054-1755885600-1755896400@figtreecoffee.com
SUMMARY:Mischief; Gary & Susan Shamber
DESCRIPTION:Start your weekend with the lively energy of Mischief from 6–8 pm\, then ease into the evening with the soulful harmonies of Gary & Susan Shamber from 8–9 pm. Pair the music with one of our August seasonal drinks or a warm pastry\, and enjoy a cozy summer night\, whether it’s date night\, a family outing\, or just some solo time to unwind.
URL:https://figtreecoffee.com/event/mischief-gary-susan-shamber/
LOCATION:The Fig Tree\, 217 Vernon Street\, Roseville\, CA\, 95678\, United States
CATEGORIES:Live Music
ATTACH;FMTTYPE=image/jpeg:https://figtreecoffee.com/wp-content/uploads/2025/07/Mischief.jpg
END:VEVENT
BEGIN:VEVENT
DTSTART;TZID=America/Los_Angeles:20250903T183000
DTEND;TZID=America/Los_Angeles:20250903T203000
DTSTAMP:20260425T045827
CREATED:20250902T232031Z
LAST-MODIFIED:20250902T232031Z
UID:5064-1756924200-1756931400@figtreecoffee.com
SUMMARY:Celtic Session
DESCRIPTION:Get ready for a lively Celtic Session from 6:30-8:30 PM! Bring your own instrument and jump into the jam\, or simply enjoy the traditional tunes and good company. Let the music bring a bit of Celtic charm to your evening!
URL:https://figtreecoffee.com/event/celtic-session-11/
LOCATION:The Fig Tree\, 217 Vernon Street\, Roseville\, CA\, 95678\, United States
CATEGORIES:Live Music
ATTACH;FMTTYPE=image/png:https://figtreecoffee.com/wp-content/uploads/2025/03/Celtic-Session.png
END:VEVENT
BEGIN:VEVENT
DTSTART;TZID=America/Los_Angeles:20250904T180000
DTEND;TZID=America/Los_Angeles:20250904T210000
DTSTAMP:20260425T045827
CREATED:20250902T234231Z
LAST-MODIFIED:20250902T234231Z
UID:5056-1757008800-1757019600@figtreecoffee.com
SUMMARY:Jazmine Monterrosa; Tea Rose & Friends
DESCRIPTION:Ease into the evening with the smooth vocals of Jazmine Monterrosa from 6 to 7 pm\, then stick around for the soulful sounds of Tea Rose & Friends from 7 to 9 pm. Treat yourself to a pastry and one of our August specials\, the perfect midweek reset to share with friends or enjoy all to yourself.
URL:https://figtreecoffee.com/event/jazmine-monterrosa-tea-rose-friends/
LOCATION:The Fig Tree\, 217 Vernon Street\, Roseville\, CA\, 95678\, United States
CATEGORIES:Live Music
ATTACH;FMTTYPE=image/png:https://figtreecoffee.com/wp-content/uploads/2025/08/Live-Music-1.png
END:VEVENT
BEGIN:VEVENT
DTSTART;TZID=America/Los_Angeles:20250905T180000
DTEND;TZID=America/Los_Angeles:20250905T210000
DTSTAMP:20260425T045827
CREATED:20250902T235342Z
LAST-MODIFIED:20250902T235342Z
UID:5067-1757095200-1757106000@figtreecoffee.com
SUMMARY:The Suspenders Jazz Combo
DESCRIPTION:Kick off your weekend with the swinging sounds of The Suspenders Jazz Combo from 6 to 9 pm. Perfect for a date night or a fun evening with friends\, pair the music with a seasonal pastry and one of our August specials for a night that hits all the right notes.
URL:https://figtreecoffee.com/event/the-suspenders-jazz-combo-3/
LOCATION:The Fig Tree\, 217 Vernon Street\, Roseville\, CA\, 95678\, United States
CATEGORIES:Live Music
ATTACH;FMTTYPE=image/jpeg:https://figtreecoffee.com/wp-content/uploads/2025/04/Live-Music.jpg
END:VEVENT
BEGIN:VEVENT
DTSTART;TZID=America/Los_Angeles:20250910T180000
DTEND;TZID=America/Los_Angeles:20250910T210000
DTSTAMP:20260425T045827
CREATED:20250909T034759Z
LAST-MODIFIED:20250909T034759Z
UID:5071-1757527200-1757538000@figtreecoffee.com
SUMMARY:Jazz Jam Session
DESCRIPTION:Immerse yourself in the smooth\, soulful sounds of jazz at tonight’s Jazz Jam Session. Whether you’re a musician looking to join the groove or a listener soaking in the melodies\, it’s the perfect night for jazz lovers to connect and enjoy the art of improvisation. Grab your favorite coffee or tea and let the music take you away! \n 
URL:https://figtreecoffee.com/event/jazz-jam-session-9/
LOCATION:The Fig Tree\, 217 Vernon Street\, Roseville\, CA\, 95678\, United States
CATEGORIES:Live Music
ATTACH;FMTTYPE=image/png:https://figtreecoffee.com/wp-content/uploads/2025/03/Jazz-Jam-Session.png
END:VEVENT
BEGIN:VEVENT
DTSTART;TZID=America/Los_Angeles:20250911T180000
DTEND;TZID=America/Los_Angeles:20250911T210000
DTSTAMP:20260425T045827
CREATED:20250909T034912Z
LAST-MODIFIED:20250909T034912Z
UID:5073-1757613600-1757624400@figtreecoffee.com
SUMMARY:Tae Sierra & Leslie W
DESCRIPTION:Spend your evening with the incredible duo Tae Sierra & Leslie W\, performing live from 6-9 PM. Their captivating harmonies and soulful sound will set the perfect vibe for a night of great music and good company!
URL:https://figtreecoffee.com/event/tae-sierra-leslie-w-3/
LOCATION:The Fig Tree\, 217 Vernon Street\, Roseville\, CA\, 95678\, United States
CATEGORIES:Live Music
ATTACH;FMTTYPE=image/png:https://figtreecoffee.com/wp-content/uploads/2025/02/Live-Music.png
END:VEVENT
BEGIN:VEVENT
DTSTART;TZID=America/Los_Angeles:20250912T180000
DTEND;TZID=America/Los_Angeles:20250912T210000
DTSTAMP:20260425T045827
CREATED:20250909T035032Z
LAST-MODIFIED:20250909T035032Z
UID:5075-1757700000-1757710800@figtreecoffee.com
SUMMARY:Donrico DeCastro; Rainer Rose; Halo Halo Band
DESCRIPTION:Start your weekend with an evening of incredible local music! Donrico DeCastro takes the stage from 6 to 7 pm\, followed by the soulful sounds of Rainer Rose from 7 to 8 pm\, and closing out the night\, the lively Halo Halo Band from 8 to 9 pm. Grab a seasonal drink\, treat yourself to something sweet from our pastry case\, and make it the perfect Friday night out.
URL:https://figtreecoffee.com/event/donrico-decastro-rainer-rose-halo-halo-band/
LOCATION:The Fig Tree\, 217 Vernon Street\, Roseville\, CA\, 95678\, United States
CATEGORIES:Live Music
ATTACH;FMTTYPE=image/jpeg:https://figtreecoffee.com/wp-content/uploads/2024/02/Live-Music-Donrico.jpg
END:VEVENT
BEGIN:VEVENT
DTSTART;TZID=America/Los_Angeles:20250918T180000
DTEND;TZID=America/Los_Angeles:20250918T210000
DTSTAMP:20260425T045827
CREATED:20250916T141506Z
LAST-MODIFIED:20250916T141506Z
UID:5095-1758218400-1758229200@figtreecoffee.com
SUMMARY:Jonathan Schneider; Avery Henry; Marco Lemus Trio
DESCRIPTION:Kick back this Thursday evening with an incredible lineup of live music. Jonathan Schneider opens the night from 6 to 7 pm\, followed by Avery Henry from 7 to 8 pm. Closing out the evening\, the Marco Lemus Trio takes the stage from 8 to 9 pm. Pair the music with one of our bakery treats or seasonal drinks for the perfect midweek reset.
URL:https://figtreecoffee.com/event/jonathan-schneider-avery-henry-marco-lemus-trio/
LOCATION:The Fig Tree\, 217 Vernon Street\, Roseville\, CA\, 95678\, United States
CATEGORIES:Live Music
ATTACH;FMTTYPE=image/png:https://figtreecoffee.com/wp-content/uploads/2025/08/Live-Music-1.png
END:VEVENT
BEGIN:VEVENT
DTSTART;TZID=America/Los_Angeles:20250919T180000
DTEND;TZID=America/Los_Angeles:20250919T210000
DTSTAMP:20260425T045827
CREATED:20250916T141719Z
LAST-MODIFIED:20250916T141841Z
UID:5098-1758304800-1758315600@figtreecoffee.com
SUMMARY:Anthony Boccaleoni; Annabelle Rodriguez
DESCRIPTION:Enjoy a night of local talent and great vibes. Anthony Boccaleoni takes the stage from 6 to 7 pm\, followed by Annabelle Rodriguez from 7 to 9 pm. Bring a friend\, sip on a seasonal drink\, and relax into the welcoming atmosphere. \n 
URL:https://figtreecoffee.com/event/anthony-boccaleoni-annabelle-rodriguez/
LOCATION:The Fig Tree\, 217 Vernon Street\, Roseville\, CA\, 95678\, United States
CATEGORIES:Live Music
ATTACH;FMTTYPE=image/jpeg:https://figtreecoffee.com/wp-content/uploads/2025/07/Live-Music.jpg
END:VEVENT
BEGIN:VEVENT
DTSTART;TZID=America/Los_Angeles:20250924T180000
DTEND;TZID=America/Los_Angeles:20250924T210000
DTSTAMP:20260425T045827
CREATED:20250923T172552Z
LAST-MODIFIED:20250923T172552Z
UID:5105-1758736800-1758747600@figtreecoffee.com
SUMMARY:Brandon G; gardentender
DESCRIPTION:This Wednesday\, kick off the evening with Brandon G from 6 to 7 pm\, followed by gardentender on their national tour from 7 to 9 pm. A perfect midweek reset with live music\, friends\, and something tasty from our bakery case.
URL:https://figtreecoffee.com/event/brandon-g-gardentender/
LOCATION:The Fig Tree\, 217 Vernon Street\, Roseville\, CA\, 95678\, United States
CATEGORIES:Live Music
ATTACH;FMTTYPE=image/png:https://figtreecoffee.com/wp-content/uploads/2025/09/gardentender-Love-Tour-3-Instagram-The-Fig-Tree.png
END:VEVENT
BEGIN:VEVENT
DTSTART;TZID=America/Los_Angeles:20250925T180000
DTEND;TZID=America/Los_Angeles:20250925T210000
DTSTAMP:20260425T045827
CREATED:20250923T193253Z
LAST-MODIFIED:20250923T210650Z
UID:5111-1758823200-1758834000@figtreecoffee.com
SUMMARY:Sam Caylor; Adam Schild; Prettier in Person
DESCRIPTION:Join us for a special night of music from 6 to 9 pm featuring Sam Caylor and Adam Schild. Each artist will share a solo set\, followed by the two joining together as the duo Prettier in Person. A unique evening of talent and collaboration\, perfect for unwinding with friends\, sipping seasonal drinks\, and enjoying the welcoming atmosphere. \n 
URL:https://figtreecoffee.com/event/sam-caylor-adam-schild-prettier-in-person-3/
LOCATION:The Fig Tree\, 217 Vernon Street\, Roseville\, CA\, 95678\, United States
CATEGORIES:Live Music
ATTACH;FMTTYPE=image/jpeg:https://figtreecoffee.com/wp-content/uploads/2025/07/Live-Music.jpg
END:VEVENT
BEGIN:VEVENT
DTSTART;TZID=America/Los_Angeles:20250926T180000
DTEND;TZID=America/Los_Angeles:20250926T210000
DTSTAMP:20260425T045827
CREATED:20250923T172811Z
LAST-MODIFIED:20250923T172811Z
UID:5108-1758909600-1758920400@figtreecoffee.com
SUMMARY:Young Artist Showcase Hosted by Country Artist Kristen Brown
DESCRIPTION:Join us for a special Young Artist Showcase hosted by country artist Kristen Brown from 6 to 9 pm. Celebrate emerging local talent\, enjoy a welcoming atmosphere\, and sip on your favorite seasonal drinks while supporting the next generation of musicians. \n 
URL:https://figtreecoffee.com/event/young-artist-showcase-hosted-by-country-artist-kristen-brown/
LOCATION:The Fig Tree\, 217 Vernon Street\, Roseville\, CA\, 95678\, United States
CATEGORIES:Live Music
ATTACH;FMTTYPE=image/png:https://figtreecoffee.com/wp-content/uploads/2025/08/Live-Music-1.png
END:VEVENT
BEGIN:VEVENT
DTSTART;TZID=America/Los_Angeles:20251001T183000
DTEND;TZID=America/Los_Angeles:20251001T203000
DTSTAMP:20260425T045827
CREATED:20250930T031542Z
LAST-MODIFIED:20250930T031542Z
UID:5117-1759343400-1759350600@figtreecoffee.com
SUMMARY:Celtic Session
DESCRIPTION:Get ready for a lively Celtic Session from 6:30-8:30 PM! Bring your own instrument and jump into the jam\, or simply enjoy the traditional tunes and good company. Let the music bring a bit of Celtic charm to your evening!
URL:https://figtreecoffee.com/event/celtic-session-12/
LOCATION:The Fig Tree\, 217 Vernon Street\, Roseville\, CA\, 95678\, United States
CATEGORIES:Live Music
ATTACH;FMTTYPE=image/png:https://figtreecoffee.com/wp-content/uploads/2025/03/Celtic-Session.png
END:VEVENT
BEGIN:VEVENT
DTSTART;TZID=America/Los_Angeles:20251002T180000
DTEND;TZID=America/Los_Angeles:20251002T210000
DTSTAMP:20260425T045827
CREATED:20250930T031739Z
LAST-MODIFIED:20251001T234854Z
UID:5119-1759428000-1759438800@figtreecoffee.com
SUMMARY:Alec Ogston; Thanks for the Ride; The Rotary Band
DESCRIPTION:Enjoy a full evening of live music from 6 to 9 pm. The night kicks off with Alec Ogston at 6 pm\, followed by Thanks for the Ride at 7 pm\, featuring Ace and their band. Closing out the night at 8 pm is The Rotary Band. Bring friends\, grab a pastry or two\, and soak in the inviting atmosphere for a perfect Thursday night.
URL:https://figtreecoffee.com/event/thanks-for-the-ride-the-rotary-band/
LOCATION:The Fig Tree\, 217 Vernon Street\, Roseville\, CA\, 95678\, United States
CATEGORIES:Live Music
ATTACH;FMTTYPE=image/jpeg:https://figtreecoffee.com/wp-content/uploads/2025/09/Rotary.jpeg
END:VEVENT
BEGIN:VEVENT
DTSTART;TZID=America/Los_Angeles:20251003T180000
DTEND;TZID=America/Los_Angeles:20251003T204500
DTSTAMP:20260425T045827
CREATED:20250930T031951Z
LAST-MODIFIED:20250930T031951Z
UID:5122-1759514400-1759524300@figtreecoffee.com
SUMMARY:Olivia Lozano Jazz Combo; The Suspenders Duo
DESCRIPTION:Settle into Friday night with a smooth lineup of live jazz. The evening begins at 6 pm with the Olivia Lozano Jazz Combo playing until 7:15 pm\, followed by the Suspenders Duo from 7:30 to 8:45 pm. Pair the music with a seasonal drink or one of our fresh pastries and start your weekend on a high note.
URL:https://figtreecoffee.com/event/olivia-lozano-jazz-combo-the-suspenders-duo/
LOCATION:The Fig Tree\, 217 Vernon Street\, Roseville\, CA\, 95678\, United States
CATEGORIES:Live Music
ATTACH;FMTTYPE=image/jpeg:https://figtreecoffee.com/wp-content/uploads/2024/04/Live-Music.jpg
END:VEVENT
BEGIN:VEVENT
DTSTART;TZID=America/Los_Angeles:20251008T180000
DTEND;TZID=America/Los_Angeles:20251008T210000
DTSTAMP:20260425T045827
CREATED:20251008T191157Z
LAST-MODIFIED:20251008T191157Z
UID:5151-1759946400-1759957200@figtreecoffee.com
SUMMARY:Jazz Jam Session
DESCRIPTION:Immerse yourself in the smooth\, soulful sounds of jazz at tonight’s Jazz Jam Session. Whether you’re a musician looking to join the groove or a listener soaking in the melodies\, it’s the perfect night for jazz lovers to connect and enjoy the art of improvisation. Grab your favorite coffee or tea and let the music take you away! \n 
URL:https://figtreecoffee.com/event/jazz-jam-session-10/
LOCATION:The Fig Tree\, 217 Vernon Street\, Roseville\, CA\, 95678\, United States
CATEGORIES:Live Music
ATTACH;FMTTYPE=image/png:https://figtreecoffee.com/wp-content/uploads/2025/03/Jazz-Jam-Session.png
END:VEVENT
BEGIN:VEVENT
DTSTART;TZID=America/Los_Angeles:20251009T180000
DTEND;TZID=America/Los_Angeles:20251009T210000
DTSTAMP:20260425T045827
CREATED:20251008T191445Z
LAST-MODIFIED:20251008T191445Z
UID:5153-1760032800-1760043600@figtreecoffee.com
SUMMARY:Jazmine Monterrosa; Madison Lazark; Gabriel Star
DESCRIPTION:Enjoy an evening of soulful local performances! Jazmine Monterrosa kicks things off from 6–7 pm\, followed by Madison Lazark from 7–8 pm\, and Gabriel Star closing out the night from 8–9 pm. Stop by for live music\, a cozy atmosphere\, and your favorite drink or dessert. Perfect for a midweek reset.
URL:https://figtreecoffee.com/event/jazmine-monterrosa-madison-lazark-gabriel-star/
LOCATION:The Fig Tree\, 217 Vernon Street\, Roseville\, CA\, 95678\, United States
CATEGORIES:Live Music
ATTACH;FMTTYPE=image/jpeg:https://figtreecoffee.com/wp-content/uploads/2024/04/Live-Music.jpg
END:VEVENT
BEGIN:VEVENT
DTSTART;TZID=America/Los_Angeles:20251010T180000
DTEND;TZID=America/Los_Angeles:20251010T210000
DTSTAMP:20260425T045827
CREATED:20251008T191607Z
LAST-MODIFIED:20251008T191808Z
UID:5155-1760119200-1760130000@figtreecoffee.com
SUMMARY:Mischief; Vinnie Jewell
DESCRIPTION:Get ready for a night of fantastic live music with Mischief kicking things off from 6-8 PM. Stick around as Vinnie Jewell takes the stage from 8-9 PM to close out the evening with an unforgettable set. It’s the perfect way to enjoy some great tunes and unwind! \n 
URL:https://figtreecoffee.com/event/mischief-vinnie-jewell-2/
LOCATION:The Fig Tree\, 217 Vernon Street\, Roseville\, CA\, 95678\, United States
CATEGORIES:Live Music
ATTACH;FMTTYPE=image/jpeg:https://figtreecoffee.com/wp-content/uploads/2025/07/Mischief.jpg
END:VEVENT
BEGIN:VEVENT
DTSTART;TZID=America/Los_Angeles:20251016T180000
DTEND;TZID=America/Los_Angeles:20251016T204500
DTSTAMP:20260425T045827
CREATED:20251013T225727Z
LAST-MODIFIED:20251013T225758Z
UID:5202-1760637600-1760647500@figtreecoffee.com
SUMMARY:Mariah Douglas; The Ukulele Whisperer; Alec & Leanne
DESCRIPTION:Ease into Thursday night with an incredible lineup of local talent! Mariah Douglas kicks things off from 6 to 7 pm with a stunning Amy Winehouse tribute\, followed by The Ukulele Whisperer from 7 to 8 pm\, and Alec & Leanne wrapping up the night from 8 to 9 pm. Grab a cozy drink from our October specials\, relax with friends\, and enjoy the welcoming atmosphere.
URL:https://figtreecoffee.com/event/mariah-douglas-the-ukulele-whisperer-alec-leanne/
LOCATION:The Fig Tree\, 217 Vernon Street\, Roseville\, CA\, 95678\, United States
CATEGORIES:Live Music
ATTACH;FMTTYPE=image/png:https://figtreecoffee.com/wp-content/uploads/2025/10/Mariah-Douglas.png
END:VEVENT
BEGIN:VEVENT
DTSTART;TZID=America/Los_Angeles:20251017T180000
DTEND;TZID=America/Los_Angeles:20251017T210000
DTSTAMP:20260425T045827
CREATED:20251013T230242Z
LAST-MODIFIED:20251013T230717Z
UID:5205-1760724000-1760734800@figtreecoffee.com
SUMMARY:Aiden Smith Jazz Combo
DESCRIPTION:Ease into the weekend with the smooth sounds of the Aiden Smith Jazz Combo from 6 to 9 pm. Grab a friend\, sip on a fall favorite from our seasonal drink menu\, and unwind in our warm\, welcoming space. It’s the perfect way to start your Friday night.
URL:https://figtreecoffee.com/event/aiden-smith-jazz-combo/
LOCATION:The Fig Tree\, 217 Vernon Street\, Roseville\, CA\, 95678\, United States
CATEGORIES:Live Music
ATTACH;FMTTYPE=image/png:https://figtreecoffee.com/wp-content/uploads/2025/10/Live-Music.png
END:VEVENT
BEGIN:VEVENT
DTSTART;TZID=America/Los_Angeles:20251022T180000
DTEND;TZID=America/Los_Angeles:20251022T210000
DTSTAMP:20260425T045827
CREATED:20251020T184538Z
LAST-MODIFIED:20251020T184538Z
UID:5215-1761156000-1761166800@figtreecoffee.com
SUMMARY:Sam Caylor; Adam Schild; Prettier in Person
DESCRIPTION:Join us for a special night of music from 6 to 9 pm featuring Sam Caylor and Adam Schild. Each artist will share a solo set\, followed by the two joining together as the duo Prettier in Person. A unique evening of talent and collaboration\, perfect for unwinding with friends\, sipping seasonal drinks\, and enjoying the welcoming atmosphere. \n 
URL:https://figtreecoffee.com/event/sam-caylor-adam-schild-prettier-in-person-4/
LOCATION:The Fig Tree\, 217 Vernon Street\, Roseville\, CA\, 95678\, United States
CATEGORIES:Live Music
ATTACH;FMTTYPE=image/png:https://figtreecoffee.com/wp-content/uploads/2025/10/Live-Music_Oct.png
END:VEVENT
BEGIN:VEVENT
DTSTART;TZID=America/Los_Angeles:20251022T180000
DTEND;TZID=America/Los_Angeles:20251022T210000
DTSTAMP:20260425T045827
CREATED:20251027T210434Z
LAST-MODIFIED:20251027T210434Z
UID:5255-1761156000-1761166800@figtreecoffee.com
SUMMARY:Spotlight Sessions Young Artist Showcase
DESCRIPTION:Join us Wednesday from 6–9 pm for our Spotlight Sessions Young Artist Showcase—a night dedicated to celebrating rising local talent. Enjoy fresh performances\, bakery treats\, and cozy midweek vibes as you relax\, connect\, and support the next generation of musicians.
URL:https://figtreecoffee.com/event/spotlight-sessions-young-artist-showcase/
LOCATION:The Fig Tree\, 217 Vernon Street\, Roseville\, CA\, 95678\, United States
CATEGORIES:Live Music
ATTACH;FMTTYPE=image/png:https://figtreecoffee.com/wp-content/uploads/2025/10/Live-Music_Oct.png
END:VEVENT
BEGIN:VEVENT
DTSTART;TZID=America/Los_Angeles:20251024T180000
DTEND;TZID=America/Los_Angeles:20251024T210000
DTSTAMP:20260425T045827
CREATED:20251020T185340Z
LAST-MODIFIED:20251020T185340Z
UID:5222-1761328800-1761339600@figtreecoffee.com
SUMMARY:Alex Makeev Jazz Trio
DESCRIPTION:Ease into the weekend with the smooth sounds of the Alex Makeev Jazz Trio from 6–9 pm. Unwind with friends\, sip on one of our October drink specials\, and enjoy the inviting\, laid-back atmosphere that makes Fridays feel just right.
URL:https://figtreecoffee.com/event/alex-makeev-jazz-trio/
LOCATION:The Fig Tree\, 217 Vernon Street\, Roseville\, CA\, 95678\, United States
CATEGORIES:Live Music
ATTACH;FMTTYPE=image/png:https://figtreecoffee.com/wp-content/uploads/2025/10/Live-Music.png
END:VEVENT
BEGIN:VEVENT
DTSTART;TZID=America/Los_Angeles:20251029T180000
DTEND;TZID=America/Los_Angeles:20251029T210000
DTSTAMP:20260425T045827
CREATED:20251028T060605Z
LAST-MODIFIED:20251028T060636Z
UID:5257-1761760800-1761771600@figtreecoffee.com
SUMMARY:Spotlight Sessions Young Artist Showcase
DESCRIPTION:Join us Wednesday from 6–9 pm for our Spotlight Sessions Young Artist Showcase. It’s a night dedicated to celebrating rising local talent. Enjoy fresh performances\, bakery treats\, and cozy midweek vibes as you relax\, connect\, and support the next generation of musicians.
URL:https://figtreecoffee.com/event/spotlight-sessions-young-artist-showcase-2/
LOCATION:The Fig Tree\, 217 Vernon Street\, Roseville\, CA\, 95678\, United States
CATEGORIES:Live Music
ATTACH;FMTTYPE=image/png:https://figtreecoffee.com/wp-content/uploads/2025/10/Black-and-Beige-Vintage-Halloween-Party-Poster.png
END:VEVENT
BEGIN:VEVENT
DTSTART;TZID=America/Los_Angeles:20251030T180000
DTEND;TZID=America/Los_Angeles:20251030T210000
DTSTAMP:20260425T045827
CREATED:20251027T205953Z
LAST-MODIFIED:20251027T205953Z
UID:5248-1761847200-1761858000@figtreecoffee.com
SUMMARY:Tae & Leslie; Donrico DeCastro
DESCRIPTION:Start your Thursday evening with the soulful sounds of Tae & Leslie from 6–8 pm\, followed by the smooth stylings of Donrico DeCastro from 8–9 pm. Gather with friends\, enjoy our cozy atmosphere\, and treat yourself to one of our October drink specials for the perfect midweek reset.
URL:https://figtreecoffee.com/event/tae-donrico-decastro/
LOCATION:The Fig Tree\, 217 Vernon Street\, Roseville\, CA\, 95678\, United States
CATEGORIES:Live Music
ATTACH;FMTTYPE=image/png:https://figtreecoffee.com/wp-content/uploads/2025/10/Live-Music-2.png
END:VEVENT
BEGIN:VEVENT
DTSTART;TZID=America/Los_Angeles:20251031T180000
DTEND;TZID=America/Los_Angeles:20251031T210000
DTSTAMP:20260425T045827
CREATED:20251027T210142Z
LAST-MODIFIED:20251027T210142Z
UID:5251-1761933600-1761944400@figtreecoffee.com
SUMMARY:Alex McClintock Jazz Quintet
DESCRIPTION:Ease into the weekend with the smooth\, soulful sounds of the Alex McClintock Jazz Quintet from 6–9 pm. Sip on an October drink special\, unwind with friends\, and soak in the warm\, inviting atmosphere. Your Friday night just found its rhythm. Happy Halloween!
URL:https://figtreecoffee.com/event/alex-mcclintock-jazz-quintet/
LOCATION:The Fig Tree\, 217 Vernon Street\, Roseville\, CA\, 95678\, United States
CATEGORIES:Live Music
ATTACH;FMTTYPE=image/png:https://figtreecoffee.com/wp-content/uploads/2025/10/Live-Music.png
END:VEVENT
END:VCALENDAR