BEGIN:VCALENDAR
VERSION:2.0
PRODID:-//The Fig Tree - ECPv6.15.20//NONSGML v1.0//EN
CALSCALE:GREGORIAN
METHOD:PUBLISH
X-ORIGINAL-URL:https://figtreecoffee.com
X-WR-CALDESC:Events for The Fig Tree
REFRESH-INTERVAL;VALUE=DURATION:PT1H
X-Robots-Tag:noindex
X-PUBLISHED-TTL:PT1H
BEGIN:VTIMEZONE
TZID:America/Los_Angeles
BEGIN:DAYLIGHT
TZOFFSETFROM:-0800
TZOFFSETTO:-0700
TZNAME:PDT
DTSTART:20240310T100000
END:DAYLIGHT
BEGIN:STANDARD
TZOFFSETFROM:-0700
TZOFFSETTO:-0800
TZNAME:PST
DTSTART:20241103T090000
END:STANDARD
BEGIN:DAYLIGHT
TZOFFSETFROM:-0800
TZOFFSETTO:-0700
TZNAME:PDT
DTSTART:20250309T100000
END:DAYLIGHT
BEGIN:STANDARD
TZOFFSETFROM:-0700
TZOFFSETTO:-0800
TZNAME:PST
DTSTART:20251102T090000
END:STANDARD
BEGIN:DAYLIGHT
TZOFFSETFROM:-0800
TZOFFSETTO:-0700
TZNAME:PDT
DTSTART:20260308T100000
END:DAYLIGHT
BEGIN:STANDARD
TZOFFSETFROM:-0700
TZOFFSETTO:-0800
TZNAME:PST
DTSTART:20261101T090000
END:STANDARD
END:VTIMEZONE
BEGIN:VEVENT
DTSTART;TZID=America/Los_Angeles:20250430T180000
DTEND;TZID=America/Los_Angeles:20250430T210000
DTSTAMP:20260425T140333
CREATED:20250428T232606Z
LAST-MODIFIED:20250428T232606Z
UID:4388-1746036000-1746046800@figtreecoffee.com
SUMMARY:Avery Henry; Jessica Jenkins; Marco Lemus Trio
DESCRIPTION:Avery Henry kicks off the evening from 6–7 with soulful sounds to ease you into the night. Jessica Jenkins follows from 7–8 with heartfelt tunes and powerful vocals. The Marco Lemus Trio closes it out from 8–9 with smooth\, lively rhythms. Relax with friends\, enjoy our inviting atmosphere\, and treat yourself to something delicious from our bakery!
URL:https://figtreecoffee.com/event/avery-henry-jessica-jenkins-marco-lemus-trio/
LOCATION:The Fig Tree\, 217 Vernon Street\, Roseville\, CA\, 95678\, United States
CATEGORIES:Live Music
ATTACH;FMTTYPE=image/png:https://figtreecoffee.com/wp-content/uploads/2025/04/Live-Music-2.png
END:VEVENT
BEGIN:VEVENT
DTSTART;TZID=America/Los_Angeles:20250501T180000
DTEND;TZID=America/Los_Angeles:20250501T210000
DTSTAMP:20260425T140333
CREATED:20250428T232803Z
LAST-MODIFIED:20250428T232803Z
UID:4387-1746122400-1746133200@figtreecoffee.com
SUMMARY:Tae Sierra & Leslie W
DESCRIPTION:Spend your evening with the incredible duo Tae Sierra & Leslie W\, performing live from 6-9 PM. Their captivating harmonies and soulful sound will set the perfect vibe for a night of great music and good company!
URL:https://figtreecoffee.com/event/tae-sierra-leslie-w-2/
LOCATION:The Fig Tree\, 217 Vernon Street\, Roseville\, CA\, 95678\, United States
CATEGORIES:Live Music
ATTACH;FMTTYPE=image/png:https://figtreecoffee.com/wp-content/uploads/2025/02/Live-Music.png
END:VEVENT
BEGIN:VEVENT
DTSTART;TZID=America/Los_Angeles:20250502T180000
DTEND;TZID=America/Los_Angeles:20250502T210000
DTSTAMP:20260425T140333
CREATED:20250428T232856Z
LAST-MODIFIED:20250428T232856Z
UID:4392-1746208800-1746219600@figtreecoffee.com
SUMMARY:Mischief; Hailey Velarde
DESCRIPTION:Mischief brings vibrant energy from 6–8\, filling the evening with upbeat sounds and good vibes. Hailey Velarde follows from 8–9 with heartfelt songs to wind down the night. Stop by for live local music\, relax with friends\, and don’t forget to check out our fresh bakery treats
URL:https://figtreecoffee.com/event/mischief-hailey-velarde/
LOCATION:The Fig Tree\, 217 Vernon Street\, Roseville\, CA\, 95678\, United States
CATEGORIES:Live Music
ATTACH;FMTTYPE=image/png:https://figtreecoffee.com/wp-content/uploads/2025/04/Live-Music.png
END:VEVENT
BEGIN:VEVENT
DTSTART;TZID=America/Los_Angeles:20250507T180000
DTEND;TZID=America/Los_Angeles:20250507T203000
DTSTAMP:20260425T140333
CREATED:20250505T230728Z
LAST-MODIFIED:20250505T230828Z
UID:4396-1746640800-1746649800@figtreecoffee.com
SUMMARY:Celtic Session
DESCRIPTION:Get ready for a lively Celtic Session from 6-9 PM! Bring your own instrument and jump into the jam\, or simply enjoy the traditional tunes and good company. Let the music bring a bit of Celtic charm to your evening!
URL:https://figtreecoffee.com/event/celtic-session-7/
LOCATION:The Fig Tree\, 217 Vernon Street\, Roseville\, CA\, 95678\, United States
CATEGORIES:Live Music
ATTACH;FMTTYPE=image/png:https://figtreecoffee.com/wp-content/uploads/2025/03/Celtic-Session.png
END:VEVENT
BEGIN:VEVENT
DTSTART;TZID=America/Los_Angeles:20250508T180000
DTEND;TZID=America/Los_Angeles:20250508T210000
DTSTAMP:20260425T140333
CREATED:20250505T230922Z
LAST-MODIFIED:20250505T230922Z
UID:4398-1746727200-1746738000@figtreecoffee.com
SUMMARY:Annabelle Rodriguez; Anthony Boccaleoni; Brody Roberts
DESCRIPTION:Annabelle Rodriguez starts the evening from 6–7 with soulful melodies\, followed by Anthony Boccaleoni from 7–8 with his signature acoustic charm. Brody Roberts closes the night from 8–9 with a warm and inviting set. Come enjoy the music\, unwind with friends\, and treat yourself to something from our bakery case!
URL:https://figtreecoffee.com/event/annabelle-rodriguez-anthony-boccaleoni-brody-roberts/
LOCATION:The Fig Tree\, 217 Vernon Street\, Roseville\, CA\, 95678\, United States
CATEGORIES:Live Music
ATTACH;FMTTYPE=image/png:https://figtreecoffee.com/wp-content/uploads/2025/04/Live-Music.png
END:VEVENT
BEGIN:VEVENT
DTSTART;TZID=America/Los_Angeles:20250509T180000
DTEND;TZID=America/Los_Angeles:20250509T204000
DTSTAMP:20260425T140333
CREATED:20250505T231033Z
LAST-MODIFIED:20250505T231033Z
UID:4400-1746813600-1746823200@figtreecoffee.com
SUMMARY:Madison Lazark; Dominic Prosio
DESCRIPTION:Start your Friday night with Madison Lazark from 6–7\, bringing heartfelt tunes and easygoing vibes. Then settle in for an extended set with local favorite Dominic Prosio from 7–8:40. It’s the perfect midyear reset—sip something refreshing\, catch some live music\, and ease into the weekend.
URL:https://figtreecoffee.com/event/madison-lazark-dominic-prosio-3/
LOCATION:The Fig Tree\, 217 Vernon Street\, Roseville\, CA\, 95678\, United States
CATEGORIES:Live Music
ATTACH;FMTTYPE=image/png:https://figtreecoffee.com/wp-content/uploads/2024/01/Live-Music-featuring-Madison-Lazark.png
END:VEVENT
BEGIN:VEVENT
DTSTART;TZID=America/Los_Angeles:20250522T180000
DTEND;TZID=America/Los_Angeles:20250522T210000
DTSTAMP:20260425T140333
CREATED:20250521T160512Z
LAST-MODIFIED:20250521T160512Z
UID:4415-1747936800-1747947600@figtreecoffee.com
SUMMARY:Rumi Shimada & Friends
DESCRIPTION:Embark on a musical adventure with Rumi Shimada & Friends from 6-9 pm. Join us for a night filled with soulful melodies and captivating performances that you won’t want to miss.
URL:https://figtreecoffee.com/event/rumi-shimada-friends-6/
LOCATION:The Fig Tree\, 217 Vernon Street\, Roseville\, CA\, 95678\, United States
CATEGORIES:Live Music
ATTACH;FMTTYPE=image/jpeg:https://figtreecoffee.com/wp-content/uploads/2024/01/Live-Music-Rumi-Shimada-Friends.jpg
END:VEVENT
BEGIN:VEVENT
DTSTART;TZID=America/Los_Angeles:20250523T180000
DTEND;TZID=America/Los_Angeles:20250523T210000
DTSTAMP:20260425T140333
CREATED:20250522T032551Z
LAST-MODIFIED:20250522T032551Z
UID:4417-1748023200-1748034000@figtreecoffee.com
SUMMARY:Ace G Musical Showcase
DESCRIPTION:Kick off your Friday night with the Ace G Musical Showcase from 6–9PM. Enjoy an inviting atmosphere\, live music\, and a perfect excuse to treat yourself to one of our monthly specials. Bring your friends and let the weekend begin!
URL:https://figtreecoffee.com/event/ace-g-musical-showcase/
LOCATION:The Fig Tree\, 217 Vernon Street\, Roseville\, CA\, 95678\, United States
CATEGORIES:Live Music
ATTACH;FMTTYPE=image/jpeg:https://figtreecoffee.com/wp-content/uploads/2025/05/Live-Music.jpg
END:VEVENT
BEGIN:VEVENT
DTSTART;TZID=America/Los_Angeles:20250528T180000
DTEND;TZID=America/Los_Angeles:20250528T204000
DTSTAMP:20260425T140333
CREATED:20250527T231735Z
LAST-MODIFIED:20250527T231735Z
UID:4422-1748455200-1748464800@figtreecoffee.com
SUMMARY:Matt Galli; Sweet Sorrows
DESCRIPTION:Join us Wednesday evening for an unforgettable night of live music. Matt Galli kicks things off from 6–7PM with his signature sound\, followed by Sweet Sorrows from 7–9PM\, bringing Australian Celtic flair to the stage. It’s the perfect midweek reset—grab a seat\, sip on something seasonal\, and enjoy the tunes.
URL:https://figtreecoffee.com/event/matt-galli-sweet-sorrows/
LOCATION:The Fig Tree\, 217 Vernon Street\, Roseville\, CA\, 95678\, United States
CATEGORIES:Live Music
ATTACH;FMTTYPE=image/png:https://figtreecoffee.com/wp-content/uploads/2025/04/Live-Music-2.png
END:VEVENT
BEGIN:VEVENT
DTSTART;TZID=America/Los_Angeles:20250529T180000
DTEND;TZID=America/Los_Angeles:20250529T210000
DTSTAMP:20260425T140333
CREATED:20250527T231836Z
LAST-MODIFIED:20250527T231836Z
UID:4424-1748541600-1748552400@figtreecoffee.com
SUMMARY:Avery Henry; Duet Again; Marco Lemus Trio
DESCRIPTION:Thursday night is packed with talent! Avery Henry opens the evening from 6–7PM with heartfelt melodies\, followed by Duet Again from 7–8PM bringing smooth harmonies and vibrant energy. Closing out the night\, the Marco Lemus Trio hits the stage from 8–9PM with rich\, dynamic sound. Come relax\, catch up with friends\, and enjoy the welcoming atmosphere and live local music.
URL:https://figtreecoffee.com/event/avery-henry-duet-again-marco-lemus-trio/
LOCATION:The Fig Tree\, 217 Vernon Street\, Roseville\, CA\, 95678\, United States
CATEGORIES:Live Music
ATTACH;FMTTYPE=image/png:https://figtreecoffee.com/wp-content/uploads/2025/04/Live-Music.png
END:VEVENT
BEGIN:VEVENT
DTSTART;TZID=America/Los_Angeles:20250530T180000
DTEND;TZID=America/Los_Angeles:20250530T210000
DTSTAMP:20260425T140333
CREATED:20250527T231944Z
LAST-MODIFIED:20250528T184808Z
UID:4426-1748628000-1748638800@figtreecoffee.com
SUMMARY:Esmé; Ali Bohannon
DESCRIPTION:Join us for a cozy evening of live music! We’ll kick things off from 6–7PM with Esmé\, followed by the soulful sounds of Ali Bohannon from 7–9PM. Bring a friend\, sip something delicious\, and soak in the local talent.
URL:https://figtreecoffee.com/event/esme-ali-bohannon/
LOCATION:The Fig Tree\, 217 Vernon Street\, Roseville\, CA\, 95678\, United States
CATEGORIES:Live Music
ATTACH;FMTTYPE=image/png:https://figtreecoffee.com/wp-content/uploads/2025/02/Live-Music.png
END:VEVENT
BEGIN:VEVENT
DTSTART;TZID=America/Los_Angeles:20250604T183000
DTEND;TZID=America/Los_Angeles:20250604T203000
DTSTAMP:20260425T140333
CREATED:20250602T220619Z
LAST-MODIFIED:20250602T222752Z
UID:4432-1749061800-1749069000@figtreecoffee.com
SUMMARY:Celtic Session
DESCRIPTION:Get ready for a lively Celtic Session from 6:30-8:30 PM! Bring your own instrument and jump into the jam\, or simply enjoy the traditional tunes and good company. Let the music bring a bit of Celtic charm to your evening!
URL:https://figtreecoffee.com/event/celtic-session-8/
LOCATION:The Fig Tree\, 217 Vernon Street\, Roseville\, CA\, 95678\, United States
CATEGORIES:Live Music
ATTACH;FMTTYPE=image/png:https://figtreecoffee.com/wp-content/uploads/2025/03/Celtic-Session.png
END:VEVENT
BEGIN:VEVENT
DTSTART;TZID=America/Los_Angeles:20250605T180000
DTEND;TZID=America/Los_Angeles:20250605T210000
DTSTAMP:20260425T140333
CREATED:20250602T221627Z
LAST-MODIFIED:20250602T221627Z
UID:4434-1749146400-1749157200@figtreecoffee.com
SUMMARY:Rachel Mullen; Brody Roberts; Madison Lazark
DESCRIPTION:Ease into your Thursday evening with a fantastic lineup of local music! Rachel Mullen opens the night from 6–7 PM\, followed by Brody Roberts from 7–8 PM\, and closing out with the ever-talented Madison Lazark from 8–9 PM. A perfect midweek reset with music\, community\, and your favorite drink in hand.
URL:https://figtreecoffee.com/event/rachel-mullen-brody-roberts-madison-lazark/
LOCATION:The Fig Tree\, 217 Vernon Street\, Roseville\, CA\, 95678\, United States
CATEGORIES:Live Music
ATTACH;FMTTYPE=image/jpeg:https://figtreecoffee.com/wp-content/uploads/2025/06/Rachel-Mullen-Madison-Lazark.jpg
END:VEVENT
BEGIN:VEVENT
DTSTART;TZID=America/Los_Angeles:20250606T180000
DTEND;TZID=America/Los_Angeles:20250606T210000
DTSTAMP:20260425T140333
CREATED:20250602T222648Z
LAST-MODIFIED:20250602T222720Z
UID:4437-1749232800-1749243600@figtreecoffee.com
SUMMARY:Charivari Jazz Quartet
DESCRIPTION:Immerse yourself in an evening of jazz excellence! Join us from 6-9 pm for the Charivari Jazz Quartet\, as they serenade you with soulful melodies and captivating rhythms. It’s a night filled with musical magic that jazz enthusiasts won’t want to miss.
URL:https://figtreecoffee.com/event/charivari-jazz-quartet-6/
LOCATION:The Fig Tree\, 217 Vernon Street\, Roseville\, CA\, 95678\, United States
CATEGORIES:Live Music
ATTACH;FMTTYPE=image/jpeg:https://figtreecoffee.com/wp-content/uploads/2025/06/Chairivari-Jazz-Combo.jpg
END:VEVENT
BEGIN:VEVENT
DTSTART;TZID=America/Los_Angeles:20250611T180000
DTEND;TZID=America/Los_Angeles:20250611T210000
DTSTAMP:20260425T140333
CREATED:20250610T023804Z
LAST-MODIFIED:20250610T023804Z
UID:4448-1749664800-1749675600@figtreecoffee.com
SUMMARY:Jazz Jam Session
DESCRIPTION:Immerse yourself in the smooth\, soulful sounds of jazz at tonight’s Jazz Jam Session. Whether you’re a musician looking to join the groove or a listener soaking in the melodies\, it’s the perfect night for jazz lovers to connect and enjoy the art of improvisation. Grab your favorite coffee or tea and let the music take you away! \n 
URL:https://figtreecoffee.com/event/jazz-jam-session-6/
LOCATION:The Fig Tree\, 217 Vernon Street\, Roseville\, CA\, 95678\, United States
CATEGORIES:Live Music
ATTACH;FMTTYPE=image/png:https://figtreecoffee.com/wp-content/uploads/2025/03/Jazz-Jam-Session.png
END:VEVENT
BEGIN:VEVENT
DTSTART;TZID=America/Los_Angeles:20250612T180000
DTEND;TZID=America/Los_Angeles:20250612T210000
DTSTAMP:20260425T140333
CREATED:20250610T030135Z
LAST-MODIFIED:20250610T030230Z
UID:4450-1749751200-1749762000@figtreecoffee.com
SUMMARY:Sam Caylor; Adam Schild; Prettier in Person
DESCRIPTION:Join us Thursday evening for a vibrant night of local talent! Sam Caylor kicks things off at 6 pm\, followed by Adam Schild at 7 pm\, and Prettier in Person closing the night from 8 to 9 pm. It’s the perfect midweek reset. Relax\, enjoy the music\, and sip on something refreshing.
URL:https://figtreecoffee.com/event/sam-caylor-adam-schild-prettier-in-person/
LOCATION:The Fig Tree\, 217 Vernon Street\, Roseville\, CA\, 95678\, United States
CATEGORIES:Live Music
ATTACH;FMTTYPE=image/jpeg:https://figtreecoffee.com/wp-content/uploads/2025/06/Live-Music-Tafkap.jpg
END:VEVENT
BEGIN:VEVENT
DTSTART;TZID=America/Los_Angeles:20250613T180000
DTEND;TZID=America/Los_Angeles:20250613T210000
DTSTAMP:20260425T140333
CREATED:20250610T030409Z
LAST-MODIFIED:20250610T030409Z
UID:4453-1749837600-1749848400@figtreecoffee.com
SUMMARY:Dominic Prosio; Donrico DeCastro; Vinnie Jewell
DESCRIPTION:Ease into your Friday night with live tunes and good company. Dominic Prosio starts the evening at 6 pm\, followed by the soulful sounds of Donrico DeCastro at 7 pm. Vinnie Jewell closes out the night from 8 to 9 pm. Unwind with friends in our inviting space and enjoy the music!
URL:https://figtreecoffee.com/event/dominic-prosio-donrico-decastro-vinnie-jewell/
LOCATION:The Fig Tree\, 217 Vernon Street\, Roseville\, CA\, 95678\, United States
CATEGORIES:Live Music
ATTACH;FMTTYPE=image/png:https://figtreecoffee.com/wp-content/uploads/2023/11/Donrico-De-Castro-Live-Music.png
END:VEVENT
BEGIN:VEVENT
DTSTART;TZID=America/Los_Angeles:20250619T180000
DTEND;TZID=America/Los_Angeles:20250619T210000
DTSTAMP:20260425T140333
CREATED:20250616T211755Z
LAST-MODIFIED:20250616T211755Z
UID:4465-1750356000-1750366800@figtreecoffee.com
SUMMARY:Of The Heart Band Reunion
DESCRIPTION:Don’t miss a special reunion night with Of The Heart Band\, live from 6 to 9 pm! Enjoy a cozy evening filled with familiar faces\, local music\, and a welcoming atmosphere. Bring a friend\, grab a drink\, and let the nostalgia (and harmonies) flow.
URL:https://figtreecoffee.com/event/of-the-heart-band-reunion/
LOCATION:The Fig Tree\, 217 Vernon Street\, Roseville\, CA\, 95678\, United States
CATEGORIES:Live Music
ATTACH;FMTTYPE=image/jpeg:https://figtreecoffee.com/wp-content/uploads/2025/06/Of-The-Heart-Band.jpg
END:VEVENT
BEGIN:VEVENT
DTSTART;TZID=America/Los_Angeles:20250620T180000
DTEND;TZID=America/Los_Angeles:20250620T210000
DTSTAMP:20260425T140333
CREATED:20250616T212227Z
LAST-MODIFIED:20250616T212227Z
UID:4468-1750442400-1750453200@figtreecoffee.com
SUMMARY:Jazmine Monterrosa; Anthony Boccaleoni; Jessica Jenkins
DESCRIPTION:Join us Friday evening for a cozy night of live local music. Jazmine Monterrosa kicks things off from 6 to 7 pm\, followed by Anthony Boccaleoni from 7 to 8 pm\, and closing out the night is Jessica Jenkins from 8 to 9 pm. It’s the perfect mid-summer reset. Relax with a drink\, enjoy the tunes\, and soak in the inviting vibes.
URL:https://figtreecoffee.com/event/jazmine-monterrosa-anthony-boccaleoni-jessica-jenkins/
LOCATION:The Fig Tree\, 217 Vernon Street\, Roseville\, CA\, 95678\, United States
CATEGORIES:Live Music
ATTACH;FMTTYPE=image/jpeg:https://figtreecoffee.com/wp-content/uploads/2025/06/Jazmine-Monterrosa.jpg
END:VEVENT
BEGIN:VEVENT
DTSTART;TZID=America/Los_Angeles:20250625T180000
DTEND;TZID=America/Los_Angeles:20250625T210000
DTSTAMP:20260425T140333
CREATED:20250623T234149Z
LAST-MODIFIED:20250623T234149Z
UID:4473-1750874400-1750885200@figtreecoffee.com
SUMMARY:ORHS Music Collective; Aiko Shimada Trio
DESCRIPTION:Spend your Wednesday evening with live music at its finest. Enjoy performances from the ORHS Music Collective from 6 to 7 pm\, followed by the smooth\, expressive sounds of the Aiko Shimada Trio from 7 to 9 pm. Grab your favorite coffee or tea and settle in for a relaxed night with friends and local talent!
URL:https://figtreecoffee.com/event/orhs-music-collective-aiko-shimada-trio/
LOCATION:The Fig Tree\, 217 Vernon Street\, Roseville\, CA\, 95678\, United States
CATEGORIES:Live Music
ATTACH;FMTTYPE=image/png:https://figtreecoffee.com/wp-content/uploads/2025/02/Live-Music.png
END:VEVENT
BEGIN:VEVENT
DTSTART;TZID=America/Los_Angeles:20250626T180000
DTEND;TZID=America/Los_Angeles:20250626T210000
DTSTAMP:20260425T140333
CREATED:20250623T234256Z
LAST-MODIFIED:20250627T050839Z
UID:4475-1750960800-1750971600@figtreecoffee.com
SUMMARY:Brendan Speights; Ali Bohannon
DESCRIPTION:Ease into the evening with the heartfelt sounds of Brendan Speights from 6 to 7 pm\, then settle in for the soulful vocals and original tunes of Ali Bohannon from 7 to 9 pm. Bring a friend\, sip something seasonal\, and enjoy the welcoming vibes and live local music all night long.
URL:https://figtreecoffee.com/event/brendan-speights-ali-bohannon/
LOCATION:The Fig Tree\, 217 Vernon Street\, Roseville\, CA\, 95678\, United States
CATEGORIES:Live Music
ATTACH;FMTTYPE=image/jpeg:https://figtreecoffee.com/wp-content/uploads/2025/06/Live-Music-Tafkap.jpg
END:VEVENT
BEGIN:VEVENT
DTSTART;TZID=America/Los_Angeles:20250627T180000
DTEND;TZID=America/Los_Angeles:20250627T210000
DTSTAMP:20260425T140333
CREATED:20250623T234914Z
LAST-MODIFIED:20250627T050755Z
UID:4477-1751047200-1751058000@figtreecoffee.com
SUMMARY:Chloe Melo; Alli & Donny; Leslie W
DESCRIPTION:Kick off your Friday night with Chloe Melo from 6 to 7 pm\, followed by the upbeat charm of Alli & Donny from 7 to 8 pm. Wrap up the evening with the soulful sounds of Leslie W from 8 to 9 pm. Grab a seat\, sip something delicious\, and soak up the local talent in our welcoming space \n  \n  \n  \n  \n 
URL:https://figtreecoffee.com/event/chloe-melo-alli-donny/
LOCATION:The Fig Tree\, 217 Vernon Street\, Roseville\, CA\, 95678\, United States
CATEGORIES:Live Music
ATTACH;FMTTYPE=image/jpeg:https://figtreecoffee.com/wp-content/uploads/2025/06/Chloe-Melo-Alli-Donny-Leslie-W.jpg
END:VEVENT
BEGIN:VEVENT
DTSTART;TZID=America/Los_Angeles:20250702T183000
DTEND;TZID=America/Los_Angeles:20250702T203000
DTSTAMP:20260425T140333
CREATED:20250630T233417Z
LAST-MODIFIED:20250630T233417Z
UID:4936-1751481000-1751488200@figtreecoffee.com
SUMMARY:Celtic Session
DESCRIPTION:Get ready for a lively Celtic Session from 6:30-8:30 PM! Bring your own instrument and jump into the jam\, or simply enjoy the traditional tunes and good company. Let the music bring a bit of Celtic charm to your evening!
URL:https://figtreecoffee.com/event/celtic-session-9/
LOCATION:The Fig Tree\, 217 Vernon Street\, Roseville\, CA\, 95678\, United States
CATEGORIES:Live Music
ATTACH;FMTTYPE=image/png:https://figtreecoffee.com/wp-content/uploads/2025/03/Celtic-Session.png
END:VEVENT
BEGIN:VEVENT
DTSTART;TZID=America/Los_Angeles:20250703T180000
DTEND;TZID=America/Los_Angeles:20250703T210000
DTSTAMP:20260425T140333
CREATED:20250630T233516Z
LAST-MODIFIED:20250630T233516Z
UID:4938-1751565600-1751576400@figtreecoffee.com
SUMMARY:Anthony Boccaleoni; Brody Roberts; Vinnie Jewell
DESCRIPTION:Ease into Thursday evening with the acoustic stylings of Anthony Boccaleoni from 6 to 7 pm. Brody Roberts brings his smooth sound from 7 to 8 pm\, followed by the heartfelt tunes of Vinnie Jewell from 8 to 9 pm. Grab your favorite drink\, relax with friends\, and enjoy a cozy night of live local music.
URL:https://figtreecoffee.com/event/anthony-boccaleoni-brody-roberts-vinnie-jewell/
LOCATION:The Fig Tree\, 217 Vernon Street\, Roseville\, CA\, 95678\, United States
CATEGORIES:Live Music
ATTACH;FMTTYPE=image/jpeg:https://figtreecoffee.com/wp-content/uploads/2025/06/Live-Music-Tafkap.jpg
END:VEVENT
BEGIN:VEVENT
DTSTART;TZID=America/Los_Angeles:20250709T180000
DTEND;TZID=America/Los_Angeles:20250709T210000
DTSTAMP:20260425T140333
CREATED:20250708T191606Z
LAST-MODIFIED:20250708T191606Z
UID:4963-1752084000-1752094800@figtreecoffee.com
SUMMARY:Jazz Jam Session
DESCRIPTION:Immerse yourself in the smooth\, soulful sounds of jazz at tonight’s Jazz Jam Session. Whether you’re a musician looking to join the groove or a listener soaking in the melodies\, it’s the perfect night for jazz lovers to connect and enjoy the art of improvisation. Grab your favorite coffee or tea and let the music take you away! \n 
URL:https://figtreecoffee.com/event/jazz-jam-session-7/
LOCATION:The Fig Tree\, 217 Vernon Street\, Roseville\, CA\, 95678\, United States
CATEGORIES:Live Music
ATTACH;FMTTYPE=image/png:https://figtreecoffee.com/wp-content/uploads/2025/03/Jazz-Jam-Session.png
END:VEVENT
BEGIN:VEVENT
DTSTART;TZID=America/Los_Angeles:20250710T180000
DTEND;TZID=America/Los_Angeles:20250710T210000
DTSTAMP:20260425T140333
CREATED:20250708T192024Z
LAST-MODIFIED:20250708T192024Z
UID:4965-1752170400-1752181200@figtreecoffee.com
SUMMARY:Marco Lemus; Tae Sierra; Tony Galioto
DESCRIPTION:Spend your evening with three amazing local artists lighting up the Fig Tree stage! Marco Lemus kicks things off at 6 pm\, followed by the soulful Tae Sierra at 7 pm\, and Tony Galioto closes the night at 8 pm. Bring a friend\, grab a cozy seat\, and enjoy live music with your favorite drink in hand.
URL:https://figtreecoffee.com/event/marco-lemus-tae-sierra-tony-galioto/
LOCATION:The Fig Tree\, 217 Vernon Street\, Roseville\, CA\, 95678\, United States
CATEGORIES:Live Music
ATTACH;FMTTYPE=image/jpeg:https://figtreecoffee.com/wp-content/uploads/2025/07/Live-Music.jpg
END:VEVENT
BEGIN:VEVENT
DTSTART;TZID=America/Los_Angeles:20250711T180000
DTEND;TZID=America/Los_Angeles:20250711T210000
DTSTAMP:20260425T140333
CREATED:20250708T193646Z
LAST-MODIFIED:20250708T193646Z
UID:4968-1752256800-1752267600@figtreecoffee.com
SUMMARY:Mischief; Esmé
DESCRIPTION:Mischief brings vibrant energy from 6–8\, filling the evening with upbeat sounds and good vibes. Esmé follows from 8–9 with heartfelt songs to wind down the night. Stop by for live local music\, relax with friends\, and don’t forget to check out our fresh bakery treats
URL:https://figtreecoffee.com/event/mischief-esme/
LOCATION:The Fig Tree\, 217 Vernon Street\, Roseville\, CA\, 95678\, United States
CATEGORIES:Live Music
ATTACH;FMTTYPE=image/jpeg:https://figtreecoffee.com/wp-content/uploads/2025/07/Mischief.jpg
END:VEVENT
BEGIN:VEVENT
DTSTART;TZID=America/Los_Angeles:20250717T180000
DTEND;TZID=America/Los_Angeles:20250717T210000
DTSTAMP:20260425T140333
CREATED:20250715T001256Z
LAST-MODIFIED:20250715T001256Z
UID:4976-1752775200-1752786000@figtreecoffee.com
SUMMARY:Sam Caylor; Adam Schild; Prettier in Person
DESCRIPTION:Join us Thursday evening for a vibrant night of local talent! Sam Caylor kicks things off at 6 pm\, followed by Adam Schild at 7 pm\, and Prettier in Person closing the night from 8 to 9 pm. It’s the perfect midweek reset. Relax\, enjoy the music\, and sip on something refreshing.
URL:https://figtreecoffee.com/event/sam-caylor-adam-schild-prettier-in-person-2/
LOCATION:The Fig Tree\, 217 Vernon Street\, Roseville\, CA\, 95678\, United States
CATEGORIES:Live Music
ATTACH;FMTTYPE=image/jpeg:https://figtreecoffee.com/wp-content/uploads/2025/06/Live-Music-Tafkap.jpg
END:VEVENT
BEGIN:VEVENT
DTSTART;TZID=America/Los_Angeles:20250718T180000
DTEND;TZID=America/Los_Angeles:20250718T210000
DTSTAMP:20260425T140333
CREATED:20250715T002009Z
LAST-MODIFIED:20250715T233007Z
UID:4978-1752861600-1752872400@figtreecoffee.com
SUMMARY:Jazmine Monterrosa; Rachel Mullen; Dominic Prosio
DESCRIPTION:Kick off your Friday night with a full lineup of local talent! Jazmine Monterrosa opens the evening at 6 pm\, followed by the always captivating Rachel Mullen at 7 pm\, and Dominic Prosio brings it home at 8 pm. Unwind with friends\, enjoy the welcoming vibe\, and sip something delicious from our seasonal menu.
URL:https://figtreecoffee.com/event/jazmine-monterrosa-rachel-mullen-dominic-prosio/
LOCATION:The Fig Tree\, 217 Vernon Street\, Roseville\, CA\, 95678\, United States
CATEGORIES:Live Music
ATTACH;FMTTYPE=image/png:https://figtreecoffee.com/wp-content/uploads/2025/07/Live-Music.png
END:VEVENT
BEGIN:VEVENT
DTSTART;TZID=America/Los_Angeles:20250724T180000
DTEND;TZID=America/Los_Angeles:20250724T210000
DTSTAMP:20260425T140333
CREATED:20250721T231352Z
LAST-MODIFIED:20250721T232657Z
UID:4988-1753380000-1753390800@figtreecoffee.com
SUMMARY:Oak Ridge High School Musical Collective; Ace G & Friends
DESCRIPTION:Enjoy a vibrant Thursday evening filled with local talent! From 6 to 7 pm\, Oak Ridge High School Musical Collective showcases the next generation of musicians. Then from 7 to 9 pm\, Ace G & Friends take the stage with a dynamic\, soulful set. Bring your friends\, grab a drink\, and soak up the sounds!
URL:https://figtreecoffee.com/event/the-suspenders-jazz-combo/
LOCATION:The Fig Tree\, 217 Vernon Street\, Roseville\, CA\, 95678\, United States
CATEGORIES:Live Music
ATTACH;FMTTYPE=image/png:https://figtreecoffee.com/wp-content/uploads/2025/07/Live-Music.png
END:VEVENT
END:VCALENDAR