BEGIN:VCALENDAR
VERSION:2.0
PRODID:-//The Fig Tree - ECPv6.15.20//NONSGML v1.0//EN
CALSCALE:GREGORIAN
METHOD:PUBLISH
X-WR-CALNAME:The Fig Tree
X-ORIGINAL-URL:https://figtreecoffee.com
X-WR-CALDESC:Events for The Fig Tree
REFRESH-INTERVAL;VALUE=DURATION:PT1H
X-Robots-Tag:noindex
X-PUBLISHED-TTL:PT1H
BEGIN:VTIMEZONE
TZID:America/Los_Angeles
BEGIN:DAYLIGHT
TZOFFSETFROM:-0800
TZOFFSETTO:-0700
TZNAME:PDT
DTSTART:20250309T100000
END:DAYLIGHT
BEGIN:STANDARD
TZOFFSETFROM:-0700
TZOFFSETTO:-0800
TZNAME:PST
DTSTART:20251102T090000
END:STANDARD
BEGIN:DAYLIGHT
TZOFFSETFROM:-0800
TZOFFSETTO:-0700
TZNAME:PDT
DTSTART:20260308T100000
END:DAYLIGHT
BEGIN:STANDARD
TZOFFSETFROM:-0700
TZOFFSETTO:-0800
TZNAME:PST
DTSTART:20261101T090000
END:STANDARD
BEGIN:DAYLIGHT
TZOFFSETFROM:-0800
TZOFFSETTO:-0700
TZNAME:PDT
DTSTART:20270314T100000
END:DAYLIGHT
BEGIN:STANDARD
TZOFFSETFROM:-0700
TZOFFSETTO:-0800
TZNAME:PST
DTSTART:20271107T090000
END:STANDARD
END:VTIMEZONE
BEGIN:VEVENT
DTSTART;TZID=America/Los_Angeles:20260416T180000
DTEND;TZID=America/Los_Angeles:20260416T204500
DTSTAMP:20260425T052755
CREATED:20260414T232054Z
LAST-MODIFIED:20260414T232127Z
UID:8567-1776362400-1776372300@figtreecoffee.com
SUMMARY:Fig Tree Staff Night!
DESCRIPTION:Anthony Boccaleoni plays 6–6:45 pm\, followed immediately by Dante 6:45–7:05 pm\, then Gabriel Star 7:10–8 pm\, and closing the night is Jazmine Monterrosa 8–8:45 pm. A fast-moving staff night lineup with short sets that keep the energy flowing\, shifting from intimate acoustic moments into a stronger late-evening close\, perfect for a lively\, community-focused night at the shop.
URL:https://figtreecoffee.com/event/fig-tree-staff-night/
LOCATION:The Fig Tree\, 217 Vernon Street\, Roseville\, CA\, 95678\, United States
CATEGORIES:Live Music
ATTACH;FMTTYPE=image/png:https://figtreecoffee.com/wp-content/uploads/2026/04/Anthony-Boccaleoni-Jazmine-Monterrosa.png
END:VEVENT
BEGIN:VEVENT
DTSTART;TZID=America/Los_Angeles:20260417T180000
DTEND;TZID=America/Los_Angeles:20260417T204500
DTSTAMP:20260425T052755
CREATED:20260414T232502Z
LAST-MODIFIED:20260414T232502Z
UID:8570-1776448800-1776458700@figtreecoffee.com
SUMMARY:Suspenders
DESCRIPTION:Suspenders plays 6–8:45 pm in a steady\, easygoing set that carries the evening from early night into a relaxed close. Expect a warm\, inviting atmosphere with plenty of space to settle in\, catch up with friends\, and ease into the weekend with live local music.
URL:https://figtreecoffee.com/event/suspenders/
LOCATION:The Fig Tree\, 217 Vernon Street\, Roseville\, CA\, 95678\, United States
CATEGORIES:Live Music
ATTACH;FMTTYPE=image/png:https://figtreecoffee.com/wp-content/uploads/2026/04/Live-Music-1.png
END:VEVENT
BEGIN:VEVENT
DTSTART;TZID=America/Los_Angeles:20260422T180000
DTEND;TZID=America/Los_Angeles:20260422T204000
DTSTAMP:20260425T052755
CREATED:20260421T000155Z
LAST-MODIFIED:20260421T000155Z
UID:8589-1776880800-1776890400@figtreecoffee.com
SUMMARY:Hippiesoundwaterbug; Under the Canopy
DESCRIPTION:Take a midweek pause with a laid-back night of live music. Hippiesoundwaterbug opens from 6–7 pm\, followed by Under the Canopy from 7–8:40 pm. Settle in with a monthly drink special\, grab a pastry\, and enjoy a relaxed evening with friends or a cozy solo reset.
URL:https://figtreecoffee.com/event/hippiesoundwaterbug-under-the-canopy/
LOCATION:The Fig Tree\, 217 Vernon Street\, Roseville\, CA\, 95678\, United States
CATEGORIES:Live Music
ATTACH;FMTTYPE=image/png:https://figtreecoffee.com/wp-content/uploads/2026/04/Under-the-Canopy.png
END:VEVENT
BEGIN:VEVENT
DTSTART;TZID=America/Los_Angeles:20260423T180000
DTEND;TZID=America/Los_Angeles:20260423T210000
DTSTAMP:20260425T052755
CREATED:20260421T000702Z
LAST-MODIFIED:20260421T000702Z
UID:8592-1776967200-1776978000@figtreecoffee.com
SUMMARY:Adric Johnson; Annabelle Rodriguez; Tae Sierra
DESCRIPTION:Ease into Thursday with a full evening of live music. Adric Johnson kicks things off from 6–7 pm\, followed by Annabelle Rodriguez from 7–8 pm\, with Tae Sierra closing the night from 8–9 pm. Grab a monthly drink special\, share a pastry with friends\, or enjoy a relaxed solo night while the music sets the mood.
URL:https://figtreecoffee.com/event/adric-johnson-annabelle-rodriguez-tae-sierra/
LOCATION:The Fig Tree\, 217 Vernon Street\, Roseville\, CA\, 95678\, United States
CATEGORIES:Live Music
ATTACH;FMTTYPE=image/png:https://figtreecoffee.com/wp-content/uploads/2026/04/Live-Music-2.png
END:VEVENT
BEGIN:VEVENT
DTSTART;TZID=America/Los_Angeles:20260424T180000
DTEND;TZID=America/Los_Angeles:20260424T204000
DTSTAMP:20260425T052755
CREATED:20260421T000727Z
LAST-MODIFIED:20260423T225346Z
UID:8595-1777053600-1777063200@figtreecoffee.com
SUMMARY:Ken Teel Jazz Loops; Aiko Shimada Jazz Trio
DESCRIPTION:Start your Friday with smooth\, layered sounds from Ken Teel Jazz Loops from 6–7 pm\, followed by the Aiko Shimada Jazz Trio from 7–8:40 pm. It’s an easy\, feel-good way to kick off the weekend. Grab a monthly drink special\, settle in with friends or a date\, and enjoy a cozy night of live music.
URL:https://figtreecoffee.com/event/ken-teel-jazz-loops-aiko-shimada-jazz-trio/
LOCATION:The Fig Tree\, 217 Vernon Street\, Roseville\, CA\, 95678\, United States
CATEGORIES:Live Music
ATTACH;FMTTYPE=image/png:https://figtreecoffee.com/wp-content/uploads/2026/04/Live-Music.png
END:VEVENT
END:VCALENDAR