BEGIN:VCALENDAR
VERSION:2.0
PRODID:-//The Fig Tree - ECPv6.15.20//NONSGML v1.0//EN
CALSCALE:GREGORIAN
METHOD:PUBLISH
X-ORIGINAL-URL:https://figtreecoffee.com
X-WR-CALDESC:Events for The Fig Tree
REFRESH-INTERVAL;VALUE=DURATION:PT1H
X-Robots-Tag:noindex
X-PUBLISHED-TTL:PT1H
BEGIN:VTIMEZONE
TZID:America/Los_Angeles
BEGIN:DAYLIGHT
TZOFFSETFROM:-0800
TZOFFSETTO:-0700
TZNAME:PDT
DTSTART:20240310T100000
END:DAYLIGHT
BEGIN:STANDARD
TZOFFSETFROM:-0700
TZOFFSETTO:-0800
TZNAME:PST
DTSTART:20241103T090000
END:STANDARD
BEGIN:DAYLIGHT
TZOFFSETFROM:-0800
TZOFFSETTO:-0700
TZNAME:PDT
DTSTART:20250309T100000
END:DAYLIGHT
BEGIN:STANDARD
TZOFFSETFROM:-0700
TZOFFSETTO:-0800
TZNAME:PST
DTSTART:20251102T090000
END:STANDARD
BEGIN:DAYLIGHT
TZOFFSETFROM:-0800
TZOFFSETTO:-0700
TZNAME:PDT
DTSTART:20260308T100000
END:DAYLIGHT
BEGIN:STANDARD
TZOFFSETFROM:-0700
TZOFFSETTO:-0800
TZNAME:PST
DTSTART:20261101T090000
END:STANDARD
END:VTIMEZONE
BEGIN:VEVENT
DTSTART;TZID=America/Los_Angeles:20250201T170000
DTEND;TZID=America/Los_Angeles:20250201T210000
DTSTAMP:20260424T085413
CREATED:20250127T170141Z
LAST-MODIFIED:20250127T181541Z
UID:4119-1738429200-1738443600@figtreecoffee.com
SUMMARY:Open Mic Night
DESCRIPTION:Calling all performers and music lovers! Join us for an electrifying Open Mic Night where you can showcase your talents or simply enjoy an evening of diverse performances. It’s your stage\, your moment – let the music and creativity flow! \nRules are as follows: \n1. All materials must be family-friendly. \n2. The signup list will be available at 5 PM in-house. Time slots will be first come first serve. \n3. We encourage each other and create a positive environment\, whether big or small. \nWe hope to see you there!
URL:https://figtreecoffee.com/event/open-mic-night-97/
LOCATION:The Fig Tree\, 217 Vernon Street\, Roseville\, CA\, 95678\, United States
CATEGORIES:Open Mic
ATTACH;FMTTYPE=image/png:https://figtreecoffee.com/wp-content/uploads/2024/06/open-mic-Night.png
END:VEVENT
BEGIN:VEVENT
DTSTART;TZID=America/Los_Angeles:20250208T170000
DTEND;TZID=America/Los_Angeles:20250208T210000
DTSTAMP:20260424T085413
CREATED:20250203T184151Z
LAST-MODIFIED:20250203T184151Z
UID:4139-1739034000-1739048400@figtreecoffee.com
SUMMARY:Open Mic Night
DESCRIPTION:Calling all performers and music lovers! Join us for an electrifying Open Mic Night where you can showcase your talents or simply enjoy an evening of diverse performances. It’s your stage\, your moment – let the music and creativity flow! \nRules are as follows: \n1. All materials must be family-friendly. \n2. The signup list will be available at 5 PM in-house. Time slots will be first come first serve. \n3. We encourage each other and create a positive environment\, whether big or small. \nWe hope to see you there!
URL:https://figtreecoffee.com/event/open-mic-night-98/
LOCATION:The Fig Tree\, 217 Vernon Street\, Roseville\, CA\, 95678\, United States
CATEGORIES:Open Mic
ATTACH;FMTTYPE=image/png:https://figtreecoffee.com/wp-content/uploads/2024/06/open-mic-Night.png
END:VEVENT
BEGIN:VEVENT
DTSTART;TZID=America/Los_Angeles:20250215T170000
DTEND;TZID=America/Los_Angeles:20250215T210000
DTSTAMP:20260424T085413
CREATED:20250210T231753Z
LAST-MODIFIED:20250210T231753Z
UID:4149-1739638800-1739653200@figtreecoffee.com
SUMMARY:Open Mic Night
DESCRIPTION:Calling all performers and music lovers! Join us for an electrifying Open Mic Night where you can showcase your talents or simply enjoy an evening of diverse performances. It’s your stage\, your moment – let the music and creativity flow! \nRules are as follows: \n1. All materials must be family-friendly. \n2. The signup list will be available at 5 PM in-house. Time slots will be first come first serve. \n3. We encourage each other and create a positive environment\, whether big or small. \nWe hope to see you there!
URL:https://figtreecoffee.com/event/open-mic-night-99/
LOCATION:The Fig Tree\, 217 Vernon Street\, Roseville\, CA\, 95678\, United States
CATEGORIES:Open Mic
ATTACH;FMTTYPE=image/png:https://figtreecoffee.com/wp-content/uploads/2024/06/open-mic-Night.png
END:VEVENT
BEGIN:VEVENT
DTSTART;TZID=America/Los_Angeles:20250219T180000
DTEND;TZID=America/Los_Angeles:20250219T210000
DTSTAMP:20260424T085413
CREATED:20250218T054616Z
LAST-MODIFIED:20250218T062420Z
UID:4193-1739988000-1739998800@figtreecoffee.com
SUMMARY:Poetry Night\, featuring Amanda Hawkins
DESCRIPTION:Join us for an inspiring evening of spoken word featuring Amanda Hawkins\, author of When I Say The Bones I Mean The Bones (2025\, Wandering Aengus Press). All poets are welcome to attend and share their own work in a supportive and creative space. Whether you’re performing or just listening\, come celebrate the power of poetry with us!
URL:https://figtreecoffee.com/event/poetry-night-featuring-amanda-hawkins/
LOCATION:The Fig Tree\, 217 Vernon Street\, Roseville\, CA\, 95678\, United States
CATEGORIES:Open Mic
ATTACH;FMTTYPE=image/png:https://figtreecoffee.com/wp-content/uploads/2025/02/Live-Music_20250217_214333_0000-1.png
END:VEVENT
BEGIN:VEVENT
DTSTART;TZID=America/Los_Angeles:20250220T180000
DTEND;TZID=America/Los_Angeles:20250220T210000
DTSTAMP:20260424T085413
CREATED:20250218T054830Z
LAST-MODIFIED:20250218T060354Z
UID:4197-1740074400-1740085200@figtreecoffee.com
SUMMARY:Jessica Jenkins; Annabelle Rodriguez
DESCRIPTION:Settle in for a night of live music! Jessica Jenkins kicks things off from 6-7 PM with her heartfelt performance\, followed by the captivating sounds of Annabelle Rodriguez from 7-9 PM. A perfect evening of music and good vibes awaits!
URL:https://figtreecoffee.com/event/jessica-jenkins-annabelle-rodriguez/
LOCATION:The Fig Tree\, 217 Vernon Street\, Roseville\, CA\, 95678\, United States
CATEGORIES:Open Mic
ATTACH;FMTTYPE=image/png:https://figtreecoffee.com/wp-content/uploads/2024/11/Live-Music-Purple-Nov-2024.png
END:VEVENT
BEGIN:VEVENT
DTSTART;TZID=America/Los_Angeles:20250221T180000
DTEND;TZID=America/Los_Angeles:20250221T210000
DTSTAMP:20260424T085413
CREATED:20250218T055401Z
LAST-MODIFIED:20250218T060417Z
UID:4202-1740160800-1740171600@figtreecoffee.com
SUMMARY:Brody Roberts; Brendan Speights; Esmé
DESCRIPTION:Join us for an evening of incredible live music! Brody Roberts starts the night from 6-7 PM with his signature sound\, followed by Brendan Speights from 7-8 PM bringing his captivating melodies. Then\, wrap up the night with the enchanting performance of Esmé from 8-9 PM. It’s the perfect way to unwind and enjoy great music!
URL:https://figtreecoffee.com/event/brody-roberts-brendan-speights-esme/
LOCATION:The Fig Tree\, 217 Vernon Street\, Roseville\, CA\, 95678\, United States
CATEGORIES:Open Mic
ATTACH;FMTTYPE=image/png:https://figtreecoffee.com/wp-content/uploads/2025/02/Live-Music_20250217_215316_0000.png
END:VEVENT
BEGIN:VEVENT
DTSTART;TZID=America/Los_Angeles:20250222T170000
DTEND;TZID=America/Los_Angeles:20250222T210000
DTSTAMP:20260424T085413
CREATED:20250218T053752Z
LAST-MODIFIED:20250218T053752Z
UID:4191-1740243600-1740258000@figtreecoffee.com
SUMMARY:Open Mic Night
DESCRIPTION:Calling all performers and music lovers! Join us for an electrifying Open Mic Night where you can showcase your talents or simply enjoy an evening of diverse performances. It’s your stage\, your moment – let the music and creativity flow! \nRules are as follows: \n1. All materials must be family-friendly. \n2. The signup list will be available at 5 PM in-house. Time slots will be first come first serve. \n3. We encourage each other and create a positive environment\, whether big or small. \nWe hope to see you there!
URL:https://figtreecoffee.com/event/open-mic-night-100/
LOCATION:The Fig Tree\, 217 Vernon Street\, Roseville\, CA\, 95678\, United States
CATEGORIES:Open Mic
ATTACH;FMTTYPE=image/png:https://figtreecoffee.com/wp-content/uploads/2024/06/open-mic-Night.png
END:VEVENT
BEGIN:VEVENT
DTSTART;TZID=America/Los_Angeles:20250226T180000
DTEND;TZID=America/Los_Angeles:20250226T210000
DTSTAMP:20260424T085413
CREATED:20250225T052213Z
LAST-MODIFIED:20250225T052311Z
UID:4211-1740592800-1740603600@figtreecoffee.com
SUMMARY:Aiko Shimada Jazz Quartet; Ali & Donny
DESCRIPTION:Join us for an evening of captivating live music! \nFrom 6-7 PM\, the Aiko Shimada Jazz Quartet will bring their signature blend of smooth\, expressive jazz to set the perfect mood. \nThen\, from 7-9 PM\, Ali & Donny take the stage\, delivering a dynamic performance filled with soulful melodies and heartfelt harmonies. \nCome enjoy great music\, good company\, and your favorite drinks—see you there!
URL:https://figtreecoffee.com/event/aiko-shimada-jazz-quartet-ali-donny/
LOCATION:The Fig Tree\, 217 Vernon Street\, Roseville\, CA\, 95678\, United States
CATEGORIES:Open Mic
ATTACH;FMTTYPE=image/png:https://figtreecoffee.com/wp-content/uploads/2024/11/Live-Music-Purple-Nov-2024.png
END:VEVENT
BEGIN:VEVENT
DTSTART;TZID=America/Los_Angeles:20250227T180000
DTEND;TZID=America/Los_Angeles:20250227T210000
DTSTAMP:20260424T085413
CREATED:20250225T052457Z
LAST-MODIFIED:20250225T052457Z
UID:4213-1740679200-1740690000@figtreecoffee.com
SUMMARY:Sam Caylor; Tony Galioto
DESCRIPTION:Kick off your evening with the soulful sounds of Sam Caylor from 6-8 PM\, setting the perfect vibe for a night of live music. Then\, from 8-9 PM\, get ready for Tony Galioto to take the stage and deliver dynamic performances that will keep you captivated all night long.
URL:https://figtreecoffee.com/event/sam-caylor-tony-galioto/
LOCATION:The Fig Tree\, 217 Vernon Street\, Roseville\, CA\, 95678\, United States
CATEGORIES:Open Mic
ATTACH;FMTTYPE=image/png:https://figtreecoffee.com/wp-content/uploads/2025/02/Live-Music.png
END:VEVENT
END:VCALENDAR