BEGIN:VCALENDAR
VERSION:2.0
PRODID:-//The Fig Tree - ECPv6.15.20//NONSGML v1.0//EN
CALSCALE:GREGORIAN
METHOD:PUBLISH
X-ORIGINAL-URL:https://figtreecoffee.com
X-WR-CALDESC:Events for The Fig Tree
REFRESH-INTERVAL;VALUE=DURATION:PT1H
X-Robots-Tag:noindex
X-PUBLISHED-TTL:PT1H
BEGIN:VTIMEZONE
TZID:America/Los_Angeles
BEGIN:DAYLIGHT
TZOFFSETFROM:-0800
TZOFFSETTO:-0700
TZNAME:PDT
DTSTART:20240310T100000
END:DAYLIGHT
BEGIN:STANDARD
TZOFFSETFROM:-0700
TZOFFSETTO:-0800
TZNAME:PST
DTSTART:20241103T090000
END:STANDARD
BEGIN:DAYLIGHT
TZOFFSETFROM:-0800
TZOFFSETTO:-0700
TZNAME:PDT
DTSTART:20250309T100000
END:DAYLIGHT
BEGIN:STANDARD
TZOFFSETFROM:-0700
TZOFFSETTO:-0800
TZNAME:PST
DTSTART:20251102T090000
END:STANDARD
BEGIN:DAYLIGHT
TZOFFSETFROM:-0800
TZOFFSETTO:-0700
TZNAME:PDT
DTSTART:20260308T100000
END:DAYLIGHT
BEGIN:STANDARD
TZOFFSETFROM:-0700
TZOFFSETTO:-0800
TZNAME:PST
DTSTART:20261101T090000
END:STANDARD
END:VTIMEZONE
BEGIN:VEVENT
DTSTART;TZID=America/Los_Angeles:20250301T170000
DTEND;TZID=America/Los_Angeles:20250301T210000
DTSTAMP:20260424T072241
CREATED:20250225T052010Z
LAST-MODIFIED:20250225T052010Z
UID:4209-1740848400-1740862800@figtreecoffee.com
SUMMARY:Open Mic Night
DESCRIPTION:Calling all performers and music lovers! Join us for an electrifying Open Mic Night where you can showcase your talents or simply enjoy an evening of diverse performances. It’s your stage\, your moment – let the music and creativity flow! \nRules are as follows: \n1. All materials must be family-friendly. \n2. The signup list will be available at 5 PM in-house. Time slots will be first come first serve. \n3. We encourage each other and create a positive environment\, whether big or small. \nWe hope to see you there!
URL:https://figtreecoffee.com/event/open-mic-night-101/
LOCATION:The Fig Tree\, 217 Vernon Street\, Roseville\, CA\, 95678\, United States
CATEGORIES:Open Mic
ATTACH;FMTTYPE=image/png:https://figtreecoffee.com/wp-content/uploads/2024/06/open-mic-Night.png
END:VEVENT
BEGIN:VEVENT
DTSTART;TZID=America/Los_Angeles:20250308T170000
DTEND;TZID=America/Los_Angeles:20250308T210000
DTSTAMP:20260424T072241
CREATED:20250303T190104Z
LAST-MODIFIED:20250303T190104Z
UID:4218-1741453200-1741467600@figtreecoffee.com
SUMMARY:Open Mic Night
DESCRIPTION:Calling all performers and music lovers! Join us for an electrifying Open Mic Night where you can showcase your talents or simply enjoy an evening of diverse performances. It’s your stage\, your moment – let the music and creativity flow! \nRules are as follows: \n1. All materials must be family-friendly. \n2. The signup list will be available at 5 PM in-house. Time slots will be first come first serve. \n3. We encourage each other and create a positive environment\, whether big or small. \nWe hope to see you there!
URL:https://figtreecoffee.com/event/open-mic-night-102/
LOCATION:The Fig Tree\, 217 Vernon Street\, Roseville\, CA\, 95678\, United States
CATEGORIES:Open Mic
ATTACH;FMTTYPE=image/png:https://figtreecoffee.com/wp-content/uploads/2024/06/open-mic-Night.png
END:VEVENT
BEGIN:VEVENT
DTSTART;TZID=America/Los_Angeles:20250313T180000
DTEND;TZID=America/Los_Angeles:20250313T210000
DTSTAMP:20260424T072241
CREATED:20250310T221210Z
LAST-MODIFIED:20250310T221210Z
UID:4260-1741888800-1741899600@figtreecoffee.com
SUMMARY:Lilliwillo; Sons of Sam Trio
DESCRIPTION:Enjoy an evening of live music with Lilliwillo from 6-7 PM\, followed by the Sons of Sam Trio bringing their fusion sound from 7-9 PM. Pair the night with one of our monthly specials and make it a night to remember!
URL:https://figtreecoffee.com/event/lilliwillo-sons-of-sam-trio/
LOCATION:The Fig Tree\, 217 Vernon Street\, Roseville\, CA\, 95678\, United States
CATEGORIES:Open Mic
ATTACH;FMTTYPE=image/png:https://figtreecoffee.com/wp-content/uploads/2025/03/Live-Music.png
END:VEVENT
BEGIN:VEVENT
DTSTART;TZID=America/Los_Angeles:20250314T180000
DTEND;TZID=America/Los_Angeles:20250314T210000
DTSTAMP:20260424T072241
CREATED:20250310T222017Z
LAST-MODIFIED:20250310T222017Z
UID:4263-1741975200-1741986000@figtreecoffee.com
SUMMARY:Rumi Shimada Band; Aiko Shimada & Friends
DESCRIPTION:Enjoy an evening of captivating live music with the Rumi Shimada Band from 6-7 PM\, followed by Aiko Shimada & Friends from 7-9 PM. Relax with great company\, indulge in our monthly specials\, and let the music set the perfect mood!
URL:https://figtreecoffee.com/event/rumi-shimada-band-aiko-shimada-friends/
LOCATION:The Fig Tree\, 217 Vernon Street\, Roseville\, CA\, 95678\, United States
CATEGORIES:Open Mic
ATTACH;FMTTYPE=image/png:https://figtreecoffee.com/wp-content/uploads/2025/03/Rumi-Shimada-Band.png
END:VEVENT
BEGIN:VEVENT
DTSTART;TZID=America/Los_Angeles:20250315T170000
DTEND;TZID=America/Los_Angeles:20250315T210000
DTSTAMP:20260424T072241
CREATED:20250303T190108Z
LAST-MODIFIED:20250303T190108Z
UID:4219-1742058000-1742072400@figtreecoffee.com
SUMMARY:Open Mic Night
DESCRIPTION:Calling all performers and music lovers! Join us for an electrifying Open Mic Night where you can showcase your talents or simply enjoy an evening of diverse performances. It’s your stage\, your moment – let the music and creativity flow! \nRules are as follows: \n1. All materials must be family-friendly. \n2. The signup list will be available at 5 PM in-house. Time slots will be first come first serve. \n3. We encourage each other and create a positive environment\, whether big or small. \nWe hope to see you there!
URL:https://figtreecoffee.com/event/open-mic-night-103/
LOCATION:The Fig Tree\, 217 Vernon Street\, Roseville\, CA\, 95678\, United States
CATEGORIES:Open Mic
ATTACH;FMTTYPE=image/png:https://figtreecoffee.com/wp-content/uploads/2024/06/open-mic-Night.png
END:VEVENT
BEGIN:VEVENT
DTSTART;TZID=America/Los_Angeles:20250322T170000
DTEND;TZID=America/Los_Angeles:20250322T210000
DTSTAMP:20260424T072241
CREATED:20250303T190112Z
LAST-MODIFIED:20250303T190112Z
UID:4220-1742662800-1742677200@figtreecoffee.com
SUMMARY:Open Mic Night
DESCRIPTION:Calling all performers and music lovers! Join us for an electrifying Open Mic Night where you can showcase your talents or simply enjoy an evening of diverse performances. It’s your stage\, your moment – let the music and creativity flow! \nRules are as follows: \n1. All materials must be family-friendly. \n2. The signup list will be available at 5 PM in-house. Time slots will be first come first serve. \n3. We encourage each other and create a positive environment\, whether big or small. \nWe hope to see you there!
URL:https://figtreecoffee.com/event/open-mic-night-104/
LOCATION:The Fig Tree\, 217 Vernon Street\, Roseville\, CA\, 95678\, United States
CATEGORIES:Open Mic
ATTACH;FMTTYPE=image/png:https://figtreecoffee.com/wp-content/uploads/2024/06/open-mic-Night.png
END:VEVENT
BEGIN:VEVENT
DTSTART;TZID=America/Los_Angeles:20250329T170000
DTEND;TZID=America/Los_Angeles:20250329T210000
DTSTAMP:20260424T072241
CREATED:20250303T190116Z
LAST-MODIFIED:20250303T190116Z
UID:4221-1743267600-1743282000@figtreecoffee.com
SUMMARY:Open Mic Night
DESCRIPTION:Calling all performers and music lovers! Join us for an electrifying Open Mic Night where you can showcase your talents or simply enjoy an evening of diverse performances. It’s your stage\, your moment – let the music and creativity flow! \nRules are as follows: \n1. All materials must be family-friendly. \n2. The signup list will be available at 5 PM in-house. Time slots will be first come first serve. \n3. We encourage each other and create a positive environment\, whether big or small. \nWe hope to see you there!
URL:https://figtreecoffee.com/event/open-mic-night-105/
LOCATION:The Fig Tree\, 217 Vernon Street\, Roseville\, CA\, 95678\, United States
CATEGORIES:Open Mic
ATTACH;FMTTYPE=image/png:https://figtreecoffee.com/wp-content/uploads/2024/06/open-mic-Night.png
END:VEVENT
END:VCALENDAR