BEGIN:VCALENDAR
VERSION:2.0
PRODID:-//The Fig Tree - ECPv6.15.20//NONSGML v1.0//EN
CALSCALE:GREGORIAN
METHOD:PUBLISH
X-ORIGINAL-URL:https://figtreecoffee.com
X-WR-CALDESC:Events for The Fig Tree
REFRESH-INTERVAL;VALUE=DURATION:PT1H
X-Robots-Tag:noindex
X-PUBLISHED-TTL:PT1H
BEGIN:VTIMEZONE
TZID:America/Los_Angeles
BEGIN:DAYLIGHT
TZOFFSETFROM:-0800
TZOFFSETTO:-0700
TZNAME:PDT
DTSTART:20240310T100000
END:DAYLIGHT
BEGIN:STANDARD
TZOFFSETFROM:-0700
TZOFFSETTO:-0800
TZNAME:PST
DTSTART:20241103T090000
END:STANDARD
BEGIN:DAYLIGHT
TZOFFSETFROM:-0800
TZOFFSETTO:-0700
TZNAME:PDT
DTSTART:20250309T100000
END:DAYLIGHT
BEGIN:STANDARD
TZOFFSETFROM:-0700
TZOFFSETTO:-0800
TZNAME:PST
DTSTART:20251102T090000
END:STANDARD
BEGIN:DAYLIGHT
TZOFFSETFROM:-0800
TZOFFSETTO:-0700
TZNAME:PDT
DTSTART:20260308T100000
END:DAYLIGHT
BEGIN:STANDARD
TZOFFSETFROM:-0700
TZOFFSETTO:-0800
TZNAME:PST
DTSTART:20261101T090000
END:STANDARD
END:VTIMEZONE
BEGIN:VEVENT
DTSTART;TZID=America/Los_Angeles:20250107T180000
DTEND;TZID=America/Los_Angeles:20250107T210000
DTSTAMP:20260424T121315
CREATED:20250106T235851Z
LAST-MODIFIED:20250106T235851Z
UID:4085-1736272800-1736283600@figtreecoffee.com
SUMMARY:Piano Night\, featuring Zachary Piazzisi\, the Gentleman in Black
DESCRIPTION:Enjoy an enchanting Piano Night with Zachary Piazzisi as he fills the room with soothing melodies from 6-9 PM. Settle in for a relaxing evening of music that will captivate your soul. Don’t miss it!
URL:https://figtreecoffee.com/event/piano-night-featuring-zachary-piazzisi-the-gentleman-in-black/
LOCATION:The Fig Tree\, 217 Vernon Street\, Roseville\, CA\, 95678\, United States
CATEGORIES:Piano Night
ATTACH;FMTTYPE=image/png:https://figtreecoffee.com/wp-content/uploads/2024/11/Zachary-Piazzisi.png
END:VEVENT
BEGIN:VEVENT
DTSTART;TZID=America/Los_Angeles:20250114T180000
DTEND;TZID=America/Los_Angeles:20250114T210000
DTSTAMP:20260424T121315
CREATED:20241210T021006Z
LAST-MODIFIED:20250113T181915Z
UID:4037-1736877600-1736888400@figtreecoffee.com
SUMMARY:Piano Night\, featuring Brenna Weeks
DESCRIPTION:Indulge in an enchanting evening of Piano Night with the talented Brenna Weeks. Join us for a musical journey as she fills the air with the timeless beauty of piano melodies from 6 pm to 9 pm.
URL:https://figtreecoffee.com/event/piano-night-featuring-brenna-weeks-19/
LOCATION:The Fig Tree\, 217 Vernon Street\, Roseville\, CA\, 95678\, United States
CATEGORIES:Piano Night
ATTACH;FMTTYPE=image/jpeg:https://figtreecoffee.com/wp-content/uploads/2024/02/Piano-Night-featuring-Brenna-Weeks-Vday.jpg
END:VEVENT
BEGIN:VEVENT
DTSTART;TZID=America/Los_Angeles:20250121T180000
DTEND;TZID=America/Los_Angeles:20250121T210000
DTSTAMP:20260424T121315
CREATED:20250121T050208Z
LAST-MODIFIED:20250121T050208Z
UID:4108-1737482400-1737493200@figtreecoffee.com
SUMMARY:Piano Night\, featuring Leslie W.
DESCRIPTION:Indulge in an enchanting evening of Piano Night with Leslie W. from 6-9 pm. Join us for a soulful journey through captivating melodies and musical brilliance.
URL:https://figtreecoffee.com/event/piano-night-featuring-leslie-w-4/
LOCATION:The Fig Tree\, 217 Vernon Street\, Roseville\, CA\, 95678\, United States
CATEGORIES:Piano Night
ATTACH;FMTTYPE=image/jpeg:https://figtreecoffee.com/wp-content/uploads/2024/09/Live-Music_20240916_172259_0000.jpg
END:VEVENT
BEGIN:VEVENT
DTSTART;TZID=America/Los_Angeles:20250128T180000
DTEND;TZID=America/Los_Angeles:20250128T210000
DTSTAMP:20260424T121315
CREATED:20250128T232824Z
LAST-MODIFIED:20250128T232824Z
UID:4131-1738087200-1738098000@figtreecoffee.com
SUMMARY:Piano Night\, featuring Zachary Piazzisi
DESCRIPTION:Enjoy an enchanting Piano Night with Zachary Piazzisi as he fills the room with soothing melodies from 6-9 PM. Settle in for a relaxing evening of music that will captivate your soul. Don’t miss it!
URL:https://figtreecoffee.com/event/piano-night-featuring-zachary-piazzisi-4/
LOCATION:The Fig Tree\, 217 Vernon Street\, Roseville\, CA\, 95678\, United States
CATEGORIES:Piano Night
ATTACH;FMTTYPE=image/png:https://figtreecoffee.com/wp-content/uploads/2024/11/Zachary-Piazzisi.png
END:VEVENT
END:VCALENDAR