BEGIN:VCALENDAR
VERSION:2.0
PRODID:-//The Fig Tree - ECPv6.15.20//NONSGML v1.0//EN
CALSCALE:GREGORIAN
METHOD:PUBLISH
X-ORIGINAL-URL:https://figtreecoffee.com
X-WR-CALDESC:Events for The Fig Tree
REFRESH-INTERVAL;VALUE=DURATION:PT1H
X-Robots-Tag:noindex
X-PUBLISHED-TTL:PT1H
BEGIN:VTIMEZONE
TZID:America/Los_Angeles
BEGIN:DAYLIGHT
TZOFFSETFROM:-0800
TZOFFSETTO:-0700
TZNAME:PDT
DTSTART:20250309T100000
END:DAYLIGHT
BEGIN:STANDARD
TZOFFSETFROM:-0700
TZOFFSETTO:-0800
TZNAME:PST
DTSTART:20251102T090000
END:STANDARD
BEGIN:DAYLIGHT
TZOFFSETFROM:-0800
TZOFFSETTO:-0700
TZNAME:PDT
DTSTART:20260308T100000
END:DAYLIGHT
BEGIN:STANDARD
TZOFFSETFROM:-0700
TZOFFSETTO:-0800
TZNAME:PST
DTSTART:20261101T090000
END:STANDARD
BEGIN:DAYLIGHT
TZOFFSETFROM:-0800
TZOFFSETTO:-0700
TZNAME:PDT
DTSTART:20270314T100000
END:DAYLIGHT
BEGIN:STANDARD
TZOFFSETFROM:-0700
TZOFFSETTO:-0800
TZNAME:PST
DTSTART:20271107T090000
END:STANDARD
END:VTIMEZONE
BEGIN:VEVENT
DTSTART;TZID=America/Los_Angeles:20260303T180000
DTEND;TZID=America/Los_Angeles:20260303T210000
DTSTAMP:20260423T150654
CREATED:20260302T210328Z
LAST-MODIFIED:20260302T210328Z
UID:7106-1772560800-1772571600@figtreecoffee.com
SUMMARY:Piano Night\, featuring Zachary Piazzisi
DESCRIPTION:Enjoy an enchanting Piano Night with Zachary Piazzisi as he fills the room with soothing melodies from 6-9 PM. Settle in for a relaxing evening of music that will captivate your soul. Don’t miss it!
URL:https://figtreecoffee.com/event/piano-night-featuring-zachary-piazzisi-29/
LOCATION:The Fig Tree\, 217 Vernon Street\, Roseville\, CA\, 95678\, United States
CATEGORIES:Piano Night
ATTACH;FMTTYPE=image/png:https://figtreecoffee.com/wp-content/uploads/2025/11/Zachary-Piazzisi.png
END:VEVENT
BEGIN:VEVENT
DTSTART;TZID=America/Los_Angeles:20260303T180000
DTEND;TZID=America/Los_Angeles:20260303T210000
DTSTAMP:20260423T150654
CREATED:20260311T022100Z
LAST-MODIFIED:20260311T022100Z
UID:7560-1772560800-1772571600@figtreecoffee.com
SUMMARY:Piano Night\, featuring David Brown
DESCRIPTION:Join us Tuesday for Piano Night with David Brown from 6–9 pm. Settle in with a monthly drink special\, bring a friend or enjoy a peaceful solo evening\, and let the live piano create the perfect midweek atmosphere.
URL:https://figtreecoffee.com/event/piano-night-featuring-david-brown-3/
LOCATION:The Fig Tree\, 217 Vernon Street\, Roseville\, CA\, 95678\, United States
CATEGORIES:Piano Night
ATTACH;FMTTYPE=image/png:https://figtreecoffee.com/wp-content/uploads/2025/11/Live-Music-1.png
END:VEVENT
BEGIN:VEVENT
DTSTART;TZID=America/Los_Angeles:20260312T180000
DTEND;TZID=America/Los_Angeles:20260312T210000
DTSTAMP:20260423T150654
CREATED:20260311T024104Z
LAST-MODIFIED:20260311T024215Z
UID:7566-1773338400-1773349200@figtreecoffee.com
SUMMARY:Brenna Weeks; Seth Kaminsky
DESCRIPTION:Ease into Thursday evening with Brenna Weeks from 6–7 pm\, followed by Seth Kaminsky from 7–9 pm. Bring a friend\, plan a relaxed date night\, or enjoy a quiet solo evening while sipping one of our monthly drink specials and settling into the cozy atmosphere.
URL:https://figtreecoffee.com/event/brenna-weeks-seth-kaminsky/
LOCATION:The Fig Tree\, 217 Vernon Street\, Roseville\, CA\, 95678\, United States
CATEGORIES:Piano Night
ATTACH;FMTTYPE=image/jpeg:https://figtreecoffee.com/wp-content/uploads/2024/02/Piano-Night-featuring-Brenna-Weeks-Vday.jpg
END:VEVENT
BEGIN:VEVENT
DTSTART;TZID=America/Los_Angeles:20260317T180000
DTEND;TZID=America/Los_Angeles:20260317T210000
DTSTAMP:20260423T150654
CREATED:20260317T230046Z
LAST-MODIFIED:20260317T230046Z
UID:7593-1773770400-1773781200@figtreecoffee.com
SUMMARY:Piano Night\, featuring Rece W; Soap; Tae Sierra
DESCRIPTION:Join us for Piano Night featuring a great lineup of local talent. Rece W opens the evening from 6–7 pm\, followed by Soap from 7–7:30 pm\, with Tae Sierra closing the night from 7:30–8:30 pm. Settle in with friends or enjoy a peaceful solo evening while sipping one of our monthly drink specials and taking in the live music.
URL:https://figtreecoffee.com/event/piano-night-featuring-rece-w-soap-tae-sierra/
LOCATION:The Fig Tree\, 217 Vernon Street\, Roseville\, CA\, 95678\, United States
CATEGORIES:Piano Night
ATTACH;FMTTYPE=image/png:https://figtreecoffee.com/wp-content/uploads/2026/03/piano-night-6-9-pm.png
END:VEVENT
BEGIN:VEVENT
DTSTART;TZID=America/Los_Angeles:20260317T183000
DTEND;TZID=America/Los_Angeles:20260317T210000
DTSTAMP:20260423T150654
CREATED:20260323T234037Z
LAST-MODIFIED:20260323T234037Z
UID:7650-1773772200-1773781200@figtreecoffee.com
SUMMARY:Piano Night\, featuring Gentleman in Black
DESCRIPTION:Join us for Piano Night featuring local talent Gentleman in Black. Settle in with friends or enjoy a peaceful solo evening while sipping one of our monthly drink specials and taking in the live music.
URL:https://figtreecoffee.com/event/piano-night-featuring-gentleman-in-black/
LOCATION:The Fig Tree\, 217 Vernon Street\, Roseville\, CA\, 95678\, United States
CATEGORIES:Piano Night
ATTACH;FMTTYPE=image/png:https://figtreecoffee.com/wp-content/uploads/2026/03/piano-night.png
END:VEVENT
BEGIN:VEVENT
DTSTART;TZID=America/Los_Angeles:20260331T180000
DTEND;TZID=America/Los_Angeles:20260331T210000
DTSTAMP:20260423T150654
CREATED:20260331T184600Z
LAST-MODIFIED:20260331T184600Z
UID:8528-1774980000-1774990800@figtreecoffee.com
SUMMARY:Piano Night\, featuring Rece W
DESCRIPTION:Join us for Piano Night featuring Rece W. Settle in with friends or enjoy a peaceful solo evening while sipping one of our monthly drink specials and taking in the live music.
URL:https://figtreecoffee.com/event/piano-night-featuring-rece-w/
LOCATION:The Fig Tree\, 217 Vernon Street\, Roseville\, CA\, 95678\, United States
CATEGORIES:Piano Night
ATTACH;FMTTYPE=image/png:https://figtreecoffee.com/wp-content/uploads/2026/03/piano-night-6-9-pm.png
END:VEVENT
END:VCALENDAR