BEGIN:VCALENDAR
VERSION:2.0
PRODID:-//The Fig Tree - ECPv6.15.20//NONSGML v1.0//EN
CALSCALE:GREGORIAN
METHOD:PUBLISH
X-WR-CALNAME:The Fig Tree
X-ORIGINAL-URL:https://figtreecoffee.com
X-WR-CALDESC:Events for The Fig Tree
REFRESH-INTERVAL;VALUE=DURATION:PT1H
X-Robots-Tag:noindex
X-PUBLISHED-TTL:PT1H
BEGIN:VTIMEZONE
TZID:America/Los_Angeles
BEGIN:DAYLIGHT
TZOFFSETFROM:-0800
TZOFFSETTO:-0700
TZNAME:PDT
DTSTART:20230312T100000
END:DAYLIGHT
BEGIN:STANDARD
TZOFFSETFROM:-0700
TZOFFSETTO:-0800
TZNAME:PST
DTSTART:20231105T090000
END:STANDARD
BEGIN:DAYLIGHT
TZOFFSETFROM:-0800
TZOFFSETTO:-0700
TZNAME:PDT
DTSTART:20240310T100000
END:DAYLIGHT
BEGIN:STANDARD
TZOFFSETFROM:-0700
TZOFFSETTO:-0800
TZNAME:PST
DTSTART:20241103T090000
END:STANDARD
BEGIN:DAYLIGHT
TZOFFSETFROM:-0800
TZOFFSETTO:-0700
TZNAME:PDT
DTSTART:20250309T100000
END:DAYLIGHT
BEGIN:STANDARD
TZOFFSETFROM:-0700
TZOFFSETTO:-0800
TZNAME:PST
DTSTART:20251102T090000
END:STANDARD
END:VTIMEZONE
BEGIN:VEVENT
DTSTART;TZID=America/Los_Angeles:20240528T180000
DTEND;TZID=America/Los_Angeles:20240528T210000
DTSTAMP:20260425T094359
CREATED:20240528T203559Z
LAST-MODIFIED:20240528T203559Z
UID:3591-1716919200-1716930000@figtreecoffee.com
SUMMARY:Piano Night\, featuring Brenna Weeks
DESCRIPTION:Indulge in an enchanting evening of Piano Night with the talented Brenna Weeks. Join us for a musical journey as she fills the air with the timeless beauty of piano melodies from 6 pm to 9 pm.
URL:https://figtreecoffee.com/event/piano-night-featuring-brenna-weeks-8/
LOCATION:The Fig Tree\, 217 Vernon Street\, Roseville\, CA\, 95678\, United States
CATEGORIES:Piano Night
ATTACH;FMTTYPE=image/jpeg:https://figtreecoffee.com/wp-content/uploads/2024/02/Piano-Night-featuring-Brenna-Weeks-Vday.jpg
END:VEVENT
BEGIN:VEVENT
DTSTART;TZID=America/Los_Angeles:20240604T180000
DTEND;TZID=America/Los_Angeles:20240604T210000
DTSTAMP:20260425T094359
CREATED:20240604T001409Z
LAST-MODIFIED:20240604T001409Z
UID:3608-1717524000-1717534800@figtreecoffee.com
SUMMARY:Piano Night\, featuring Leslie R.
DESCRIPTION:Indulge in an enchanting evening of Piano Night with Leslie R. from 6-9 pm. Join us for a soulful journey through captivating melodies and musical brilliance.
URL:https://figtreecoffee.com/event/piano-night-featuring-leslie-r-3/
LOCATION:The Fig Tree\, 217 Vernon Street\, Roseville\, CA\, 95678\, United States
CATEGORIES:Piano Night
ATTACH;FMTTYPE=image/png:https://figtreecoffee.com/wp-content/uploads/2024/04/Piano-Night-featuring-Leslie-R-1.png
END:VEVENT
BEGIN:VEVENT
DTSTART;TZID=America/Los_Angeles:20240611T180000
DTEND;TZID=America/Los_Angeles:20240611T210000
DTSTAMP:20260425T094359
CREATED:20240610T230404Z
LAST-MODIFIED:20240610T230404Z
UID:3628-1718128800-1718139600@figtreecoffee.com
SUMMARY:Piano Night\, featuring Brenna Weeks
DESCRIPTION:Indulge in an enchanting evening of Piano Night with the talented Brenna Weeks. Join us for a musical journey as she fills the air with the timeless beauty of piano melodies from 6 pm to 9 pm.
URL:https://figtreecoffee.com/event/piano-night-featuring-brenna-weeks-9/
LOCATION:The Fig Tree\, 217 Vernon Street\, Roseville\, CA\, 95678\, United States
CATEGORIES:Piano Night
ATTACH;FMTTYPE=image/jpeg:https://figtreecoffee.com/wp-content/uploads/2024/02/Piano-Night-featuring-Brenna-Weeks-Vday.jpg
END:VEVENT
BEGIN:VEVENT
DTSTART;TZID=America/Los_Angeles:20240618T180000
DTEND;TZID=America/Los_Angeles:20240618T210000
DTSTAMP:20260425T094359
CREATED:20240619T024016Z
LAST-MODIFIED:20240619T024016Z
UID:3652-1718733600-1718744400@figtreecoffee.com
SUMMARY:Piano Night\, featuring Rachel Mullen
DESCRIPTION:Join us for an exquisite evening of Piano Night featuring the talented Rachel Mullen\, enchanting your senses from 6-9 pm. Immerse yourself in the timeless beauty of piano melodies and let the music weave a captivating experience.
URL:https://figtreecoffee.com/event/piano-night-featuring-rachel-mullen-10/
LOCATION:The Fig Tree\, 217 Vernon Street\, Roseville\, CA\, 95678\, United States
CATEGORIES:Piano Night
ATTACH;FMTTYPE=image/png:https://figtreecoffee.com/wp-content/uploads/2024/01/Piano-Night-featuring-Rachel-Mullen.png
END:VEVENT
BEGIN:VEVENT
DTSTART;TZID=America/Los_Angeles:20240625T180000
DTEND;TZID=America/Los_Angeles:20240625T210000
DTSTAMP:20260425T094359
CREATED:20240624T183234Z
LAST-MODIFIED:20240624T183234Z
UID:3666-1719338400-1719349200@figtreecoffee.com
SUMMARY:Piano Night\, featuring Brenna Weeks
DESCRIPTION:Indulge in an enchanting evening of Piano Night with the talented Brenna Weeks. Join us for a musical journey as she fills the air with the timeless beauty of piano melodies from 6 pm to 9 pm.
URL:https://figtreecoffee.com/event/piano-night-featuring-brenna-weeks-10/
LOCATION:The Fig Tree\, 217 Vernon Street\, Roseville\, CA\, 95678\, United States
CATEGORIES:Piano Night
ATTACH;FMTTYPE=image/jpeg:https://figtreecoffee.com/wp-content/uploads/2024/02/Piano-Night-featuring-Brenna-Weeks-Vday.jpg
END:VEVENT
BEGIN:VEVENT
DTSTART;TZID=America/Los_Angeles:20240702T180000
DTEND;TZID=America/Los_Angeles:20240702T210000
DTSTAMP:20260425T094359
CREATED:20240702T011209Z
LAST-MODIFIED:20240702T011209Z
UID:3681-1719943200-1719954000@figtreecoffee.com
SUMMARY:Piano Night\, featuring Leslie R.
DESCRIPTION:Indulge in an enchanting evening of Piano Night with Leslie R. from 6-9 pm. Join us for a soulful journey through captivating melodies and musical brilliance.
URL:https://figtreecoffee.com/event/piano-night-featuring-leslie-r-4/
LOCATION:The Fig Tree\, 217 Vernon Street\, Roseville\, CA\, 95678\, United States
CATEGORIES:Piano Night
ATTACH;FMTTYPE=image/png:https://figtreecoffee.com/wp-content/uploads/2024/04/Piano-Night-featuring-Leslie-R-1.png
END:VEVENT
BEGIN:VEVENT
DTSTART;TZID=America/Los_Angeles:20240709T180000
DTEND;TZID=America/Los_Angeles:20240709T210000
DTSTAMP:20260425T094359
CREATED:20240709T002014Z
LAST-MODIFIED:20240709T002014Z
UID:3689-1720548000-1720558800@figtreecoffee.com
SUMMARY:Piano Night\, featuring Brenna Weeks
DESCRIPTION:Indulge in an enchanting evening of Piano Night with the talented Brenna Weeks. Join us for a musical journey as she fills the air with the timeless beauty of piano melodies from 6 pm to 9 pm.
URL:https://figtreecoffee.com/event/piano-night-featuring-brenna-weeks-11/
LOCATION:The Fig Tree\, 217 Vernon Street\, Roseville\, CA\, 95678\, United States
CATEGORIES:Piano Night
ATTACH;FMTTYPE=image/jpeg:https://figtreecoffee.com/wp-content/uploads/2024/02/Piano-Night-featuring-Brenna-Weeks-Vday.jpg
END:VEVENT
BEGIN:VEVENT
DTSTART;TZID=America/Los_Angeles:20240716T180000
DTEND;TZID=America/Los_Angeles:20240716T210000
DTSTAMP:20260425T094359
CREATED:20240716T152807Z
LAST-MODIFIED:20240716T152807Z
UID:3758-1721152800-1721163600@figtreecoffee.com
SUMMARY:Piano Night\, featuring Rachel Mullen
DESCRIPTION:Join us for an exquisite evening of Piano Night featuring the talented Rachel Mullen\, enchanting your senses from 6-9 pm. Immerse yourself in the timeless beauty of piano melodies and let the music weave a captivating experience.
URL:https://figtreecoffee.com/event/piano-night-featuring-rachel-mullen-11/
LOCATION:The Fig Tree\, 217 Vernon Street\, Roseville\, CA\, 95678\, United States
CATEGORIES:Piano Night
ATTACH;FMTTYPE=image/png:https://figtreecoffee.com/wp-content/uploads/2024/01/Piano-Night-featuring-Rachel-Mullen.png
END:VEVENT
BEGIN:VEVENT
DTSTART;TZID=America/Los_Angeles:20240723T180000
DTEND;TZID=America/Los_Angeles:20240723T210000
DTSTAMP:20260425T094359
CREATED:20240722T220836Z
LAST-MODIFIED:20240722T220836Z
UID:3774-1721757600-1721768400@figtreecoffee.com
SUMMARY:Piano Night\, featuring One Giant Fish
DESCRIPTION:Prepare for a mesmerizing evening of piano magic! Join us for Piano Night with One Giant Fish from 6-9 pm. Immerse yourself in a world of enchanting melodies and musical brilliance that will leave you spellbound.
URL:https://figtreecoffee.com/event/piano-night-featuring-one-giant-fish-6/
LOCATION:The Fig Tree\, 217 Vernon Street\, Roseville\, CA\, 95678\, United States
CATEGORIES:Piano Night
ATTACH;FMTTYPE=image/png:https://figtreecoffee.com/wp-content/uploads/2023/11/Piano-Night-One-Giant-Fish.png
END:VEVENT
BEGIN:VEVENT
DTSTART;TZID=America/Los_Angeles:20240730T180000
DTEND;TZID=America/Los_Angeles:20240730T210000
DTSTAMP:20260425T094359
CREATED:20240729T222025Z
LAST-MODIFIED:20240729T222025Z
UID:3786-1722362400-1722373200@figtreecoffee.com
SUMMARY:Piano Night\, featuring One Giant Fish
DESCRIPTION:Prepare for a mesmerizing evening of piano magic! Join us for Piano Night with One Giant Fish from 6-9 pm. Immerse yourself in a world of enchanting melodies and musical brilliance that will leave you spellbound.
URL:https://figtreecoffee.com/event/piano-night-featuring-one-giant-fish-7/
LOCATION:The Fig Tree\, 217 Vernon Street\, Roseville\, CA\, 95678\, United States
CATEGORIES:Piano Night
ATTACH;FMTTYPE=image/png:https://figtreecoffee.com/wp-content/uploads/2023/11/Piano-Night-One-Giant-Fish.png
END:VEVENT
BEGIN:VEVENT
DTSTART;TZID=America/Los_Angeles:20240813T180000
DTEND;TZID=America/Los_Angeles:20240813T210000
DTSTAMP:20260425T094359
CREATED:20240812T171754Z
LAST-MODIFIED:20240812T171754Z
UID:3809-1723572000-1723582800@figtreecoffee.com
SUMMARY:Piano Night\, featuring Brenna Weeks
DESCRIPTION:Indulge in an enchanting evening of Piano Night with the talented Brenna Weeks. Join us for a musical journey as she fills the air with the timeless beauty of piano melodies from 6 pm to 9 pm.
URL:https://figtreecoffee.com/event/piano-night-featuring-brenna-weeks-12/
LOCATION:The Fig Tree\, 217 Vernon Street\, Roseville\, CA\, 95678\, United States
CATEGORIES:Piano Night
ATTACH;FMTTYPE=image/jpeg:https://figtreecoffee.com/wp-content/uploads/2024/02/Piano-Night-featuring-Brenna-Weeks-Vday.jpg
END:VEVENT
BEGIN:VEVENT
DTSTART;TZID=America/Los_Angeles:20240820T180000
DTEND;TZID=America/Los_Angeles:20240820T210000
DTSTAMP:20260425T094359
CREATED:20240818T194106Z
LAST-MODIFIED:20240818T194106Z
UID:3821-1724176800-1724187600@figtreecoffee.com
SUMMARY:Piano Night\, featuring Rachel Mullen
DESCRIPTION:Join us for an exquisite evening of Piano Night featuring the talented Rachel Mullen\, enchanting your senses from 6-9 pm. Immerse yourself in the timeless beauty of piano melodies and let the music weave a captivating experience.
URL:https://figtreecoffee.com/event/piano-night-featuring-rachel-mullen-12/
LOCATION:The Fig Tree\, 217 Vernon Street\, Roseville\, CA\, 95678\, United States
CATEGORIES:Piano Night
ATTACH;FMTTYPE=image/png:https://figtreecoffee.com/wp-content/uploads/2024/01/Piano-Night-featuring-Rachel-Mullen.png
END:VEVENT
BEGIN:VEVENT
DTSTART;TZID=America/Los_Angeles:20240827T180000
DTEND;TZID=America/Los_Angeles:20240827T210000
DTSTAMP:20260425T094359
CREATED:20240826T035617Z
LAST-MODIFIED:20240826T035617Z
UID:3837-1724781600-1724792400@figtreecoffee.com
SUMMARY:Piano Night\, featuring Brenna Weeks
DESCRIPTION:Indulge in an enchanting evening of Piano Night with the talented Brenna Weeks. Join us for a musical journey as she fills the air with the timeless beauty of piano melodies from 6 pm to 9 pm.
URL:https://figtreecoffee.com/event/piano-night-featuring-brenna-weeks-13/
LOCATION:The Fig Tree\, 217 Vernon Street\, Roseville\, CA\, 95678\, United States
CATEGORIES:Piano Night
ATTACH;FMTTYPE=image/jpeg:https://figtreecoffee.com/wp-content/uploads/2024/02/Piano-Night-featuring-Brenna-Weeks-Vday.jpg
END:VEVENT
BEGIN:VEVENT
DTSTART;TZID=America/Los_Angeles:20240903T180000
DTEND;TZID=America/Los_Angeles:20240903T210000
DTSTAMP:20260425T094359
CREATED:20240902T015034Z
LAST-MODIFIED:20240902T015034Z
UID:3847-1725386400-1725397200@figtreecoffee.com
SUMMARY:Piano Night\, featuring Leslie R.
DESCRIPTION:Indulge in an enchanting evening of Piano Night with Leslie R. from 6-9 pm. Join us for a soulful journey through captivating melodies and musical brilliance.
URL:https://figtreecoffee.com/event/piano-night-featuring-leslie-r-5/
LOCATION:The Fig Tree\, 217 Vernon Street\, Roseville\, CA\, 95678\, United States
CATEGORIES:Piano Night
ATTACH;FMTTYPE=image/png:https://figtreecoffee.com/wp-content/uploads/2024/04/Piano-Night-featuring-Leslie-R-1.png
END:VEVENT
BEGIN:VEVENT
DTSTART;TZID=America/Los_Angeles:20240910T180000
DTEND;TZID=America/Los_Angeles:20240910T210000
DTSTAMP:20260425T094359
CREATED:20240909T231559Z
LAST-MODIFIED:20240909T231811Z
UID:3861-1725991200-1726002000@figtreecoffee.com
SUMMARY:Piano Night\, featuring Brenna Weeks
DESCRIPTION:Indulge in an enchanting evening of Piano Night with the talented Brenna Weeks. Join us for a musical journey as she fills the air with the timeless beauty of piano melodies from 6 pm to 9 pm.
URL:https://figtreecoffee.com/event/piano-night-featuring-brenna-weeks-14/
LOCATION:The Fig Tree\, 217 Vernon Street\, Roseville\, CA\, 95678\, United States
CATEGORIES:Piano Night
ATTACH;FMTTYPE=image/jpeg:https://figtreecoffee.com/wp-content/uploads/2024/02/Piano-Night-featuring-Brenna-Weeks-Vday.jpg
END:VEVENT
BEGIN:VEVENT
DTSTART;TZID=America/Los_Angeles:20240911T180000
DTEND;TZID=America/Los_Angeles:20240911T210000
DTSTAMP:20260425T094359
CREATED:20240909T232402Z
LAST-MODIFIED:20240909T232402Z
UID:3867-1726077600-1726088400@figtreecoffee.com
SUMMARY:Avery Henry; Rachel Mullen
DESCRIPTION:Join us for an unforgettable evening of live music! Avery Henry kicks off the night from 6-7 PM with his captivating performance\, followed by the soulful sounds of Rachel Mullen from 7-9 PM. Get comfortable\, enjoy the tunes\, and let the music be your guide tonight.
URL:https://figtreecoffee.com/event/avery-henry-rachel-mullen/
LOCATION:The Fig Tree\, 217 Vernon Street\, Roseville\, CA\, 95678\, United States
CATEGORIES:Piano Night
ATTACH;FMTTYPE=image/jpeg:https://figtreecoffee.com/wp-content/uploads/2024/06/Live-Music.jpg
END:VEVENT
BEGIN:VEVENT
DTSTART;TZID=America/Los_Angeles:20240917T180000
DTEND;TZID=America/Los_Angeles:20240917T210000
DTSTAMP:20260425T094359
CREATED:20240916T082942Z
LAST-MODIFIED:20240916T082942Z
UID:3870-1726596000-1726606800@figtreecoffee.com
SUMMARY:Piano Night\, featuring Leslie W.
DESCRIPTION:Indulge in an enchanting evening of Piano Night with Leslie W. from 6-9 pm. Join us for a soulful journey through captivating melodies and musical brilliance.
URL:https://figtreecoffee.com/event/piano-night-featuring-leslie-w/
LOCATION:The Fig Tree\, 217 Vernon Street\, Roseville\, CA\, 95678\, United States
CATEGORIES:Piano Night
ATTACH;FMTTYPE=image/jpeg:https://figtreecoffee.com/wp-content/uploads/2024/09/Live-Music_20240916_172259_0000.jpg
END:VEVENT
BEGIN:VEVENT
DTSTART;TZID=America/Los_Angeles:20240924T180000
DTEND;TZID=America/Los_Angeles:20240924T210000
DTSTAMP:20260425T094359
CREATED:20240923T160852Z
LAST-MODIFIED:20240923T160852Z
UID:3884-1727200800-1727211600@figtreecoffee.com
SUMMARY:Piano Night\, featuring Brenna Weeks
DESCRIPTION:Indulge in an enchanting evening of Piano Night with the talented Brenna Weeks. Join us for a musical journey as she fills the air with the timeless beauty of piano melodies from 6 pm to 9 pm.
URL:https://figtreecoffee.com/event/piano-night-featuring-brenna-weeks-15/
LOCATION:The Fig Tree\, 217 Vernon Street\, Roseville\, CA\, 95678\, United States
CATEGORIES:Piano Night
ATTACH;FMTTYPE=image/jpeg:https://figtreecoffee.com/wp-content/uploads/2024/02/Piano-Night-featuring-Brenna-Weeks-Vday.jpg
END:VEVENT
BEGIN:VEVENT
DTSTART;TZID=America/Los_Angeles:20241001T180000
DTEND;TZID=America/Los_Angeles:20241001T210000
DTSTAMP:20260425T094359
CREATED:20240930T222419Z
LAST-MODIFIED:20240930T222419Z
UID:3895-1727805600-1727816400@figtreecoffee.com
SUMMARY:Piano Night\, featuring Leslie W.
DESCRIPTION:Indulge in an enchanting evening of Piano Night with Leslie W. from 6-9 pm. Join us for a soulful journey through captivating melodies and musical brilliance.
URL:https://figtreecoffee.com/event/piano-night-featuring-leslie-w-2/
LOCATION:The Fig Tree\, 217 Vernon Street\, Roseville\, CA\, 95678\, United States
CATEGORIES:Piano Night
ATTACH;FMTTYPE=image/jpeg:https://figtreecoffee.com/wp-content/uploads/2024/09/Live-Music_20240916_172259_0000.jpg
END:VEVENT
BEGIN:VEVENT
DTSTART;TZID=America/Los_Angeles:20241008T180000
DTEND;TZID=America/Los_Angeles:20241008T210000
DTSTAMP:20260425T094359
CREATED:20241006T233629Z
LAST-MODIFIED:20241006T233629Z
UID:3894-1728410400-1728421200@figtreecoffee.com
SUMMARY:Piano Night\, featurin Zachary Piazzisi
DESCRIPTION:Enjoy an enchanting Piano Night with Zachary Piazzisi as he fills the room with soothing melodies from 6-9 PM. Settle in for a relaxing evening of music that will captivate your soul. Don’t miss it!
URL:https://figtreecoffee.com/event/piano-night-featurin-zachary-piazzisi/
LOCATION:The Fig Tree\, 217 Vernon Street\, Roseville\, CA\, 95678\, United States
CATEGORIES:Piano Night
ATTACH;FMTTYPE=image/jpeg:https://figtreecoffee.com/wp-content/uploads/2023/10/Piano-Night.jpg
END:VEVENT
BEGIN:VEVENT
DTSTART;TZID=America/Los_Angeles:20241015T180000
DTEND;TZID=America/Los_Angeles:20241015T210000
DTSTAMP:20260425T094359
CREATED:20241014T215610Z
LAST-MODIFIED:20241014T215610Z
UID:3915-1729015200-1729026000@figtreecoffee.com
SUMMARY:Piano Night\, featurin Zachary Piazzisi
DESCRIPTION:Enjoy an enchanting Piano Night with Zachary Piazzisi as he fills the room with soothing melodies from 6-9 PM. Settle in for a relaxing evening of music that will captivate your soul. Don’t miss it!
URL:https://figtreecoffee.com/event/piano-night-featurin-zachary-piazzisi-2/
LOCATION:The Fig Tree\, 217 Vernon Street\, Roseville\, CA\, 95678\, United States
CATEGORIES:Piano Night
ATTACH;FMTTYPE=image/jpeg:https://figtreecoffee.com/wp-content/uploads/2023/10/Piano-Night.jpg
END:VEVENT
BEGIN:VEVENT
DTSTART;TZID=America/Los_Angeles:20241022T180000
DTEND;TZID=America/Los_Angeles:20241022T210000
DTSTAMP:20260425T094359
CREATED:20241021T172507Z
LAST-MODIFIED:20241021T172507Z
UID:3931-1729620000-1729630800@figtreecoffee.com
SUMMARY:Piano Night\, featuring Brenna Weeks
DESCRIPTION:Indulge in an enchanting evening of Piano Night with the talented Brenna Weeks. Join us for a musical journey as she fills the air with the timeless beauty of piano melodies from 6 pm to 9 pm.
URL:https://figtreecoffee.com/event/piano-night-featuring-brenna-weeks-16/
LOCATION:The Fig Tree\, 217 Vernon Street\, Roseville\, CA\, 95678\, United States
CATEGORIES:Piano Night
ATTACH;FMTTYPE=image/jpeg:https://figtreecoffee.com/wp-content/uploads/2024/02/Piano-Night-featuring-Brenna-Weeks-Vday.jpg
END:VEVENT
BEGIN:VEVENT
DTSTART;TZID=America/Los_Angeles:20241029T180000
DTEND;TZID=America/Los_Angeles:20241029T210000
DTSTAMP:20260425T094359
CREATED:20241028T161351Z
LAST-MODIFIED:20241028T161351Z
UID:3943-1730224800-1730235600@figtreecoffee.com
SUMMARY:Piano Night\, featurin Zachary Piazzisi
DESCRIPTION:Enjoy an enchanting Piano Night with Zachary Piazzisi as he fills the room with soothing melodies from 6-9 PM. Settle in for a relaxing evening of music that will captivate your soul. Don’t miss it!
URL:https://figtreecoffee.com/event/piano-night-featurin-zachary-piazzisi-3/
LOCATION:The Fig Tree\, 217 Vernon Street\, Roseville\, CA\, 95678\, United States
CATEGORIES:Piano Night
ATTACH;FMTTYPE=image/jpeg:https://figtreecoffee.com/wp-content/uploads/2023/10/Piano-Night.jpg
END:VEVENT
BEGIN:VEVENT
DTSTART;TZID=America/Los_Angeles:20241105T180000
DTEND;TZID=America/Los_Angeles:20241105T210000
DTSTAMP:20260425T094359
CREATED:20241105T170459Z
LAST-MODIFIED:20241105T170459Z
UID:3967-1730829600-1730840400@figtreecoffee.com
SUMMARY:Piano Night\, featurin Zachary Piazzisi
DESCRIPTION:Enjoy an enchanting Piano Night with Zachary Piazzisi as he fills the room with soothing melodies from 6-9 PM. Settle in for a relaxing evening of music that will captivate your soul. Don’t miss it!
URL:https://figtreecoffee.com/event/piano-night-featurin-zachary-piazzisi-4/
LOCATION:The Fig Tree\, 217 Vernon Street\, Roseville\, CA\, 95678\, United States
CATEGORIES:Piano Night
ATTACH;FMTTYPE=image/jpeg:https://figtreecoffee.com/wp-content/uploads/2023/10/Piano-Night.jpg
END:VEVENT
BEGIN:VEVENT
DTSTART;TZID=America/Los_Angeles:20241112T180000
DTEND;TZID=America/Los_Angeles:20241112T210000
DTSTAMP:20260425T094359
CREATED:20241112T013910Z
LAST-MODIFIED:20241112T013910Z
UID:3971-1731434400-1731445200@figtreecoffee.com
SUMMARY:Piano Night\, featuring Brenna Weeks
DESCRIPTION:Indulge in an enchanting evening of Piano Night with the talented Brenna Weeks. Join us for a musical journey as she fills the air with the timeless beauty of piano melodies from 6 pm to 9 pm.
URL:https://figtreecoffee.com/event/piano-night-featuring-brenna-weeks-17/
LOCATION:The Fig Tree\, 217 Vernon Street\, Roseville\, CA\, 95678\, United States
CATEGORIES:Piano Night
ATTACH;FMTTYPE=image/jpeg:https://figtreecoffee.com/wp-content/uploads/2024/02/Piano-Night-featuring-Brenna-Weeks-Vday.jpg
END:VEVENT
BEGIN:VEVENT
DTSTART;TZID=America/Los_Angeles:20241119T180000
DTEND;TZID=America/Los_Angeles:20241119T210000
DTSTAMP:20260425T094359
CREATED:20241118T225610Z
LAST-MODIFIED:20241118T225610Z
UID:3997-1732039200-1732050000@figtreecoffee.com
SUMMARY:Piano Night\, featuring Zachary Piazzisi
DESCRIPTION:Enjoy an enchanting Piano Night with Zachary Piazzisi as he fills the room with soothing melodies from 6-9 PM. Settle in for a relaxing evening of music that will captivate your soul. Don’t miss it!
URL:https://figtreecoffee.com/event/piano-night-featuring-zachary-piazzisi/
LOCATION:The Fig Tree\, 217 Vernon Street\, Roseville\, CA\, 95678\, United States
CATEGORIES:Piano Night
ATTACH;FMTTYPE=image/png:https://figtreecoffee.com/wp-content/uploads/2024/11/Zachary-Piazzisi.png
END:VEVENT
BEGIN:VEVENT
DTSTART;TZID=America/Los_Angeles:20241126T180000
DTEND;TZID=America/Los_Angeles:20241126T210000
DTSTAMP:20260425T094359
CREATED:20241125T185613Z
LAST-MODIFIED:20241125T185613Z
UID:4013-1732644000-1732654800@figtreecoffee.com
SUMMARY:Piano Night\, featuring Brenna Weeks
DESCRIPTION:Indulge in an enchanting evening of Piano Night with the talented Brenna Weeks. Join us for a musical journey as she fills the air with the timeless beauty of piano melodies from 6 pm to 9 pm.
URL:https://figtreecoffee.com/event/piano-night-featuring-brenna-weeks-18/
LOCATION:The Fig Tree\, 217 Vernon Street\, Roseville\, CA\, 95678\, United States
CATEGORIES:Piano Night
ATTACH;FMTTYPE=image/jpeg:https://figtreecoffee.com/wp-content/uploads/2024/02/Piano-Night-featuring-Brenna-Weeks-Vday.jpg
END:VEVENT
BEGIN:VEVENT
DTSTART;TZID=America/Los_Angeles:20241203T180000
DTEND;TZID=America/Los_Angeles:20241203T210000
DTSTAMP:20260425T094359
CREATED:20241104T191213Z
LAST-MODIFIED:20241202T184859Z
UID:3957-1733248800-1733259600@figtreecoffee.com
SUMMARY:Piano Night\, featuring Leslie W.
DESCRIPTION:Indulge in an enchanting evening of Piano Night with Leslie W. from 6-9 pm. Join us for a soulful journey through captivating melodies and musical brilliance.
URL:https://figtreecoffee.com/event/piano-night-featuring-leslie-w-3/
LOCATION:The Fig Tree\, 217 Vernon Street\, Roseville\, CA\, 95678\, United States
CATEGORIES:Piano Night
ATTACH;FMTTYPE=image/jpeg:https://figtreecoffee.com/wp-content/uploads/2024/09/Live-Music_20240916_172259_0000.jpg
END:VEVENT
BEGIN:VEVENT
DTSTART;TZID=America/Los_Angeles:20241210T180000
DTEND;TZID=America/Los_Angeles:20241210T210000
DTSTAMP:20260425T094359
CREATED:20241210T190659Z
LAST-MODIFIED:20241210T190659Z
UID:4047-1733853600-1733864400@figtreecoffee.com
SUMMARY:Piano Night\, featuring Zachary Piazzisi
DESCRIPTION:Enjoy an enchanting Piano Night with Zachary Piazzisi as he fills the room with soothing melodies from 6-9 PM. Settle in for a relaxing evening of music that will captivate your soul. Don’t miss it!
URL:https://figtreecoffee.com/event/piano-night-featuring-zachary-piazzisi-2/
LOCATION:The Fig Tree\, 217 Vernon Street\, Roseville\, CA\, 95678\, United States
CATEGORIES:Piano Night
ATTACH;FMTTYPE=image/png:https://figtreecoffee.com/wp-content/uploads/2024/11/Zachary-Piazzisi.png
END:VEVENT
BEGIN:VEVENT
DTSTART;TZID=America/Los_Angeles:20241217T180000
DTEND;TZID=America/Los_Angeles:20241217T210000
DTSTAMP:20260425T094359
CREATED:20241216T180017Z
LAST-MODIFIED:20241216T180017Z
UID:4053-1734458400-1734469200@figtreecoffee.com
SUMMARY:Piano Night\, featuring Zachary Piazzisi
DESCRIPTION:Enjoy an enchanting Piano Night with Zachary Piazzisi as he fills the room with soothing melodies from 6-9 PM. Settle in for a relaxing evening of music that will captivate your soul. Don’t miss it!
URL:https://figtreecoffee.com/event/piano-night-featuring-zachary-piazzisi-3/
LOCATION:The Fig Tree\, 217 Vernon Street\, Roseville\, CA\, 95678\, United States
CATEGORIES:Piano Night
ATTACH;FMTTYPE=image/png:https://figtreecoffee.com/wp-content/uploads/2024/11/Zachary-Piazzisi.png
END:VEVENT
END:VCALENDAR