BEGIN:VCALENDAR
VERSION:2.0
PRODID:-//The Fig Tree - ECPv6.15.20//NONSGML v1.0//EN
CALSCALE:GREGORIAN
METHOD:PUBLISH
X-WR-CALNAME:The Fig Tree
X-ORIGINAL-URL:https://figtreecoffee.com
X-WR-CALDESC:Events for The Fig Tree
REFRESH-INTERVAL;VALUE=DURATION:PT1H
X-Robots-Tag:noindex
X-PUBLISHED-TTL:PT1H
BEGIN:VTIMEZONE
TZID:America/Los_Angeles
BEGIN:DAYLIGHT
TZOFFSETFROM:-0800
TZOFFSETTO:-0700
TZNAME:PDT
DTSTART:20210314T100000
END:DAYLIGHT
BEGIN:STANDARD
TZOFFSETFROM:-0700
TZOFFSETTO:-0800
TZNAME:PST
DTSTART:20211107T090000
END:STANDARD
BEGIN:DAYLIGHT
TZOFFSETFROM:-0800
TZOFFSETTO:-0700
TZNAME:PDT
DTSTART:20220313T100000
END:DAYLIGHT
BEGIN:STANDARD
TZOFFSETFROM:-0700
TZOFFSETTO:-0800
TZNAME:PST
DTSTART:20221106T090000
END:STANDARD
BEGIN:DAYLIGHT
TZOFFSETFROM:-0800
TZOFFSETTO:-0700
TZNAME:PDT
DTSTART:20230312T100000
END:DAYLIGHT
BEGIN:STANDARD
TZOFFSETFROM:-0700
TZOFFSETTO:-0800
TZNAME:PST
DTSTART:20231105T090000
END:STANDARD
BEGIN:DAYLIGHT
TZOFFSETFROM:-0800
TZOFFSETTO:-0700
TZNAME:PDT
DTSTART:20240310T100000
END:DAYLIGHT
BEGIN:STANDARD
TZOFFSETFROM:-0700
TZOFFSETTO:-0800
TZNAME:PST
DTSTART:20241103T090000
END:STANDARD
END:VTIMEZONE
BEGIN:VEVENT
DTSTART;TZID=America/Los_Angeles:20230228T180000
DTEND;TZID=America/Los_Angeles:20230228T210000
DTSTAMP:20260425T211012
CREATED:20230228T031328Z
LAST-MODIFIED:20230228T031328Z
UID:2369-1677607200-1677618000@figtreecoffee.com
SUMMARY:Jion & Alec Ogston
DESCRIPTION:Enjoy live music from Jion between 6 to 7 pm and Alec Ogston takes the stage from 7-9 pm.
URL:https://figtreecoffee.com/event/jion-alec-ogston-3/
LOCATION:The Fig Tree\, 217 Vernon Street\, Roseville\, CA\, 95678\, United States
CATEGORIES:Live Music
ATTACH;FMTTYPE=image/png:https://figtreecoffee.com/wp-content/uploads/2022/09/Live-Music.png
END:VEVENT
BEGIN:VEVENT
DTSTART;TZID=America/Los_Angeles:20230225T180000
DTEND;TZID=America/Los_Angeles:20230225T210000
DTSTAMP:20260425T211012
CREATED:20230222T081203Z
LAST-MODIFIED:20230222T081203Z
UID:2358-1677348000-1677358800@figtreecoffee.com
SUMMARY:Open Mic Night
DESCRIPTION:We hosted the best open mic\,\ntil’ Covid hit\, then we said sike!\nwe took it away\,\nuntil yesterday\,\nand now you can sing as you’d like! \nThat’s right! Our favorite event is back in action every Saturday this month! Rules are as follows: \n1. All materials must be family-friendly. \n2. The signup list will be available at 5 PM in-house. Time slots will be first come first serve. \n3. We encourage each other and create a positive environment\, no matter how big or small. \nThat being said\, we hope to see you there!
URL:https://figtreecoffee.com/event/open-mic-night-14/
LOCATION:The Fig Tree\, 217 Vernon Street\, Roseville\, CA\, 95678\, United States
CATEGORIES:Open Mic
ATTACH;FMTTYPE=image/jpeg:https://figtreecoffee.com/wp-content/uploads/2022/09/Open-Mic-Night.jpg
END:VEVENT
BEGIN:VEVENT
DTSTART;TZID=America/Los_Angeles:20230224T180000
DTEND;TZID=America/Los_Angeles:20230224T210000
DTSTAMP:20260425T211012
CREATED:20230222T081654Z
LAST-MODIFIED:20230222T081654Z
UID:2365-1677261600-1677272400@figtreecoffee.com
SUMMARY:Mischief & Polar Opposites
DESCRIPTION:Enjoy live music from Mischief between 6 to 7 pm. Polar Opposites takes the stage from 7 to 9 pm.
URL:https://figtreecoffee.com/event/mischief-polar-opposites/
LOCATION:The Fig Tree\, 217 Vernon Street\, Roseville\, CA\, 95678\, United States
CATEGORIES:Live Music
ATTACH;FMTTYPE=image/png:https://figtreecoffee.com/wp-content/uploads/2022/09/Live-Music.png
END:VEVENT
BEGIN:VEVENT
DTSTART;TZID=America/Los_Angeles:20230223T180000
DTEND;TZID=America/Los_Angeles:20230223T210000
DTSTAMP:20260425T211012
CREATED:20230222T081552Z
LAST-MODIFIED:20230222T081616Z
UID:2363-1677175200-1677186000@figtreecoffee.com
SUMMARY:AINA & Ken Teel
DESCRIPTION:Enjoy live music from AINA between 6 to 7 pm. Ken Teel w/ opener Josef Hanson takes the stage from 7:30 to 9 pm.
URL:https://figtreecoffee.com/event/aina-ken-teel/
LOCATION:The Fig Tree\, 217 Vernon Street\, Roseville\, CA\, 95678\, United States
CATEGORIES:Live Music
ATTACH;FMTTYPE=image/png:https://figtreecoffee.com/wp-content/uploads/2022/09/Live-Music.png
END:VEVENT
BEGIN:VEVENT
DTSTART;TZID=America/Los_Angeles:20230222T180000
DTEND;TZID=America/Los_Angeles:20230222T210000
DTSTAMP:20260425T211012
CREATED:20230222T081510Z
LAST-MODIFIED:20230222T081510Z
UID:2361-1677088800-1677099600@figtreecoffee.com
SUMMARY:Madison Lazark & Suitable Aces
DESCRIPTION:Young talent is like seeing history in the making. Don’t miss out on these bright voices\, with Madison Lazark starting at 6\, and Suitable Aces running at 7!
URL:https://figtreecoffee.com/event/madison-lazark-suitable-aces/
LOCATION:The Fig Tree\, 217 Vernon Street\, Roseville\, CA\, 95678\, United States
CATEGORIES:Live Music
ATTACH;FMTTYPE=image/jpeg:https://figtreecoffee.com/wp-content/uploads/2022/09/Rumi-Shimada-and-Madison-Lazark.jpg
END:VEVENT
BEGIN:VEVENT
DTSTART;TZID=America/Los_Angeles:20230221T180000
DTEND;TZID=America/Los_Angeles:20230221T210000
DTSTAMP:20260425T211012
CREATED:20230222T081433Z
LAST-MODIFIED:20230222T081433Z
UID:2354-1677002400-1677013200@figtreecoffee.com
SUMMARY:Madalyn Werntz & Seth Kaminsky w/ opener Josef Hanson
DESCRIPTION:Enjoy live music from Madalyn Werntz between 6 to 7 pm. Seth Kaminsky w/ opener Josef Hanson takes the stage from 7 to 9 pm.
URL:https://figtreecoffee.com/event/madalyn-werntz-seth-kaminsky-w-opener-josef-hanson/
LOCATION:The Fig Tree\, 217 Vernon Street\, Roseville\, CA\, 95678\, United States
CATEGORIES:Live Music
ATTACH;FMTTYPE=image/png:https://figtreecoffee.com/wp-content/uploads/2022/09/Live-Music.png
END:VEVENT
BEGIN:VEVENT
DTSTART;TZID=America/Los_Angeles:20230218T180000
DTEND;TZID=America/Los_Angeles:20230218T210000
DTSTAMP:20260425T211012
CREATED:20230215T064806Z
LAST-MODIFIED:20230215T064806Z
UID:2345-1676743200-1676754000@figtreecoffee.com
SUMMARY:Open Mic Night
DESCRIPTION:We hosted the best open mic\,\ntil’ Covid hit\, then we said sike!\nwe took it away\,\nuntil yesterday\,\nand now you can sing as you’d like! \nThat’s right! Our favorite event is back in action every Saturday this month! Rules are as follows: \n1. All materials must be family-friendly. \n2. The signup list will be available at 5 PM in-house. Time slots will be first come first serve. \n3. We encourage each other and create a positive environment\, no matter how big or small. \nThat being said\, we hope to see you there!
URL:https://figtreecoffee.com/event/open-mic-night-13/
LOCATION:The Fig Tree\, 217 Vernon Street\, Roseville\, CA\, 95678\, United States
CATEGORIES:Open Mic
ATTACH;FMTTYPE=image/jpeg:https://figtreecoffee.com/wp-content/uploads/2022/09/Open-Mic-Night.jpg
END:VEVENT
BEGIN:VEVENT
DTSTART;TZID=America/Los_Angeles:20230217T180000
DTEND;TZID=America/Los_Angeles:20230217T210000
DTSTAMP:20260425T211012
CREATED:20230215T065136Z
LAST-MODIFIED:20230215T065136Z
UID:2355-1676656800-1676667600@figtreecoffee.com
SUMMARY:Burch Bros
DESCRIPTION:Enjoy live music from Burch Bros\, 6 to 9 pm!
URL:https://figtreecoffee.com/event/burch-bros/
LOCATION:The Fig Tree\, 217 Vernon Street\, Roseville\, CA\, 95678\, United States
CATEGORIES:Live Music
ATTACH;FMTTYPE=image/png:https://figtreecoffee.com/wp-content/uploads/2022/09/Live-Music.png
END:VEVENT
BEGIN:VEVENT
DTSTART;TZID=America/Los_Angeles:20230216T180000
DTEND;TZID=America/Los_Angeles:20230216T210000
DTSTAMP:20260425T211012
CREATED:20230215T065051Z
LAST-MODIFIED:20230215T065051Z
UID:2351-1676570400-1676581200@figtreecoffee.com
SUMMARY:Sam Miller & Silver Linings
DESCRIPTION:Enjoy live music from Sam Miller between 6 to 7 pm. Silver Linings takes the stage from 7 to 9 pm.
URL:https://figtreecoffee.com/event/sam-miller-silver-linings/
LOCATION:The Fig Tree\, 217 Vernon Street\, Roseville\, CA\, 95678\, United States
CATEGORIES:Live Music
ATTACH;FMTTYPE=image/png:https://figtreecoffee.com/wp-content/uploads/2022/09/Live-Music.png
END:VEVENT
BEGIN:VEVENT
DTSTART;TZID=America/Los_Angeles:20230215T180000
DTEND;TZID=America/Los_Angeles:20230215T210000
DTSTAMP:20260425T211012
CREATED:20230215T064944Z
LAST-MODIFIED:20230215T064944Z
UID:2349-1676484000-1676494800@figtreecoffee.com
SUMMARY:Dalton McLaughlin & Daryla
DESCRIPTION:Enjoy live music from Dalton McLaughlin between 6 to 7 pm. Daryla takes the stage from 7 to 9 pm.
URL:https://figtreecoffee.com/event/dalton-mclaughlin-daryla/
LOCATION:The Fig Tree\, 217 Vernon Street\, Roseville\, CA\, 95678\, United States
CATEGORIES:Live Music
ATTACH;FMTTYPE=image/png:https://figtreecoffee.com/wp-content/uploads/2022/09/Live-Music.png
END:VEVENT
BEGIN:VEVENT
DTSTART;TZID=America/Los_Angeles:20230214T180000
DTEND;TZID=America/Los_Angeles:20230214T210000
DTSTAMP:20260425T211012
CREATED:20230215T064851Z
LAST-MODIFIED:20230215T064851Z
UID:2347-1676397600-1676408400@figtreecoffee.com
SUMMARY:Under the Canopy
DESCRIPTION:Enjoy live music from Under the Canopy\, 6 to 9 pm!
URL:https://figtreecoffee.com/event/under-the-canopy/
LOCATION:The Fig Tree\, 217 Vernon Street\, Roseville\, CA\, 95678\, United States
CATEGORIES:Live Music
ATTACH;FMTTYPE=image/png:https://figtreecoffee.com/wp-content/uploads/2022/09/Live-Music.png
END:VEVENT
BEGIN:VEVENT
DTSTART;TZID=America/Los_Angeles:20230128T180000
DTEND;TZID=America/Los_Angeles:20230128T210000
DTSTAMP:20260425T211012
CREATED:20230124T040550Z
LAST-MODIFIED:20230124T040550Z
UID:2343-1674928800-1674939600@figtreecoffee.com
SUMMARY:Open Mic Night
DESCRIPTION:We hosted the best open mic\,\ntil’ Covid hit\, then we said sike!\nwe took it away\,\nuntil yesterday\,\nand now you can sing as you’d like! \nThat’s right! Our favorite event is back in action every Saturday this month! Rules are as follows: \n1. All material must be family-friendly. \n2. The sign up list will be available at 5 PM in-house. Time slots will be first come first serve. \n3. We encourage each other and create a positive environment\, no matter how big or small. \nThat being said\, we hope to see you there!
URL:https://figtreecoffee.com/event/open-mic-night-12/
LOCATION:The Fig Tree\, 217 Vernon Street\, Roseville\, CA\, 95678\, United States
CATEGORIES:Open Mic
ATTACH;FMTTYPE=image/jpeg:https://figtreecoffee.com/wp-content/uploads/2022/09/Open-Mic-Night.jpg
END:VEVENT
BEGIN:VEVENT
DTSTART;TZID=America/Los_Angeles:20230126T180000
DTEND;TZID=America/Los_Angeles:20230126T210000
DTSTAMP:20260425T211012
CREATED:20230124T040458Z
LAST-MODIFIED:20230124T040458Z
UID:2339-1674756000-1674766800@figtreecoffee.com
SUMMARY:Brent Clark & Jion
DESCRIPTION:Enjoy live music from Brent Clark starting at 6\, and Alec Ogston at 7!
URL:https://figtreecoffee.com/event/brent-clark-jion/
LOCATION:The Fig Tree\, 217 Vernon Street\, Roseville\, CA\, 95678\, United States
CATEGORIES:Live Music
ATTACH;FMTTYPE=image/png:https://figtreecoffee.com/wp-content/uploads/2022/09/Live-Music.png
END:VEVENT
BEGIN:VEVENT
DTSTART;TZID=America/Los_Angeles:20230125T180000
DTEND;TZID=America/Los_Angeles:20230125T210000
DTSTAMP:20260425T211012
CREATED:20230124T040425Z
LAST-MODIFIED:20230124T040425Z
UID:2337-1674669600-1674680400@figtreecoffee.com
SUMMARY:Chase Novak & Jion
DESCRIPTION:Enjoy live music from Chase Novak starting at 6\, and Jion at 7!
URL:https://figtreecoffee.com/event/chase-novak-jion/
LOCATION:The Fig Tree\, 217 Vernon Street\, Roseville\, CA\, 95678\, United States
CATEGORIES:Live Music
ATTACH;FMTTYPE=image/png:https://figtreecoffee.com/wp-content/uploads/2022/09/Live-Music.png
END:VEVENT
BEGIN:VEVENT
DTSTART;TZID=America/Los_Angeles:20230124T180000
DTEND;TZID=America/Los_Angeles:20230124T210000
DTSTAMP:20260425T211012
CREATED:20230124T040348Z
LAST-MODIFIED:20230124T040348Z
UID:2335-1674583200-1674594000@figtreecoffee.com
SUMMARY:Don Rico De Castro & Bahena
DESCRIPTION:Enjoy live music from Don Rico De Castro starting at 6\, and Bahena at 7!
URL:https://figtreecoffee.com/event/don-rico-de-castro-bahena/
LOCATION:The Fig Tree\, 217 Vernon Street\, Roseville\, CA\, 95678\, United States
CATEGORIES:Live Music
ATTACH;FMTTYPE=image/png:https://figtreecoffee.com/wp-content/uploads/2022/09/Live-Music.png
END:VEVENT
BEGIN:VEVENT
DTSTART;TZID=America/Los_Angeles:20230106T180000
DTEND;TZID=America/Los_Angeles:20230106T210000
DTSTAMP:20260425T211012
CREATED:20230102T183844Z
LAST-MODIFIED:20230102T183844Z
UID:2330-1673028000-1673038800@figtreecoffee.com
SUMMARY:Madison Lazark & Rumi Shimada
DESCRIPTION:Young talent is like seeing history in the making. Don’t miss out on these bright voices\, with Madison Lazark starting at 6\, and Rumi Shimada running at 7!
URL:https://figtreecoffee.com/event/madison-lazark-rumi-shimada/
LOCATION:The Fig Tree\, 217 Vernon Street\, Roseville\, CA\, 95678\, United States
CATEGORIES:Live Music
ATTACH;FMTTYPE=image/jpeg:https://figtreecoffee.com/wp-content/uploads/2022/09/Rumi-Shimada-and-Madison-Lazark.jpg
END:VEVENT
BEGIN:VEVENT
DTSTART;TZID=America/Los_Angeles:20230105T180000
DTEND;TZID=America/Los_Angeles:20230105T210000
DTSTAMP:20260425T211012
CREATED:20230102T183738Z
LAST-MODIFIED:20230102T183738Z
UID:2328-1672941600-1672952400@figtreecoffee.com
SUMMARY:Theresa  & Dalton McLaughlin
DESCRIPTION:Enjoy live music from Theresa between 6 to 7 pm and Dalton McLaughlin takes the stage from 7 to 9 pm.
URL:https://figtreecoffee.com/event/theresa-dalton-mclaughlin/
LOCATION:The Fig Tree\, 217 Vernon Street\, Roseville\, CA\, 95678\, United States
CATEGORIES:Live Music
ATTACH;FMTTYPE=image/png:https://figtreecoffee.com/wp-content/uploads/2022/09/Live-Music.png
END:VEVENT
BEGIN:VEVENT
DTSTART;TZID=America/Los_Angeles:20230103T180000
DTEND;TZID=America/Los_Angeles:20230103T210000
DTSTAMP:20260425T211012
CREATED:20230102T183606Z
LAST-MODIFIED:20230102T183606Z
UID:2324-1672768800-1672779600@figtreecoffee.com
SUMMARY:Jion & Alec Ogston
DESCRIPTION:Enjoy live music from Jion between 6 to 7 pm and Alec Ogston takes the stage from 7-9 pm.
URL:https://figtreecoffee.com/event/jion-alec-ogston-2/
LOCATION:The Fig Tree\, 217 Vernon Street\, Roseville\, CA\, 95678\, United States
CATEGORIES:Live Music
ATTACH;FMTTYPE=image/png:https://figtreecoffee.com/wp-content/uploads/2022/09/Live-Music.png
END:VEVENT
BEGIN:VEVENT
DTSTART;TZID=America/Los_Angeles:20221223T180000
DTEND;TZID=America/Los_Angeles:20221223T210000
DTSTAMP:20260425T211012
CREATED:20221217T203004Z
LAST-MODIFIED:20221217T203004Z
UID:2320-1671818400-1671829200@figtreecoffee.com
SUMMARY:Dalton McLaughlin\, Jackson Irvine\, & Sara Jameison
DESCRIPTION:Enjoy live music from Dalton McLaughlin between 6 to 7 pm\, Jackson Irvine takes the stage 7 to 8 pm\, and Sara Jameison caps the night  8-9pm.
URL:https://figtreecoffee.com/event/dalton-mclaughlin-jackson-irvine-sara-jameison/
LOCATION:The Fig Tree\, 217 Vernon Street\, Roseville\, CA\, 95678\, United States
CATEGORIES:Live Music
ATTACH;FMTTYPE=image/png:https://figtreecoffee.com/wp-content/uploads/2022/09/Live-Music.png
END:VEVENT
BEGIN:VEVENT
DTSTART;TZID=America/Los_Angeles:20221222T180000
DTEND;TZID=America/Los_Angeles:20221222T210000
DTSTAMP:20260425T211012
CREATED:20221217T202708Z
LAST-MODIFIED:20221217T202708Z
UID:2318-1671732000-1671742800@figtreecoffee.com
SUMMARY:Octave Above
DESCRIPTION:Enjoy live music from Octave Above between 6 to 9 pm.
URL:https://figtreecoffee.com/event/octave-above/
LOCATION:The Fig Tree\, 217 Vernon Street\, Roseville\, CA\, 95678\, United States
CATEGORIES:Live Music
ATTACH;FMTTYPE=image/png:https://figtreecoffee.com/wp-content/uploads/2022/09/Live-Music.png
END:VEVENT
BEGIN:VEVENT
DTSTART;TZID=America/Los_Angeles:20221221T180000
DTEND;TZID=America/Los_Angeles:20221221T210000
DTSTAMP:20260425T211012
CREATED:20221217T202652Z
LAST-MODIFIED:20221217T202652Z
UID:2316-1671645600-1671656400@figtreecoffee.com
SUMMARY:One World
DESCRIPTION:Enjoy live music from One World between 6 to 9 pm.
URL:https://figtreecoffee.com/event/one-world/
LOCATION:The Fig Tree\, 217 Vernon Street\, Roseville\, CA\, 95678\, United States
CATEGORIES:Live Music
ATTACH;FMTTYPE=image/png:https://figtreecoffee.com/wp-content/uploads/2022/09/Live-Music.png
END:VEVENT
BEGIN:VEVENT
DTSTART;TZID=America/Los_Angeles:20221220T180000
DTEND;TZID=America/Los_Angeles:20221220T210000
DTSTAMP:20260425T211012
CREATED:20221217T202602Z
LAST-MODIFIED:20221217T202602Z
UID:2314-1671559200-1671570000@figtreecoffee.com
SUMMARY:Jion & Alec Ogston
DESCRIPTION:Enjoy live music from Jion between 6 to 7 pm and Alec Ogston takes the stage from 7-9 pm.
URL:https://figtreecoffee.com/event/jion-alec-ogston/
LOCATION:The Fig Tree\, 217 Vernon Street\, Roseville\, CA\, 95678\, United States
CATEGORIES:Live Music
ATTACH;FMTTYPE=image/png:https://figtreecoffee.com/wp-content/uploads/2022/09/Live-Music.png
END:VEVENT
BEGIN:VEVENT
DTSTART;TZID=America/Los_Angeles:20221210T180000
DTEND;TZID=America/Los_Angeles:20221210T210000
DTSTAMP:20260425T211012
CREATED:20221207T054154Z
LAST-MODIFIED:20221207T054154Z
UID:2283-1670695200-1670706000@figtreecoffee.com
SUMMARY:Open Mic Night
DESCRIPTION:We hosted the best open mic\,\ntil’ Covid hit\, then we said sike!\nwe took it away\,\nuntil yesterday\,\nand now you can sing as you’d like! \nThat’s right! Our favorite event is back in action every Saturday this month! Rules are as follows: \n1. All material must be family-friendly. \n2. The sign up list will be available at 5 PM in-house. Time slots will be first come first serve. \n3. We encourage each other and create a positive environment\, no matter how big or small. \nThat being said\, we hope to see you there!
URL:https://figtreecoffee.com/event/open-mic-night-11/
LOCATION:The Fig Tree\, 217 Vernon Street\, Roseville\, CA\, 95678\, United States
CATEGORIES:Open Mic
ATTACH;FMTTYPE=image/jpeg:https://figtreecoffee.com/wp-content/uploads/2022/09/Open-Mic-Night.jpg
END:VEVENT
BEGIN:VEVENT
DTSTART;TZID=America/Los_Angeles:20221209T180000
DTEND;TZID=America/Los_Angeles:20221209T210000
DTSTAMP:20260425T211012
CREATED:20221207T054618Z
LAST-MODIFIED:20221207T054618Z
UID:2293-1670608800-1670619600@figtreecoffee.com
SUMMARY:Euphemism Prism
DESCRIPTION:Enjoy live music from Euphemism Prism between 6 to 9 pm.
URL:https://figtreecoffee.com/event/euphemism-prism-2/
LOCATION:The Fig Tree\, 217 Vernon Street\, Roseville\, CA\, 95678\, United States
CATEGORIES:Live Music
ATTACH;FMTTYPE=image/png:https://figtreecoffee.com/wp-content/uploads/2022/09/Live-Music.png
END:VEVENT
BEGIN:VEVENT
DTSTART;TZID=America/Los_Angeles:20221208T180000
DTEND;TZID=America/Los_Angeles:20221208T210000
DTSTAMP:20260425T211012
CREATED:20221207T054535Z
LAST-MODIFIED:20221207T054551Z
UID:2290-1670522400-1670533200@figtreecoffee.com
SUMMARY:Sam Miller & Jion
DESCRIPTION:Enjoy live music from Sam Miller between 6 to 7 pm and Jion takes the stage from 8-9 pm.
URL:https://figtreecoffee.com/event/sam-miller/
LOCATION:The Fig Tree\, 217 Vernon Street\, Roseville\, CA\, 95678\, United States
CATEGORIES:Live Music
ATTACH;FMTTYPE=image/png:https://figtreecoffee.com/wp-content/uploads/2022/09/Live-Music.png
END:VEVENT
BEGIN:VEVENT
DTSTART;TZID=America/Los_Angeles:20221207T180000
DTEND;TZID=America/Los_Angeles:20221207T210000
DTSTAMP:20260425T211012
CREATED:20221207T054415Z
LAST-MODIFIED:20221207T054415Z
UID:2288-1670436000-1670446800@figtreecoffee.com
SUMMARY:Barista Night
DESCRIPTION:It’s Barista Night from 6 to 9 pm!
URL:https://figtreecoffee.com/event/barista-night/
LOCATION:The Fig Tree\, 217 Vernon Street\, Roseville\, CA\, 95678\, United States
ATTACH;FMTTYPE=image/jpeg:https://figtreecoffee.com/wp-content/uploads/2022/11/caramel-apple-cider.jpg
END:VEVENT
BEGIN:VEVENT
DTSTART;TZID=America/Los_Angeles:20221206T180000
DTEND;TZID=America/Los_Angeles:20221206T210000
DTSTAMP:20260425T211012
CREATED:20221207T054309Z
LAST-MODIFIED:20221207T054309Z
UID:2285-1670349600-1670360400@figtreecoffee.com
SUMMARY:Seth Kaminsky & Alec Ogston
DESCRIPTION:Enjoy music from Seth Kaminsky from 6 to 7 pm and Alec Ogston takes the stage from 7 to 9 pm.
URL:https://figtreecoffee.com/event/seth-kaminsky-alec-ogston/
LOCATION:The Fig Tree\, 217 Vernon Street\, Roseville\, CA\, 95678\, United States
CATEGORIES:Live Music
ATTACH;FMTTYPE=image/jpeg:https://figtreecoffee.com/wp-content/uploads/2022/12/Seth-Kaminsk.jpg
END:VEVENT
BEGIN:VEVENT
DTSTART;TZID=America/Los_Angeles:20221204T180000
DTEND;TZID=America/Los_Angeles:20221204T210000
DTSTAMP:20260425T211012
CREATED:20230102T183632Z
LAST-MODIFIED:20230102T183632Z
UID:2326-1670176800-1670187600@figtreecoffee.com
SUMMARY:Daryla
DESCRIPTION:Enjoy music from Daryla from 6 to 9 pm.
URL:https://figtreecoffee.com/event/daryla-3/
LOCATION:The Fig Tree\, 217 Vernon Street\, Roseville\, CA\, 95678\, United States
CATEGORIES:Live Music
ATTACH;FMTTYPE=image/png:https://figtreecoffee.com/wp-content/uploads/2022/09/Live-Music.png
END:VEVENT
BEGIN:VEVENT
DTSTART;TZID=America/Los_Angeles:20221203T180000
DTEND;TZID=America/Los_Angeles:20221203T210000
DTSTAMP:20260425T211012
CREATED:20221123T061353Z
LAST-MODIFIED:20221123T061353Z
UID:2275-1670090400-1670101200@figtreecoffee.com
SUMMARY:Open Mic Night
DESCRIPTION:We hosted the best open mic\,\ntil’ Covid hit\, then we said sike!\nwe took it away\,\nuntil yesterday\,\nand now you can sing as you’d like! \nThat’s right! Our favorite event is back in action every Saturday this month! Rules are as follows: \n1. All material must be family-friendly. \n2. The sign up list will be available at 5 PM in-house. Time slots will be first come first serve. \n3. We encourage each other and create a positive environment\, no matter how big or small. \nThat being said\, we hope to see you there!
URL:https://figtreecoffee.com/event/open-mic-night-10/
LOCATION:The Fig Tree\, 217 Vernon Street\, Roseville\, CA\, 95678\, United States
CATEGORIES:Open Mic
ATTACH;FMTTYPE=image/jpeg:https://figtreecoffee.com/wp-content/uploads/2022/09/Open-Mic-Night.jpg
END:VEVENT
BEGIN:VEVENT
DTSTART;TZID=America/Los_Angeles:20221202T180000
DTEND;TZID=America/Los_Angeles:20221202T210000
DTSTAMP:20260425T211012
CREATED:20221123T050527Z
LAST-MODIFIED:20221123T081952Z
UID:2270-1670004000-1670014800@figtreecoffee.com
SUMMARY:Wicked Little Sister
DESCRIPTION:Enjoy music from Wicked Little Sister from 6 to 8 pm and TDalton McLaughlin takes the stage from 8 to 9 pm.
URL:https://figtreecoffee.com/event/wicked-little-sister/
LOCATION:The Fig Tree\, 217 Vernon Street\, Roseville\, CA\, 95678\, United States
CATEGORIES:Live Music
ATTACH;FMTTYPE=image/jpeg:https://figtreecoffee.com/wp-content/uploads/2022/11/Wicked-Little-Sister.jpeg
END:VEVENT
END:VCALENDAR