BEGIN:VCALENDAR
VERSION:2.0
PRODID:-//The Fig Tree - ECPv6.15.20//NONSGML v1.0//EN
CALSCALE:GREGORIAN
METHOD:PUBLISH
X-WR-CALNAME:The Fig Tree
X-ORIGINAL-URL:https://figtreecoffee.com
X-WR-CALDESC:Events for The Fig Tree
REFRESH-INTERVAL;VALUE=DURATION:PT1H
X-Robots-Tag:noindex
X-PUBLISHED-TTL:PT1H
BEGIN:VTIMEZONE
TZID:America/Los_Angeles
BEGIN:DAYLIGHT
TZOFFSETFROM:-0800
TZOFFSETTO:-0700
TZNAME:PDT
DTSTART:20240310T100000
END:DAYLIGHT
BEGIN:STANDARD
TZOFFSETFROM:-0700
TZOFFSETTO:-0800
TZNAME:PST
DTSTART:20241103T090000
END:STANDARD
BEGIN:DAYLIGHT
TZOFFSETFROM:-0800
TZOFFSETTO:-0700
TZNAME:PDT
DTSTART:20250309T100000
END:DAYLIGHT
BEGIN:STANDARD
TZOFFSETFROM:-0700
TZOFFSETTO:-0800
TZNAME:PST
DTSTART:20251102T090000
END:STANDARD
BEGIN:DAYLIGHT
TZOFFSETFROM:-0800
TZOFFSETTO:-0700
TZNAME:PDT
DTSTART:20260308T100000
END:DAYLIGHT
BEGIN:STANDARD
TZOFFSETFROM:-0700
TZOFFSETTO:-0800
TZNAME:PST
DTSTART:20261101T090000
END:STANDARD
BEGIN:DAYLIGHT
TZOFFSETFROM:-0800
TZOFFSETTO:-0700
TZNAME:PDT
DTSTART:20270314T100000
END:DAYLIGHT
BEGIN:STANDARD
TZOFFSETFROM:-0700
TZOFFSETTO:-0800
TZNAME:PST
DTSTART:20271107T090000
END:STANDARD
END:VTIMEZONE
BEGIN:VEVENT
DTSTART;TZID=America/Los_Angeles:20260131T170000
DTEND;TZID=America/Los_Angeles:20260131T210000
DTSTAMP:20260423T153203
CREATED:20260127T230248Z
LAST-MODIFIED:20260127T230248Z
UID:6456-1769878800-1769893200@figtreecoffee.com
SUMMARY:Open Mic Night
DESCRIPTION:Calling all performers and music lovers! Join us for an electrifying Open Mic Night where you can showcase your talents or simply enjoy an evening of diverse performances. It’s your stage\, your moment – let the music and creativity flow! \nRules are as follows: \n1. All materials must be family-friendly. \n2. The signup list will be available at 5 PM in-house. Time slots will be first come first serve. \n3. We encourage each other and create a positive environment\, whether big or small. \nWe hope to see you there!
URL:https://figtreecoffee.com/event/open-mic-night-148/
LOCATION:The Fig Tree\, 217 Vernon Street\, Roseville\, CA\, 95678\, United States
CATEGORIES:Open Mic
ATTACH;FMTTYPE=image/png:https://figtreecoffee.com/wp-content/uploads/2025/11/OPEN-MIC-NIGHT.png
END:VEVENT
BEGIN:VEVENT
DTSTART;TZID=America/Los_Angeles:20260130T180000
DTEND;TZID=America/Los_Angeles:20260130T210000
DTSTAMP:20260423T153203
CREATED:20260127T230454Z
LAST-MODIFIED:20260127T230454Z
UID:6460-1769796000-1769806800@figtreecoffee.com
SUMMARY:Spotlight Sessions Young Artist Showcase
DESCRIPTION:Join us on Wednesday from 6–9 pm for our Spotlight Sessions Young Artist Showcase. It’s a night dedicated to celebrating rising local talent. Enjoy fresh performances\, bakery treats\, and cozy midweek vibes as you relax\, connect\, and support the next generation of musicians.
URL:https://figtreecoffee.com/event/spotlight-sessions-young-artist-showcase-5/
LOCATION:The Fig Tree\, 217 Vernon Street\, Roseville\, CA\, 95678\, United States
CATEGORIES:Live Music
ATTACH;FMTTYPE=image/png:https://figtreecoffee.com/wp-content/uploads/2025/12/Young-Artist-Showcase.png
END:VEVENT
BEGIN:VEVENT
DTSTART;TZID=America/Los_Angeles:20260129T180000
DTEND;TZID=America/Los_Angeles:20260129T204000
DTSTAMP:20260423T153203
CREATED:20260127T230411Z
LAST-MODIFIED:20260127T230411Z
UID:6458-1769709600-1769719200@figtreecoffee.com
SUMMARY:Thanks for the Ride; Gabrielle Star
DESCRIPTION:It’s a two-band Thursday with a great flow of live music. Thanks for the Ride kicks things off from 6 to 7:15 pm\, followed by Gabrielle Star from 7:30 to 8:40 pm. Grab a seasonal drink\, settle in with friends\, and enjoy a lively night that feels easy\, fun\, and perfectly timed.
URL:https://figtreecoffee.com/event/thanks-for-the-ride-gabrielle-star/
LOCATION:The Fig Tree\, 217 Vernon Street\, Roseville\, CA\, 95678\, United States
CATEGORIES:Live Music
ATTACH;FMTTYPE=image/png:https://figtreecoffee.com/wp-content/uploads/2025/12/Live-Music.png
END:VEVENT
BEGIN:VEVENT
DTSTART;TZID=America/Los_Angeles:20260128T180000
DTEND;TZID=America/Los_Angeles:20260128T210000
DTSTAMP:20260423T153203
CREATED:20260127T230152Z
LAST-MODIFIED:20260127T230152Z
UID:6454-1769623200-1769634000@figtreecoffee.com
SUMMARY:Jazmine Monterrosa; Tea Rose & Friends
DESCRIPTION:Enjoy a relaxed Wednesday evening filled with live local music. Under the Canopy performs from 6–8 pm\, followed by Jazmine Monterrosa from 8–9 pm. Grab a cozy drink\, enjoy a sweet treat\, and unwind with good music and welcoming vibes.
URL:https://figtreecoffee.com/event/jazmine-monterrosa-tea-rose-friends-2/
LOCATION:The Fig Tree\, 217 Vernon Street\, Roseville\, CA\, 95678\, United States
CATEGORIES:Live Music
ATTACH;FMTTYPE=image/jpeg:https://figtreecoffee.com/wp-content/uploads/2025/06/Jazmine-Monterrosa.jpg
END:VEVENT
BEGIN:VEVENT
DTSTART;TZID=America/Los_Angeles:20260127T180000
DTEND;TZID=America/Los_Angeles:20260127T210000
DTSTAMP:20260423T153203
CREATED:20260127T225830Z
LAST-MODIFIED:20260127T225830Z
UID:6452-1769536800-1769547600@figtreecoffee.com
SUMMARY:Piano Night\, featuring The Gentleman in Black
DESCRIPTION:Join us Tuesday for Piano Night with The Gentleman in Black from 6 to 9 pm. Enjoy an intimate evening of live piano\, cozy vibes\, and seasonal drinks that make it easy to unwind\, focus\, or simply soak in the music midweek.
URL:https://figtreecoffee.com/event/piano-night-featuring-the-gentleman-in-black/
LOCATION:The Fig Tree\, 217 Vernon Street\, Roseville\, CA\, 95678\, United States
CATEGORIES:Piano Night
ATTACH;FMTTYPE=image/png:https://figtreecoffee.com/wp-content/uploads/2025/11/Live-Music-1.png
END:VEVENT
BEGIN:VEVENT
DTSTART;TZID=America/Los_Angeles:20260124T180000
DTEND;TZID=America/Los_Angeles:20260124T210000
DTSTAMP:20260423T153203
CREATED:20260120T035443Z
LAST-MODIFIED:20260120T035521Z
UID:6352-1769277600-1769288400@figtreecoffee.com
SUMMARY:Fig Tree's 9 Year Anniversary
DESCRIPTION:Celebrate nine incredible years with us this Saturday as we toast to community\, creativity\, and unforgettable moments. Enjoy a lively evening filled with great energy\, seasonal drinks\, and a welcoming atmosphere perfect for relaxing with friends. Come be part of the celebration and make some new memories with us!
URL:https://figtreecoffee.com/event/fig-trees-9-year-anniversary/
LOCATION:The Fig Tree\, 217 Vernon Street\, Roseville\, CA\, 95678\, United States
CATEGORIES:Live Music
ATTACH;FMTTYPE=image/png:https://figtreecoffee.com/wp-content/uploads/2026/01/Anniversary-Celebration.png
END:VEVENT
BEGIN:VEVENT
DTSTART;TZID=America/Los_Angeles:20260124T170000
DTEND;TZID=America/Los_Angeles:20260124T210000
DTSTAMP:20260423T153203
CREATED:20260120T033413Z
LAST-MODIFIED:20260120T033413Z
UID:6341-1769274000-1769288400@figtreecoffee.com
SUMMARY:Open Mic Night
DESCRIPTION:Calling all performers and music lovers! Join us for an electrifying Open Mic Night where you can showcase your talents or simply enjoy an evening of diverse performances. It’s your stage\, your moment – let the music and creativity flow! \nRules are as follows: \n1. All materials must be family-friendly. \n2. The signup list will be available at 5 PM in-house. Time slots will be first come first serve. \n3. We encourage each other and create a positive environment\, whether big or small. \nWe hope to see you there!
URL:https://figtreecoffee.com/event/open-mic-night-147/
LOCATION:The Fig Tree\, 217 Vernon Street\, Roseville\, CA\, 95678\, United States
CATEGORIES:Open Mic
ATTACH;FMTTYPE=image/png:https://figtreecoffee.com/wp-content/uploads/2025/11/OPEN-MIC-NIGHT.png
END:VEVENT
BEGIN:VEVENT
DTSTART;TZID=America/Los_Angeles:20260123T180000
DTEND;TZID=America/Los_Angeles:20260123T210000
DTSTAMP:20260423T153203
CREATED:20260120T035149Z
LAST-MODIFIED:20260120T035149Z
UID:6349-1769191200-1769202000@figtreecoffee.com
SUMMARY:Mischief; Gary & Susan Shamber
DESCRIPTION:Start your weekend with the lively energy of Mischief from 6–8 pm\, then ease into the evening with the soulful harmonies of Gary & Susan Shamber from 8–9 pm. Pair the music with one of our August seasonal drinks or a warm pastry\, and enjoy a cozy summer night\, whether it’s date night\, a family outing\, or just some solo time to unwind.
URL:https://figtreecoffee.com/event/mischief-gary-susan-shamber-2/
LOCATION:The Fig Tree\, 217 Vernon Street\, Roseville\, CA\, 95678\, United States
CATEGORIES:Live Music
ATTACH;FMTTYPE=image/png:https://figtreecoffee.com/wp-content/uploads/2026/01/Mischief.png
END:VEVENT
BEGIN:VEVENT
DTSTART;TZID=America/Los_Angeles:20260122T180000
DTEND;TZID=America/Los_Angeles:20260122T210000
DTSTAMP:20260423T153203
CREATED:20260120T034048Z
LAST-MODIFIED:20260120T034048Z
UID:6347-1769104800-1769115600@figtreecoffee.com
SUMMARY:Anthony B Birthday Concert featuring: Brendan Scott; Anthony Boccaleoni; Brandon G
DESCRIPTION:Celebrate Anthony B’s birthday concert with an evening of live music and great energy. Brendan Scott performs from 6-7 pm\, Anthony Boccaleoni takes the stage from 7-8 pm\, and Brandon G closes out the night from 8-9 pm. Enjoy the welcoming atmosphere\, try a seasonal drink\, and make it a fun night out with friends.
URL:https://figtreecoffee.com/event/anthony-b-birthday-concert-featuring-brendan-scott-anthony-boccaleoni-brandon-g/
LOCATION:The Fig Tree\, 217 Vernon Street\, Roseville\, CA\, 95678\, United States
CATEGORIES:Live Music
ATTACH;FMTTYPE=image/png:https://figtreecoffee.com/wp-content/uploads/2025/12/Live-Music_20251208_144617_0000.png
END:VEVENT
BEGIN:VEVENT
DTSTART;TZID=America/Los_Angeles:20260121T180000
DTEND;TZID=America/Los_Angeles:20260121T200000
DTSTAMP:20260423T153203
CREATED:20260120T033700Z
LAST-MODIFIED:20260120T035742Z
UID:6345-1769018400-1769025600@figtreecoffee.com
SUMMARY:And That is That: Fig Tree Poetry Night
DESCRIPTION:Let your words flow freely! Join us for an evening of expression and creativity from 6 to 8 pm. All are welcome to share their poems or simply sit back and enjoy the art of spoken word.
URL:https://figtreecoffee.com/event/and-that-is-that-fig-tree-poetry-night-10/
LOCATION:The Fig Tree\, 217 Vernon Street\, Roseville\, CA\, 95678\, United States
CATEGORIES:Poetry Night
ATTACH;FMTTYPE=image/png:https://figtreecoffee.com/wp-content/uploads/2025/12/And-That-is-That-Fig-Tree-Poetry-Night.png
END:VEVENT
BEGIN:VEVENT
DTSTART;TZID=America/Los_Angeles:20260120T180000
DTEND;TZID=America/Los_Angeles:20260120T210000
DTSTAMP:20260423T153203
CREATED:20260120T033549Z
LAST-MODIFIED:20260120T033549Z
UID:6343-1768932000-1768942800@figtreecoffee.com
SUMMARY:Piano Night\, featuring Leslie W.
DESCRIPTION:Indulge in an enchanting evening of Piano Night with Leslie W. from 6-9 pm. Join us for a soulful journey through captivating melodies and musical brilliance.
URL:https://figtreecoffee.com/event/piano-night-featuring-leslie-w-15/
LOCATION:The Fig Tree\, 217 Vernon Street\, Roseville\, CA\, 95678\, United States
CATEGORIES:Piano Night
ATTACH;FMTTYPE=image/jpeg:https://figtreecoffee.com/wp-content/uploads/2024/09/Live-Music_20240916_172259_0000.jpg
END:VEVENT
BEGIN:VEVENT
DTSTART;TZID=America/Los_Angeles:20260117T170000
DTEND;TZID=America/Los_Angeles:20260117T210000
DTSTAMP:20260423T153203
CREATED:20260113T053859Z
LAST-MODIFIED:20260113T053859Z
UID:6263-1768669200-1768683600@figtreecoffee.com
SUMMARY:Open Mic Night
DESCRIPTION:Calling all performers and music lovers! Join us for an electrifying Open Mic Night where you can showcase your talents or simply enjoy an evening of diverse performances. It’s your stage\, your moment – let the music and creativity flow! \nRules are as follows: \n1. All materials must be family-friendly. \n2. The signup list will be available at 5 PM in-house. Time slots will be first come first serve. \n3. We encourage each other and create a positive environment\, whether big or small. \nWe hope to see you there!
URL:https://figtreecoffee.com/event/open-mic-night-146/
LOCATION:The Fig Tree\, 217 Vernon Street\, Roseville\, CA\, 95678\, United States
CATEGORIES:Open Mic
ATTACH;FMTTYPE=image/png:https://figtreecoffee.com/wp-content/uploads/2025/11/OPEN-MIC-NIGHT.png
END:VEVENT
BEGIN:VEVENT
DTSTART;TZID=America/Los_Angeles:20260116T180000
DTEND;TZID=America/Los_Angeles:20260116T204500
DTSTAMP:20260423T153203
CREATED:20260113T061549Z
LAST-MODIFIED:20260113T061549Z
UID:6271-1768586400-1768596300@figtreecoffee.com
SUMMARY:Avery Henry; Ali Bohannon
DESCRIPTION:Start the weekend right with an easygoing Friday night of live local music. Avery Henry sets the tone from 6-7:20 pm\, followed by Ali Bohannon from 7:30-8:45 pm. Grab a seasonal drink\, share a pastry with friends\, or settle in solo and let the music carry you into the weekend.
URL:https://figtreecoffee.com/event/avery-henry-ali-bohannon/
LOCATION:The Fig Tree\, 217 Vernon Street\, Roseville\, CA\, 95678\, United States
CATEGORIES:Live Music
ATTACH;FMTTYPE=image/png:https://figtreecoffee.com/wp-content/uploads/2026/01/Avery-Henry-Ali-Bohannon.png
END:VEVENT
BEGIN:VEVENT
DTSTART;TZID=America/Los_Angeles:20260115T180000
DTEND;TZID=America/Los_Angeles:20260115T210000
DTSTAMP:20260423T153203
CREATED:20260113T061051Z
LAST-MODIFIED:20260113T061051Z
UID:6269-1768500000-1768510800@figtreecoffee.com
SUMMARY:Bryan Quinn; Chris Conway
DESCRIPTION:Ease into your Thursday with live local music and a cozy\, welcoming atmosphere. Bryan Quinn kicks things off from 6-7:15 pm\, followed by Chris Conway from 7:30-9 pm. Settle in with a seasonal drink\, enjoy something sweet from the bakery case\, and let the evening unfold at a relaxed pace.
URL:https://figtreecoffee.com/event/bryan-quinn-chris-conway/
LOCATION:The Fig Tree\, 217 Vernon Street\, Roseville\, CA\, 95678\, United States
CATEGORIES:Live Music
ATTACH;FMTTYPE=image/png:https://figtreecoffee.com/wp-content/uploads/2025/12/Live-Music.png
END:VEVENT
BEGIN:VEVENT
DTSTART;TZID=America/Los_Angeles:20260114T180000
DTEND;TZID=America/Los_Angeles:20260114T203000
DTSTAMP:20260423T153203
CREATED:20260113T060536Z
LAST-MODIFIED:20260113T060536Z
UID:5964-1768413600-1768422600@figtreecoffee.com
SUMMARY:Jazz Jam Session
DESCRIPTION:Immerse yourself in the smooth\, soulful sounds of jazz at tonight’s Jazz Jam Session. Whether you’re a musician looking to join the groove or a listener soaking in the melodies\, it’s the perfect night for jazz lovers to connect and enjoy the art of improvisation. Grab your favorite coffee or tea and let the music take you away! \n 
URL:https://figtreecoffee.com/event/jazz-jam-session-12/
LOCATION:The Fig Tree\, 217 Vernon Street\, Roseville\, CA\, 95678\, United States
CATEGORIES:Live Music
ATTACH;FMTTYPE=image/png:https://figtreecoffee.com/wp-content/uploads/2025/11/Jazz-Jam-Session-6-830.png
END:VEVENT
BEGIN:VEVENT
DTSTART;TZID=America/Los_Angeles:20260113T180000
DTEND;TZID=America/Los_Angeles:20260113T210000
DTSTAMP:20260423T153203
CREATED:20260113T060509Z
LAST-MODIFIED:20260113T060509Z
UID:6265-1768327200-1768338000@figtreecoffee.com
SUMMARY:Piano Night\, featuring David Brown
DESCRIPTION:Enjoy an intimate evening of piano with David Brown from 6-9 pm. Relax with friends\, savor your favorite seasonal drinks\, and let the music create the perfect midweek reset.
URL:https://figtreecoffee.com/event/piano-night-featuring-david-brown/
LOCATION:The Fig Tree\, 217 Vernon Street\, Roseville\, CA\, 95678\, United States
CATEGORIES:Piano Night
ATTACH;FMTTYPE=image/png:https://figtreecoffee.com/wp-content/uploads/2026/01/David-Brown.png
END:VEVENT
BEGIN:VEVENT
DTSTART;TZID=America/Los_Angeles:20260110T170000
DTEND;TZID=America/Los_Angeles:20260110T210000
DTSTAMP:20260423T153203
CREATED:20260106T000044Z
LAST-MODIFIED:20260106T000044Z
UID:6226-1768064400-1768078800@figtreecoffee.com
SUMMARY:Open Mic Night
DESCRIPTION:Calling all performers and music lovers! Join us for an electrifying Open Mic Night where you can showcase your talents or simply enjoy an evening of diverse performances. It’s your stage\, your moment – let the music and creativity flow! \nRules are as follows: \n1. All materials must be family-friendly. \n2. The signup list will be available at 5 PM in-house. Time slots will be first come first serve. \n3. We encourage each other and create a positive environment\, whether big or small. \nWe hope to see you there!
URL:https://figtreecoffee.com/event/open-mic-night-145/
LOCATION:The Fig Tree\, 217 Vernon Street\, Roseville\, CA\, 95678\, United States
CATEGORIES:Open Mic
ATTACH;FMTTYPE=image/png:https://figtreecoffee.com/wp-content/uploads/2025/11/OPEN-MIC-NIGHT.png
END:VEVENT
BEGIN:VEVENT
DTSTART;TZID=America/Los_Angeles:20260109T180000
DTEND;TZID=America/Los_Angeles:20260109T210000
DTSTAMP:20260423T153203
CREATED:20260106T002001Z
LAST-MODIFIED:20260106T002001Z
UID:6237-1767981600-1767992400@figtreecoffee.com
SUMMARY:Big Chip Jazz Combo
DESCRIPTION:Start the weekend right with a full evening of live jazz from Big Chip Jazz Combo\, playing from 6-9 pm. Settle in with friends\, sip on seasonal drinks\, and let the smooth sounds set the tone for a relaxed Friday night. Perfect for unwinding after the week or easing into the weekend with great music and a welcoming vibe.
URL:https://figtreecoffee.com/event/big-chip-jazz-combo/
LOCATION:The Fig Tree\, 217 Vernon Street\, Roseville\, CA\, 95678\, United States
CATEGORIES:Live Music
ATTACH;FMTTYPE=image/png:https://figtreecoffee.com/wp-content/uploads/2025/12/Live-Music_20251208_144617_0000.png
END:VEVENT
BEGIN:VEVENT
DTSTART;TZID=America/Los_Angeles:20260108T180000
DTEND;TZID=America/Los_Angeles:20260108T210000
DTSTAMP:20260423T153203
CREATED:20260106T001828Z
LAST-MODIFIED:20260106T001852Z
UID:6233-1767895200-1767906000@figtreecoffee.com
SUMMARY:Josephine Ryan & Gabi Manuel; Tae & Leslie Friendiversary Show
DESCRIPTION:Ease into your Thursday with live music and good company. Josephine Ryan & Gabi Manuel kick things off from 6-7 pm\, followed by the Tae & Leslie Friendiversary Show from 7-9 pm. Settle in with a seasonal drink\, catch up with friends\, or enjoy a relaxed night out with local artists and a welcoming atmosphere.
URL:https://figtreecoffee.com/event/josephine-ryan-tae-leslie-friendiversary-showvv/
LOCATION:The Fig Tree\, 217 Vernon Street\, Roseville\, CA\, 95678\, United States
CATEGORIES:Live Music
ATTACH;FMTTYPE=image/png:https://figtreecoffee.com/wp-content/uploads/2026/01/Live-Music.png
END:VEVENT
BEGIN:VEVENT
DTSTART;TZID=America/Los_Angeles:20260106T183000
DTEND;TZID=America/Los_Angeles:20260106T203000
DTSTAMP:20260423T153203
CREATED:20260106T000503Z
LAST-MODIFIED:20260106T000503Z
UID:6230-1767724200-1767731400@figtreecoffee.com
SUMMARY:Celtic Session
DESCRIPTION:Get ready for a lively Celtic Session from 6:30-8:30 PM! Bring your own instrument and jump into the jam\, or simply enjoy the traditional tunes and good company. Let the music bring a bit of Celtic charm to your evening!
URL:https://figtreecoffee.com/event/celtic-session-15/
LOCATION:The Fig Tree\, 217 Vernon Street\, Roseville\, CA\, 95678\, United States
CATEGORIES:Live Music
ATTACH;FMTTYPE=image/png:https://figtreecoffee.com/wp-content/uploads/2025/03/Celtic-Session.png
END:VEVENT
BEGIN:VEVENT
DTSTART;TZID=America/Los_Angeles:20260106T180000
DTEND;TZID=America/Los_Angeles:20260106T210000
DTSTAMP:20260423T153203
CREATED:20260106T000133Z
LAST-MODIFIED:20260106T000133Z
UID:6228-1767722400-1767733200@figtreecoffee.com
SUMMARY:Piano Night\, featuring Zachary Piazzisi
DESCRIPTION:Enjoy an enchanting Piano Night with Zachary Piazzisi as he fills the room with soothing melodies from 6-9 PM. Settle in for a relaxing evening of music that will captivate your soul. Don’t miss it!
URL:https://figtreecoffee.com/event/piano-night-featuring-zachary-piazzisi-27/
LOCATION:The Fig Tree\, 217 Vernon Street\, Roseville\, CA\, 95678\, United States
CATEGORIES:Piano Night
ATTACH;FMTTYPE=image/png:https://figtreecoffee.com/wp-content/uploads/2025/11/Zachary-Piazzisi.png
END:VEVENT
BEGIN:VEVENT
DTSTART;TZID=America/Los_Angeles:20260103T170000
DTEND;TZID=America/Los_Angeles:20260103T210000
DTSTAMP:20260423T153203
CREATED:20251230T171734Z
LAST-MODIFIED:20251230T171734Z
UID:6189-1767459600-1767474000@figtreecoffee.com
SUMMARY:Open Mic Night
DESCRIPTION:Calling all performers and music lovers! Join us for an electrifying Open Mic Night where you can showcase your talents or simply enjoy an evening of diverse performances. It’s your stage\, your moment – let the music and creativity flow! \nRules are as follows: \n1. All materials must be family-friendly. \n2. The signup list will be available at 5 PM in-house. Time slots will be first come first serve. \n3. We encourage each other and create a positive environment\, whether big or small. \nWe hope to see you there!
URL:https://figtreecoffee.com/event/open-mic-night-144/
LOCATION:The Fig Tree\, 217 Vernon Street\, Roseville\, CA\, 95678\, United States
CATEGORIES:Open Mic
ATTACH;FMTTYPE=image/png:https://figtreecoffee.com/wp-content/uploads/2025/11/OPEN-MIC-NIGHT.png
END:VEVENT
BEGIN:VEVENT
DTSTART;TZID=America/Los_Angeles:20260102T180000
DTEND;TZID=America/Los_Angeles:20260102T210000
DTSTAMP:20260423T153203
CREATED:20251230T171942Z
LAST-MODIFIED:20251230T171942Z
UID:6191-1767376800-1767387600@figtreecoffee.com
SUMMARY:Dominic Prosio; Kendra Dantes; Tae Sierra
DESCRIPTION:Start the weekend right with a full night of live music and good vibes. Dominic Prosio kicks things off from 6-7 pm\, followed by Kendra Dantes from 7-8 pm\, and Tae Sierra closing out the night from 8-9 pm. Grab a seasonal drink\, settle in with friends\, or make it a relaxed Friday night date while enjoying local talent in a welcoming atmosphere. \n 
URL:https://figtreecoffee.com/event/dominic-prosio-kendra-dantes-tae-sierra/
LOCATION:The Fig Tree\, 217 Vernon Street\, Roseville\, CA\, 95678\, United States
CATEGORIES:Live Music
ATTACH;FMTTYPE=image/png:https://figtreecoffee.com/wp-content/uploads/2025/12/Live-Music.png
END:VEVENT
BEGIN:VEVENT
DTSTART;VALUE=DATE:20260101
DTEND;VALUE=DATE:20260102
DTSTAMP:20260423T153203
CREATED:20251230T172114Z
LAST-MODIFIED:20251230T172114Z
UID:6193-1767225600-1767311999@figtreecoffee.com
SUMMARY:Closed for New Year's Day
DESCRIPTION:Closed all day Thursday in observance of New Year’s. Wishing you a safe and joyful celebration! See you soon!
URL:https://figtreecoffee.com/event/closed-for-new-years-day-2/
LOCATION:CA
ATTACH;FMTTYPE=image/png:https://figtreecoffee.com/wp-content/uploads/2024/12/Live-Music_20241230_142947_0000.png
END:VEVENT
BEGIN:VEVENT
DTSTART;VALUE=DATE:20251231
DTEND;VALUE=DATE:20260101
DTSTAMP:20260423T153203
CREATED:20251230T172240Z
LAST-MODIFIED:20251230T172240Z
UID:6195-1767139200-1767225599@figtreecoffee.com
SUMMARY:Closed for New Year's Eve
DESCRIPTION:We will be closed for New Year’s Eve. Wishing everyone a safe\, cozy\, and happy celebration. See you in the new year! \n 
URL:https://figtreecoffee.com/event/closed-for-new-years-eve/
LOCATION:CA
ATTACH;FMTTYPE=image/png:https://figtreecoffee.com/wp-content/uploads/2024/12/Live-Music_20241230_142947_0000.png
END:VEVENT
BEGIN:VEVENT
DTSTART;TZID=America/Los_Angeles:20251230T180000
DTEND;TZID=America/Los_Angeles:20251230T210000
DTSTAMP:20260423T153203
CREATED:20251230T171700Z
LAST-MODIFIED:20251230T171700Z
UID:6187-1767117600-1767128400@figtreecoffee.com
SUMMARY:Piano Night\, featuring Zachary Piazzisi
DESCRIPTION:Enjoy an enchanting Piano Night with Zachary Piazzisi as he fills the room with soothing melodies from 6-9 PM. Settle in for a relaxing evening of music that will captivate your soul. Don’t miss it!
URL:https://figtreecoffee.com/event/piano-night-featuring-zachary-piazzisi-26/
LOCATION:The Fig Tree\, 217 Vernon Street\, Roseville\, CA\, 95678\, United States
CATEGORIES:Piano Night
ATTACH;FMTTYPE=image/png:https://figtreecoffee.com/wp-content/uploads/2025/11/Zachary-Piazzisi.png
END:VEVENT
BEGIN:VEVENT
DTSTART;TZID=America/Los_Angeles:20251227T170000
DTEND;TZID=America/Los_Angeles:20251227T210000
DTSTAMP:20260423T153203
CREATED:20251223T051405Z
LAST-MODIFIED:20251223T051405Z
UID:6104-1766854800-1766869200@figtreecoffee.com
SUMMARY:Open Mic Night
DESCRIPTION:Calling all performers and music lovers! Join us for an electrifying Open Mic Night where you can showcase your talents or simply enjoy an evening of diverse performances. It’s your stage\, your moment – let the music and creativity flow! \nRules are as follows: \n1. All materials must be family-friendly. \n2. The signup list will be available at 5 PM in-house. Time slots will be first come first serve. \n3. We encourage each other and create a positive environment\, whether big or small. \nWe hope to see you there!
URL:https://figtreecoffee.com/event/open-mic-night-143/
LOCATION:The Fig Tree\, 217 Vernon Street\, Roseville\, CA\, 95678\, United States
CATEGORIES:Open Mic
ATTACH;FMTTYPE=image/png:https://figtreecoffee.com/wp-content/uploads/2025/11/OPEN-MIC-NIGHT.png
END:VEVENT
BEGIN:VEVENT
DTSTART;TZID=America/Los_Angeles:20251226T180000
DTEND;TZID=America/Los_Angeles:20251226T210000
DTSTAMP:20260423T153203
CREATED:20251223T051904Z
LAST-MODIFIED:20251226T203301Z
UID:5967-1766772000-1766782800@figtreecoffee.com
SUMMARY:Laila Baum; Aiko Shimada Jazz Combo
DESCRIPTION:Ease into your Friday night with live music and cozy café vibes. Laila Baum sets the tone from 6–7 pm\, followed by the smooth sounds of the Aiko Shimada Jazz Combo from 7–9 pm. Sip on seasonal drinks\, enjoy a sweet pastry\, and kick off the weekend with friends\, a date\, or a relaxed solo night out.
URL:https://figtreecoffee.com/event/laila-baum-aiko-shimada-jazz-combo/
LOCATION:The Fig Tree\, 217 Vernon Street\, Roseville\, CA\, 95678\, United States
CATEGORIES:Live Music
ATTACH;FMTTYPE=image/png:https://figtreecoffee.com/wp-content/uploads/2025/12/Laila-Baum.png
END:VEVENT
BEGIN:VEVENT
DTSTART;VALUE=DATE:20251225
DTEND;VALUE=DATE:20251226
DTSTAMP:20260423T153203
CREATED:20251223T052433Z
LAST-MODIFIED:20251223T052433Z
UID:6109-1766620800-1766707199@figtreecoffee.com
SUMMARY:Closed for Christmas
DESCRIPTION:We’ll be closed this Thursday to celebrate Christmas. Enjoy the holiday\, relax with loved ones\, and we’ll see you back soon for coffee\, pastries\, and live music.
URL:https://figtreecoffee.com/event/closed-for-christmas/
LOCATION:The Fig Tree\, 217 Vernon Street\, Roseville\, CA\, 95678\, United States
ATTACH;FMTTYPE=image/png:https://figtreecoffee.com/wp-content/uploads/2025/12/Merry-Christmas-Closed-for-the-holiday.png
END:VEVENT
BEGIN:VEVENT
DTSTART;VALUE=DATE:20251224
DTEND;VALUE=DATE:20251225
DTSTAMP:20260423T153203
CREATED:20251223T052818Z
LAST-MODIFIED:20251223T052818Z
UID:6112-1766534400-1766620799@figtreecoffee.com
SUMMARY:Closed for Christmas Eve
DESCRIPTION:We’ll be closed Wednesday in observance of Christmas Eve. Wishing you a cozy evening filled with good food\, good company\, and holiday cheer. We look forward to welcoming you back soon.
URL:https://figtreecoffee.com/event/closed-for-christmas-eve/
LOCATION:The Fig Tree\, 217 Vernon Street\, Roseville\, CA\, 95678\, United States
ATTACH;FMTTYPE=image/png:https://figtreecoffee.com/wp-content/uploads/2025/12/Christmas-Eve.png
END:VEVENT
END:VCALENDAR