BEGIN:VCALENDAR
VERSION:2.0
PRODID:-//The Fig Tree - ECPv6.15.20//NONSGML v1.0//EN
CALSCALE:GREGORIAN
METHOD:PUBLISH
X-ORIGINAL-URL:https://figtreecoffee.com
X-WR-CALDESC:Events for The Fig Tree
REFRESH-INTERVAL;VALUE=DURATION:PT1H
X-Robots-Tag:noindex
X-PUBLISHED-TTL:PT1H
BEGIN:VTIMEZONE
TZID:America/Los_Angeles
BEGIN:DAYLIGHT
TZOFFSETFROM:-0800
TZOFFSETTO:-0700
TZNAME:PDT
DTSTART:20220313T100000
END:DAYLIGHT
BEGIN:STANDARD
TZOFFSETFROM:-0700
TZOFFSETTO:-0800
TZNAME:PST
DTSTART:20221106T090000
END:STANDARD
BEGIN:DAYLIGHT
TZOFFSETFROM:-0800
TZOFFSETTO:-0700
TZNAME:PDT
DTSTART:20230312T100000
END:DAYLIGHT
BEGIN:STANDARD
TZOFFSETFROM:-0700
TZOFFSETTO:-0800
TZNAME:PST
DTSTART:20231105T090000
END:STANDARD
BEGIN:DAYLIGHT
TZOFFSETFROM:-0800
TZOFFSETTO:-0700
TZNAME:PDT
DTSTART:20240310T100000
END:DAYLIGHT
BEGIN:STANDARD
TZOFFSETFROM:-0700
TZOFFSETTO:-0800
TZNAME:PST
DTSTART:20241103T090000
END:STANDARD
BEGIN:DAYLIGHT
TZOFFSETFROM:-0800
TZOFFSETTO:-0700
TZNAME:PDT
DTSTART:20250309T100000
END:DAYLIGHT
BEGIN:STANDARD
TZOFFSETFROM:-0700
TZOFFSETTO:-0800
TZNAME:PST
DTSTART:20251102T090000
END:STANDARD
END:VTIMEZONE
BEGIN:VEVENT
DTSTART;TZID=America/Los_Angeles:20231212T180000
DTEND;TZID=America/Los_Angeles:20231212T210000
DTSTAMP:20260425T084557
CREATED:20231213T023420Z
LAST-MODIFIED:20231213T023420Z
UID:3230-1702404000-1702414800@figtreecoffee.com
SUMMARY:Piano Night\, featuring One Giant Fish
DESCRIPTION:Prepare for a mesmerizing evening of piano magic! Join us for Piano Night with One Giant Fish from 6-9 pm. Immerse yourself in a world of enchanting melodies and musical brilliance that will leave you spellbound.
URL:https://figtreecoffee.com/event/piano-night-featuring-one-giant-fish-4/
LOCATION:The Fig Tree\, 217 Vernon Street\, Roseville\, CA\, 95678\, United States
CATEGORIES:Piano Night
ATTACH;FMTTYPE=image/png:https://figtreecoffee.com/wp-content/uploads/2023/11/Piano-Night-One-Giant-Fish.png
END:VEVENT
BEGIN:VEVENT
DTSTART;TZID=America/Los_Angeles:20231213T180000
DTEND;TZID=America/Los_Angeles:20231213T210000
DTSTAMP:20260425T084557
CREATED:20231213T023854Z
LAST-MODIFIED:20231213T023854Z
UID:3232-1702490400-1702501200@figtreecoffee.com
SUMMARY:Alison Bohannon & Kelly Slusher
DESCRIPTION:Join us for a night of musical enchantment! From 6-7 pm and again from 8-9 pm\, let Alison Bohannon serenade you with her soulful tunes. In between\, from 7-8 pm\, enjoy the melodies of Kelly Slusher. It’s an evening filled with diverse musical talents and unforgettable performances.
URL:https://figtreecoffee.com/event/alison-bohannon-kelly-slusher/
LOCATION:The Fig Tree\, 217 Vernon Street\, Roseville\, CA\, 95678\, United States
CATEGORIES:Live Music
ATTACH;FMTTYPE=image/jpeg:https://figtreecoffee.com/wp-content/uploads/2023/12/Live-Music-Alison-Bohannon-Kelly-Slusher.jpg
END:VEVENT
BEGIN:VEVENT
DTSTART;TZID=America/Los_Angeles:20231214T180000
DTEND;TZID=America/Los_Angeles:20231214T210000
DTSTAMP:20260425T084557
CREATED:20231213T024129Z
LAST-MODIFIED:20231213T024129Z
UID:3235-1702576800-1702587600@figtreecoffee.com
SUMMARY:Scott Pullman
DESCRIPTION:Indulge in a delightful musical experience with Scott Pullman from 6-9 pm\, accompanied by the warmth of hot chocolate or your favorite coffee. Join us for an evening of soulful tunes and cozy sips\, creating a perfect blend of musical joy and comfort.
URL:https://figtreecoffee.com/event/scott-pullman/
LOCATION:The Fig Tree\, 217 Vernon Street\, Roseville\, CA\, 95678\, United States
CATEGORIES:Live Music
ATTACH;FMTTYPE=image/jpeg:https://figtreecoffee.com/wp-content/uploads/2023/12/Live-Music-Scott-Pullman.jpg
END:VEVENT
BEGIN:VEVENT
DTSTART;TZID=America/Los_Angeles:20231215T180000
DTEND;TZID=America/Los_Angeles:20231215T210000
DTSTAMP:20260425T084557
CREATED:20231213T024643Z
LAST-MODIFIED:20231213T024643Z
UID:3238-1702663200-1702674000@figtreecoffee.com
SUMMARY:Ocean Affonso; Hearspeak; & Rumi Shimada
DESCRIPTION:Join us for a mesmerizing musical showcase! From 6-7 pm\, let Ocean Affonso set the stage with soulful tunes. Following\, from 7-8 pm\, Hearspeak will captivate you with their unique sound. Concluding the night from 8-9 pm\, immerse yourself in the enchanting melodies of Rumi Shimada. Enhance your experience with freshly baked pastries\, like hand pies\, and a cup of aromatic coffee. It’s an evening of diverse musical talents and delightful treats that you won’t want to miss.
URL:https://figtreecoffee.com/event/ocean-affonso-hearspeak-rumi-shimada/
LOCATION:The Fig Tree\, 217 Vernon Street\, Roseville\, CA\, 95678\, United States
CATEGORIES:Live Music
ATTACH;FMTTYPE=image/jpeg:https://figtreecoffee.com/wp-content/uploads/2023/12/Live-Music-featuring-Ocean-Affonso-and-Rumi-Shimada.jpg
END:VEVENT
BEGIN:VEVENT
DTSTART;TZID=America/Los_Angeles:20231216T180000
DTEND;TZID=America/Los_Angeles:20231216T210000
DTSTAMP:20260425T084557
CREATED:20231213T023344Z
LAST-MODIFIED:20231213T023344Z
UID:3228-1702749600-1702760400@figtreecoffee.com
SUMMARY:Open Mic Night
DESCRIPTION:Calling all performers and music lovers! Join us for an electrifying Open Mic Night where you can showcase your talents or simply enjoy an evening of diverse performances. It’s your stage\, your moment – let the music and creativity flow! \nRules are as follows: \n1. All materials must be family-friendly. \n2. The signup list will be available at 5 PM in-house. Time slots will be first come first serve. \n3. We encourage each other and create a positive environment\, whether big or small. \nWe hope to see you there!
URL:https://figtreecoffee.com/event/open-mic-night-41/
LOCATION:The Fig Tree\, 217 Vernon Street\, Roseville\, CA\, 95678\, United States
CATEGORIES:Open Mic
ATTACH;FMTTYPE=image/png:https://figtreecoffee.com/wp-content/uploads/2023/12/open-mic-Night.png
END:VEVENT
BEGIN:VEVENT
DTSTART;TZID=America/Los_Angeles:20231219T180000
DTEND;TZID=America/Los_Angeles:20231219T210000
DTSTAMP:20260425T084557
CREATED:20231219T053904Z
LAST-MODIFIED:20231219T053904Z
UID:3242-1703008800-1703019600@figtreecoffee.com
SUMMARY:Piano Night\, featuring One Giant Fish
DESCRIPTION:Prepare for a mesmerizing evening of piano magic! Join us for Piano Night with One Giant Fish from 6-9 pm. Immerse yourself in a world of enchanting melodies and musical brilliance that will leave you spellbound.
URL:https://figtreecoffee.com/event/piano-night-featuring-one-giant-fish-5/
LOCATION:The Fig Tree\, 217 Vernon Street\, Roseville\, CA\, 95678\, United States
CATEGORIES:Piano Night
ATTACH;FMTTYPE=image/png:https://figtreecoffee.com/wp-content/uploads/2023/11/Piano-Night-One-Giant-Fish.png
END:VEVENT
BEGIN:VEVENT
DTSTART;TZID=America/Los_Angeles:20231220T180000
DTEND;TZID=America/Los_Angeles:20231220T210000
DTSTAMP:20260425T084557
CREATED:20231219T054520Z
LAST-MODIFIED:20231219T054520Z
UID:3246-1703095200-1703106000@figtreecoffee.com
SUMMARY:Rachel Mullen & Joshua Ray Magic Show
DESCRIPTION:Experience a night of enchantment! From 6-7 pm and again from 8-9 pm\, let Rachel Mullen serenade you with her captivating tunes. Prepare for awe and wonder from 7-8 pm with the Joshua Ray Magic Show – check out the attached picture for a glimpse into the magical surprises that await you. It’s an evening filled with diverse talents and mesmerizing entertainment.
URL:https://figtreecoffee.com/event/rachel-mullen-joshua-ray-magic-show/
LOCATION:The Fig Tree\, 217 Vernon Street\, Roseville\, CA\, 95678\, United States
CATEGORIES:Live Entertainment,Live Music
ATTACH;FMTTYPE=image/jpeg:https://figtreecoffee.com/wp-content/uploads/2023/12/Rachel-Mullen-Joshua-Ray-Magic-Show.jpg
END:VEVENT
BEGIN:VEVENT
DTSTART;TZID=America/Los_Angeles:20231221T180000
DTEND;TZID=America/Los_Angeles:20231221T210000
DTSTAMP:20260425T084557
CREATED:20231219T054746Z
LAST-MODIFIED:20231219T054746Z
UID:3249-1703181600-1703192400@figtreecoffee.com
SUMMARY:Lydia Shepherd & Sam Caylor & Edwin
DESCRIPTION:Get ready for a night of musical enchantment! From 6-7 pm\, let Lydia Shepherd serenade you with her captivating tunes. Then\, from 7-9 pm\, immerse yourself in the dynamic sounds of Sam Caylor & Edwin. It’s an evening filled with diverse musical talents and unforgettable performances that you won’t want to miss.
URL:https://figtreecoffee.com/event/lydia-shepherd-sam-caylor-edwin/
LOCATION:The Fig Tree\, 217 Vernon Street\, Roseville\, CA\, 95678\, United States
CATEGORIES:Live Entertainment,Live Music
ATTACH;FMTTYPE=image/jpeg:https://figtreecoffee.com/wp-content/uploads/2023/12/Live-Music-featuring-Sam-Caylor-Edwin-and-Lydia-Shepherd.jpg
END:VEVENT
BEGIN:VEVENT
DTSTART;TZID=America/Los_Angeles:20231222T180000
DTEND;TZID=America/Los_Angeles:20231222T210000
DTSTAMP:20260425T084557
CREATED:20231219T055032Z
LAST-MODIFIED:20231219T055032Z
UID:3252-1703268000-1703278800@figtreecoffee.com
SUMMARY:Madison Lazark & Silver City
DESCRIPTION:Join us for a delightful evening of live music! From 6-7 pm\, let Madison Lazark serenade you with her enchanting tunes. Then\, from 7-9 pm\, immerse yourself in the dynamic sounds of Silver City. It’s a night of diverse musical talents and unforgettable performances that you won’t want to miss.
URL:https://figtreecoffee.com/event/madison-lazark-silver-city/
LOCATION:The Fig Tree\, 217 Vernon Street\, Roseville\, CA\, 95678\, United States
CATEGORIES:Live Music
ATTACH;FMTTYPE=image/jpeg:https://figtreecoffee.com/wp-content/uploads/2023/12/Live-Music-Madison-Lazark-and-Silver-City.jpg
END:VEVENT
BEGIN:VEVENT
DTSTART;TZID=America/Los_Angeles:20231223T180000
DTEND;TZID=America/Los_Angeles:20231223T210000
DTSTAMP:20260425T084557
CREATED:20231219T053926Z
LAST-MODIFIED:20231219T053926Z
UID:3244-1703354400-1703365200@figtreecoffee.com
SUMMARY:Open Mic Night
DESCRIPTION:Calling all performers and music lovers! Join us for an electrifying Open Mic Night where you can showcase your talents or simply enjoy an evening of diverse performances. It’s your stage\, your moment – let the music and creativity flow! \nRules are as follows: \n1. All materials must be family-friendly. \n2. The signup list will be available at 5 PM in-house. Time slots will be first come first serve. \n3. We encourage each other and create a positive environment\, whether big or small. \nWe hope to see you there!
URL:https://figtreecoffee.com/event/open-mic-night-42/
LOCATION:The Fig Tree\, 217 Vernon Street\, Roseville\, CA\, 95678\, United States
CATEGORIES:Open Mic
ATTACH;FMTTYPE=image/png:https://figtreecoffee.com/wp-content/uploads/2023/12/open-mic-Night.png
END:VEVENT
BEGIN:VEVENT
DTSTART;TZID=America/Los_Angeles:20231226T180000
DTEND;TZID=America/Los_Angeles:20231226T210000
DTSTAMP:20260425T084557
CREATED:20231227T065424Z
LAST-MODIFIED:20231227T065424Z
UID:3255-1703613600-1703624400@figtreecoffee.com
SUMMARY:Piano Night\, featuring Krista White
DESCRIPTION:Indulge in an enchanting evening of Piano Night with the talented Krista White. Join us for a musical journey as she fills the air with the timeless beauty of piano melodies from 6 pm to 9 pm.
URL:https://figtreecoffee.com/event/piano-night-featuring-krista-white-4/
LOCATION:The Fig Tree\, 217 Vernon Street\, Roseville\, CA\, 95678\, United States
CATEGORIES:Piano Night
ATTACH;FMTTYPE=image/png:https://figtreecoffee.com/wp-content/uploads/2023/12/Piano-Night-Featuring-Krista-White.png
END:VEVENT
BEGIN:VEVENT
DTSTART;TZID=America/Los_Angeles:20231227T180000
DTEND;TZID=America/Los_Angeles:20231227T210000
DTSTAMP:20260425T084557
CREATED:20231227T065536Z
LAST-MODIFIED:20231227T065536Z
UID:3259-1703700000-1703710800@figtreecoffee.com
SUMMARY:Fig Tree Baristas; Vinnie Griffith; & Tastes Like TV Static
DESCRIPTION:Experience a night of diverse musical flavors! From 6-7 pm\, join the Fig Tree Baristas as they set the stage with soulful tunes. Then\, from 7-8 pm\, let Vinnie Griffith enchant you with his unique sound. Concluding the night from 8-9 pm\, immerse yourself in the dynamic sounds of Tastes Like TV Static\, featuring the full band. It’s an evening of musical delights you won’t want to miss.
URL:https://figtreecoffee.com/event/fig-tree-baristas-vinnie-griffith-tastes-like-tv-static/
LOCATION:The Fig Tree\, 217 Vernon Street\, Roseville\, CA\, 95678\, United States
CATEGORIES:Live Music
ATTACH;FMTTYPE=image/png:https://figtreecoffee.com/wp-content/uploads/2023/11/Live-Music-Fall-Brown.png
END:VEVENT
BEGIN:VEVENT
DTSTART;TZID=America/Los_Angeles:20231228T180000
DTEND;TZID=America/Los_Angeles:20231228T210000
DTSTAMP:20260425T084557
CREATED:20231227T065637Z
LAST-MODIFIED:20231227T065637Z
UID:3261-1703786400-1703797200@figtreecoffee.com
SUMMARY:Avenue Blue
DESCRIPTION:Immerse yourself in the spellbinding melodies of Avenue Blue from 6-9 pm. Enjoy the music\, good company\, and savor the moment with a cup of our delicious coffee. It’s an evening of pure delight and musical magic in great company.
URL:https://figtreecoffee.com/event/avenue-blue-3/
LOCATION:The Fig Tree\, 217 Vernon Street\, Roseville\, CA\, 95678\, United States
CATEGORIES:Live Music
ATTACH;FMTTYPE=image/png:https://figtreecoffee.com/wp-content/uploads/2023/11/Live-Music-Avenue-Blue.png
END:VEVENT
BEGIN:VEVENT
DTSTART;TZID=America/Los_Angeles:20231229T180000
DTEND;TZID=America/Los_Angeles:20231229T210000
DTSTAMP:20260425T084557
CREATED:20231227T065722Z
LAST-MODIFIED:20231227T065722Z
UID:3263-1703872800-1703883600@figtreecoffee.com
SUMMARY:Rachel Mullen & Of The Heart
DESCRIPTION:Get ready for an evening of musical diversity! Rachel Mullen will serenade you with her enchanting melodies from 6-7 pm and return for an encore performance from 8-9 pm. In between\, let ‘Of The Heart’ captivate you with their soulful tunes from 7-8 pm. It’s an evening filled with unforgettable performances and musical magic.
URL:https://figtreecoffee.com/event/rachel-mullen-of-the-heart-2/
LOCATION:The Fig Tree\, 217 Vernon Street\, Roseville\, CA\, 95678\, United States
CATEGORIES:Live Music
ATTACH;FMTTYPE=image/jpeg:https://figtreecoffee.com/wp-content/uploads/2023/04/Live-Music.jpg
END:VEVENT
BEGIN:VEVENT
DTSTART;TZID=America/Los_Angeles:20231230T180000
DTEND;TZID=America/Los_Angeles:20231230T210000
DTSTAMP:20260425T084557
CREATED:20231227T065444Z
LAST-MODIFIED:20231227T065444Z
UID:3257-1703959200-1703970000@figtreecoffee.com
SUMMARY:Open Mic Night
DESCRIPTION:Calling all performers and music lovers! Join us for an electrifying Open Mic Night where you can showcase your talents or simply enjoy an evening of diverse performances. It’s your stage\, your moment – let the music and creativity flow! \nRules are as follows: \n1. All materials must be family-friendly. \n2. The signup list will be available at 5 PM in-house. Time slots will be first come first serve. \n3. We encourage each other and create a positive environment\, whether big or small. \nWe hope to see you there!
URL:https://figtreecoffee.com/event/open-mic-night-43/
LOCATION:The Fig Tree\, 217 Vernon Street\, Roseville\, CA\, 95678\, United States
CATEGORIES:Open Mic
ATTACH;FMTTYPE=image/png:https://figtreecoffee.com/wp-content/uploads/2023/12/open-mic-Night.png
END:VEVENT
BEGIN:VEVENT
DTSTART;TZID=America/Los_Angeles:20240102T180000
DTEND;TZID=America/Los_Angeles:20240102T210000
DTSTAMP:20260425T084557
CREATED:20240102T233655Z
LAST-MODIFIED:20240103T011414Z
UID:3268-1704218400-1704229200@figtreecoffee.com
SUMMARY:Piano Night\, Featuring Krista White
DESCRIPTION:Indulge in an enchanting evening of Piano Night with the talented Krista White. Join us for a musical journey as she fills the air with the timeless beauty of piano melodies from 6 pm to 9 pm.
URL:https://figtreecoffee.com/event/piano-night-featuring-krista-white-5/
LOCATION:The Fig Tree\, 217 Vernon Street\, Roseville\, CA\, 95678\, United States
CATEGORIES:Piano Night
ATTACH;FMTTYPE=image/png:https://figtreecoffee.com/wp-content/uploads/2024/01/Piano-Night-Featuring-Krista-White-v2.png
END:VEVENT
BEGIN:VEVENT
DTSTART;TZID=America/Los_Angeles:20240103T180000
DTEND;TZID=America/Los_Angeles:20240103T210000
DTSTAMP:20260425T084557
CREATED:20240103T001300Z
LAST-MODIFIED:20240103T001300Z
UID:3270-1704304800-1704315600@figtreecoffee.com
SUMMARY:Alec Ogston & One Giant Fish
DESCRIPTION:Join us for an evening of diverse musical talents! From 6-7 pm\, let Alec Ogston captivate you with his unique sound. Then\, from 7-9 pm\, immerse yourself in the dynamic tunes of One Giant Fish. It’s a night filled with enchanting melodies and unforgettable performances that you won’t want to miss.
URL:https://figtreecoffee.com/event/alec-ogston-one-giant-fish/
LOCATION:The Fig Tree\, 217 Vernon Street\, Roseville\, CA\, 95678\, United States
CATEGORIES:Live Music
ATTACH;FMTTYPE=image/png:https://figtreecoffee.com/wp-content/uploads/2024/01/Live-Music-featuring-Alec-Ogston-and-One-Giant-Fish.png
END:VEVENT
BEGIN:VEVENT
DTSTART;TZID=America/Los_Angeles:20240104T180000
DTEND;TZID=America/Los_Angeles:20240104T210000
DTSTAMP:20260425T084557
CREATED:20240103T003146Z
LAST-MODIFIED:20240103T010202Z
UID:3274-1704391200-1704402000@figtreecoffee.com
SUMMARY:Jaela; Still Sam; & Donrico De Castro
DESCRIPTION:Join us for a night of captivating melodies! From 6-7 pm\, Jaela will enchant you with her musical prowess. Following\, from 7-8 pm\, immerse yourself in the soulful tunes of Still Sam. Finally\, from 8-9 pm\, let Donrico De Castro serenade you with his unique sound. It’s an evening filled with diverse musical talents and unforgettable performances.
URL:https://figtreecoffee.com/event/jaela-still-sam/
LOCATION:The Fig Tree\, 217 Vernon Street\, Roseville\, CA\, 95678\, United States
CATEGORIES:Live Music
ATTACH;FMTTYPE=image/png:https://figtreecoffee.com/wp-content/uploads/2024/01/Live-Music-featuring-Jaela-Still-Sam-and-Donrico-De-Castro.png
END:VEVENT
BEGIN:VEVENT
DTSTART;TZID=America/Los_Angeles:20240105T180000
DTEND;TZID=America/Los_Angeles:20240105T210000
DTSTAMP:20260425T084557
CREATED:20240103T010154Z
LAST-MODIFIED:20240103T010154Z
UID:3280-1704477600-1704488400@figtreecoffee.com
SUMMARY:Mischief & Isaiah Lara
DESCRIPTION:Get ready for a night of musical delight! From 6-8 pm\, Mischief will fill the air with playful tunes. Then\, from 8-9 pm\, immerse yourself in the soulful sounds of Isaiah Lara. Join us for an evening of diverse musical talents and captivating performances.
URL:https://figtreecoffee.com/event/mischief-isaiah-lara/
LOCATION:The Fig Tree\, 217 Vernon Street\, Roseville\, CA\, 95678\, United States
CATEGORIES:Live Music
ATTACH;FMTTYPE=image/png:https://figtreecoffee.com/wp-content/uploads/2024/01/Live-Music-featuring-Mischief-and-Isaiah-Lara.png
END:VEVENT
BEGIN:VEVENT
DTSTART;TZID=America/Los_Angeles:20240106T180000
DTEND;TZID=America/Los_Angeles:20240106T210000
DTSTAMP:20260425T084557
CREATED:20240102T233634Z
LAST-MODIFIED:20240102T233634Z
UID:3266-1704564000-1704574800@figtreecoffee.com
SUMMARY:Open Mic Night
DESCRIPTION:Calling all performers and music lovers! Join us for an electrifying Open Mic Night where you can showcase your talents or simply enjoy an evening of diverse performances. It’s your stage\, your moment – let the music and creativity flow! \nRules are as follows: \n1. All materials must be family-friendly. \n2. The signup list will be available at 5 PM in-house. Time slots will be first come first serve. \n3. We encourage each other and create a positive environment\, whether big or small. \nWe hope to see you there!
URL:https://figtreecoffee.com/event/open-mic-night-44/
LOCATION:The Fig Tree\, 217 Vernon Street\, Roseville\, CA\, 95678\, United States
CATEGORIES:Open Mic
ATTACH;FMTTYPE=image/png:https://figtreecoffee.com/wp-content/uploads/2023/12/open-mic-Night.png
END:VEVENT
BEGIN:VEVENT
DTSTART;TZID=America/Los_Angeles:20240109T180000
DTEND;TZID=America/Los_Angeles:20240109T210000
DTSTAMP:20260425T084557
CREATED:20240110T025218Z
LAST-MODIFIED:20240110T025218Z
UID:3301-1704823200-1704834000@figtreecoffee.com
SUMMARY:Piano Night\, featuring Brenna Weeks
DESCRIPTION:Indulge in an enchanting evening of Piano Night with the talented Brenna Weeks. Join us for a musical journey as she fills the air with the timeless beauty of piano melodies from 6 pm to 9 pm.
URL:https://figtreecoffee.com/event/piano-night-featuring-brenna-weeks/
LOCATION:The Fig Tree\, 217 Vernon Street\, Roseville\, CA\, 95678\, United States
CATEGORIES:Piano Night
ATTACH;FMTTYPE=image/jpeg:https://figtreecoffee.com/wp-content/uploads/2024/01/Piano-Night-featuring-Brenna-Weeks.jpg
END:VEVENT
BEGIN:VEVENT
DTSTART;TZID=America/Los_Angeles:20240110T180000
DTEND;TZID=America/Los_Angeles:20240110T210000
DTSTAMP:20260425T084557
CREATED:20240110T025527Z
LAST-MODIFIED:20240110T025618Z
UID:3304-1704909600-1704920400@figtreecoffee.com
SUMMARY:Jonathan Schneider & Under The Canopy
DESCRIPTION:Join us for a musical journey! From 6-7 pm\, let Jonathan Schneider serenade you with soulful tunes. Then\, from 7-9 pm\, immerse yourself in the enchanting sounds of Under The Canopy. It’s an evening of diverse musical talents and captivating performances that you won’t want to miss.
URL:https://figtreecoffee.com/event/jonathan-schneider-under-the-canopy/
LOCATION:The Fig Tree\, 217 Vernon Street\, Roseville\, CA\, 95678\, United States
CATEGORIES:Live Music
ATTACH;FMTTYPE=image/jpeg:https://figtreecoffee.com/wp-content/uploads/2024/01/Live-Music-Jonathan-Schneider-Under-The-Canopy.jpg
END:VEVENT
BEGIN:VEVENT
DTSTART;TZID=America/Los_Angeles:20240111T180000
DTEND;TZID=America/Los_Angeles:20240111T210000
DTSTAMP:20260425T084557
CREATED:20240110T025801Z
LAST-MODIFIED:20240110T025801Z
UID:3307-1704996000-1705006800@figtreecoffee.com
SUMMARY:Scott Pullman
DESCRIPTION:Prepare for a musical voyage with Scott Pullman from 6-9 pm. Let his enchanting tunes create a memorable evening filled with soulful melodies and captivating performances.
URL:https://figtreecoffee.com/event/scott-pullman-2/
LOCATION:The Fig Tree\, 217 Vernon Street\, Roseville\, CA\, 95678\, United States
CATEGORIES:Live Music
END:VEVENT
BEGIN:VEVENT
DTSTART;TZID=America/Los_Angeles:20240112T180000
DTEND;TZID=America/Los_Angeles:20240112T210000
DTSTAMP:20260425T084557
CREATED:20240110T030055Z
LAST-MODIFIED:20240110T030055Z
UID:3310-1705082400-1705093200@figtreecoffee.com
SUMMARY:Rumi Shimada & Friends
DESCRIPTION:Embark on a musical adventure with Rumi Shimada & Friends from 6-9 pm. Join us for a night filled with soulful melodies and captivating performances that you won’t want to miss.
URL:https://figtreecoffee.com/event/rumi-shimada-friends/
LOCATION:The Fig Tree\, 217 Vernon Street\, Roseville\, CA\, 95678\, United States
CATEGORIES:Live Music
ATTACH;FMTTYPE=image/jpeg:https://figtreecoffee.com/wp-content/uploads/2024/01/Live-Music-Rumi-Shimada-Friends.jpg
END:VEVENT
BEGIN:VEVENT
DTSTART;TZID=America/Los_Angeles:20240113T180000
DTEND;TZID=America/Los_Angeles:20240113T210000
DTSTAMP:20260425T084557
CREATED:20240110T024703Z
LAST-MODIFIED:20240110T024703Z
UID:3287-1705168800-1705179600@figtreecoffee.com
SUMMARY:Open Mic Night
DESCRIPTION:Calling all performers and music lovers! Join us for an electrifying Open Mic Night where you can showcase your talents or simply enjoy an evening of diverse performances. It’s your stage\, your moment – let the music and creativity flow! \nRules are as follows: \n1. All materials must be family-friendly. \n2. The signup list will be available at 5 PM in-house. Time slots will be first come first serve. \n3. We encourage each other and create a positive environment\, whether big or small. \nWe hope to see you there!
URL:https://figtreecoffee.com/event/open-mic-night-45/
LOCATION:The Fig Tree\, 217 Vernon Street\, Roseville\, CA\, 95678\, United States
CATEGORIES:Open Mic
ATTACH;FMTTYPE=image/png:https://figtreecoffee.com/wp-content/uploads/2023/12/open-mic-Night.png
END:VEVENT
BEGIN:VEVENT
DTSTART;TZID=America/Los_Angeles:20240116T180000
DTEND;TZID=America/Los_Angeles:20240116T210000
DTSTAMP:20260425T084557
CREATED:20240117T021353Z
LAST-MODIFIED:20240117T021353Z
UID:3313-1705428000-1705438800@figtreecoffee.com
SUMMARY:Piano Night\, featuring Rachel Mullen
DESCRIPTION:Join us for an exquisite evening of Piano Night featuring the talented Rachel Mullen\, enchanting your senses from 6-9 pm. Immerse yourself in the timeless beauty of piano melodies and let the music weave a captivating experience.
URL:https://figtreecoffee.com/event/piano-night-featuring-rachel-mullen/
LOCATION:The Fig Tree\, 217 Vernon Street\, Roseville\, CA\, 95678\, United States
CATEGORIES:Piano Night
ATTACH;FMTTYPE=image/png:https://figtreecoffee.com/wp-content/uploads/2024/01/Piano-Night-featuring-Rachel-Mullen.png
END:VEVENT
BEGIN:VEVENT
DTSTART;TZID=America/Los_Angeles:20240117T180000
DTEND;TZID=America/Los_Angeles:20240117T210000
DTSTAMP:20260425T084557
CREATED:20240117T021636Z
LAST-MODIFIED:20240117T021636Z
UID:3316-1705514400-1705525200@figtreecoffee.com
SUMMARY:Lizz Shine & Krista White
DESCRIPTION:Join us for an evening of delightful music! From 6-7 pm\, let Lizz Shine serenade you\, followed by the enchanting tunes of Krista White from 7-9 pm. Savor the experience over a hot cup of coffee and immerse yourself in the magic of live music. It’s a night of musical brilliance and cozy moments you won’t want to miss.
URL:https://figtreecoffee.com/event/lizz-shine-krista-white/
LOCATION:The Fig Tree\, 217 Vernon Street\, Roseville\, CA\, 95678\, United States
CATEGORIES:Live Music
ATTACH;FMTTYPE=image/png:https://figtreecoffee.com/wp-content/uploads/2024/01/Live-Music-featuring-Lizz-Shine-Krista-White.png
END:VEVENT
BEGIN:VEVENT
DTSTART;TZID=America/Los_Angeles:20240118T180000
DTEND;TZID=America/Los_Angeles:20240118T210000
DTSTAMP:20260425T084557
CREATED:20240117T021858Z
LAST-MODIFIED:20240117T021858Z
UID:3319-1705600800-1705611600@figtreecoffee.com
SUMMARY:Hayden Brown & Dirty Laundry
DESCRIPTION:Get ready for a night of musical magic! From 6-7 pm\, let Hayden Brown serenade you with enchanting tunes. Then\, from 7-9 pm\, immerse yourself in the dynamic sounds of Dirty Laundry. Join us for an evening filled with diverse musical talents and captivating performances.
URL:https://figtreecoffee.com/event/hayden-brown-dirty-laundry/
LOCATION:The Fig Tree\, 217 Vernon Street\, Roseville\, CA\, 95678\, United States
CATEGORIES:Live Music
ATTACH;FMTTYPE=image/png:https://figtreecoffee.com/wp-content/uploads/2023/11/Live-Music-Fall-Brown.png
END:VEVENT
BEGIN:VEVENT
DTSTART;TZID=America/Los_Angeles:20240119T180000
DTEND;TZID=America/Los_Angeles:20240119T210000
DTSTAMP:20260425T084557
CREATED:20240117T022238Z
LAST-MODIFIED:20240117T022238Z
UID:3321-1705687200-1705698000@figtreecoffee.com
SUMMARY:Madison Lazark & Mizithra
DESCRIPTION:Join us for a musical journey! From 6-7 pm\, let Madison Lazark serenade you with enchanting melodies. Then\, from 7-9 pm\, immerse yourself in the dynamic sounds of Mizithra. It’s an evening filled with diverse musical talents and captivating performances that you won’t want to miss.
URL:https://figtreecoffee.com/event/madison-lazark-mizithra/
LOCATION:The Fig Tree\, 217 Vernon Street\, Roseville\, CA\, 95678\, United States
CATEGORIES:Live Music
ATTACH;FMTTYPE=image/png:https://figtreecoffee.com/wp-content/uploads/2024/01/Live-Music-featuring-Madison-Lazark.png
END:VEVENT
BEGIN:VEVENT
DTSTART;TZID=America/Los_Angeles:20240120T180000
DTEND;TZID=America/Los_Angeles:20240120T210000
DTSTAMP:20260425T084557
CREATED:20240110T024720Z
LAST-MODIFIED:20240110T024720Z
UID:3289-1705773600-1705784400@figtreecoffee.com
SUMMARY:Open Mic Night
DESCRIPTION:Calling all performers and music lovers! Join us for an electrifying Open Mic Night where you can showcase your talents or simply enjoy an evening of diverse performances. It’s your stage\, your moment – let the music and creativity flow! \nRules are as follows: \n1. All materials must be family-friendly. \n2. The signup list will be available at 5 PM in-house. Time slots will be first come first serve. \n3. We encourage each other and create a positive environment\, whether big or small. \nWe hope to see you there!
URL:https://figtreecoffee.com/event/open-mic-night-46/
LOCATION:The Fig Tree\, 217 Vernon Street\, Roseville\, CA\, 95678\, United States
CATEGORIES:Open Mic
ATTACH;FMTTYPE=image/png:https://figtreecoffee.com/wp-content/uploads/2023/12/open-mic-Night.png
END:VEVENT
END:VCALENDAR