BEGIN:VCALENDAR
VERSION:2.0
PRODID:-//The Fig Tree - ECPv6.15.20//NONSGML v1.0//EN
CALSCALE:GREGORIAN
METHOD:PUBLISH
X-WR-CALNAME:The Fig Tree
X-ORIGINAL-URL:https://figtreecoffee.com
X-WR-CALDESC:Events for The Fig Tree
REFRESH-INTERVAL;VALUE=DURATION:PT1H
X-Robots-Tag:noindex
X-PUBLISHED-TTL:PT1H
BEGIN:VTIMEZONE
TZID:America/Los_Angeles
BEGIN:DAYLIGHT
TZOFFSETFROM:-0800
TZOFFSETTO:-0700
TZNAME:PDT
DTSTART:20220313T100000
END:DAYLIGHT
BEGIN:STANDARD
TZOFFSETFROM:-0700
TZOFFSETTO:-0800
TZNAME:PST
DTSTART:20221106T090000
END:STANDARD
BEGIN:DAYLIGHT
TZOFFSETFROM:-0800
TZOFFSETTO:-0700
TZNAME:PDT
DTSTART:20230312T100000
END:DAYLIGHT
BEGIN:STANDARD
TZOFFSETFROM:-0700
TZOFFSETTO:-0800
TZNAME:PST
DTSTART:20231105T090000
END:STANDARD
BEGIN:DAYLIGHT
TZOFFSETFROM:-0800
TZOFFSETTO:-0700
TZNAME:PDT
DTSTART:20240310T100000
END:DAYLIGHT
BEGIN:STANDARD
TZOFFSETFROM:-0700
TZOFFSETTO:-0800
TZNAME:PST
DTSTART:20241103T090000
END:STANDARD
END:VTIMEZONE
BEGIN:VEVENT
DTSTART;TZID=America/Los_Angeles:20230610T180000
DTEND;TZID=America/Los_Angeles:20230610T210000
DTSTAMP:20260425T193620
CREATED:20230606T042802Z
LAST-MODIFIED:20230606T042802Z
UID:2548-1686420000-1686430800@figtreecoffee.com
SUMMARY:Open Mic Night
DESCRIPTION:Unleash your creativity and take the stage at our weekly Open Mic Night. Share your talents with an enthusiastic audience as you sing and play. Whether you’re a seasoned performer or trying it for the first time\, this welcoming and supportive environment is the perfect place to showcase your skills and connect with fellow artists. \nRules are as follows: \n1. All materials must be family-friendly. \n2. The signup list will be available at 5 PM in-house. Time slots will be first come first serve. \n3. We encourage each other and create a positive environment\, no matter how big or small. \nWe hope to see you there!
URL:https://figtreecoffee.com/event/open-mic-night-27/
LOCATION:The Fig Tree\, 217 Vernon Street\, Roseville\, CA\, 95678\, United States
CATEGORIES:Open Mic
ATTACH;FMTTYPE=image/jpeg:https://figtreecoffee.com/wp-content/uploads/2023/04/open-mic-Night.jpg
END:VEVENT
BEGIN:VEVENT
DTSTART;TZID=America/Los_Angeles:20230609T180000
DTEND;TZID=America/Los_Angeles:20230609T210000
DTSTAMP:20260425T193620
CREATED:20230606T043354Z
LAST-MODIFIED:20230606T043644Z
UID:2556-1686333600-1686344400@figtreecoffee.com
SUMMARY:Kendra Dantes & Madison Lazark
DESCRIPTION:Enjoy a lively atmosphere and soulful tunes as Kendra Dantes takes the stage from 6-7\, followed by the captivating melodies of Madison Lazark from 7-9 at our live music event.
URL:https://figtreecoffee.com/event/kendra-dantes-madison-lazark/
LOCATION:The Fig Tree\, 217 Vernon Street\, Roseville\, CA\, 95678\, United States
CATEGORIES:Live Music
ATTACH;FMTTYPE=image/jpeg:https://figtreecoffee.com/wp-content/uploads/2023/04/Live-Music.jpg
END:VEVENT
BEGIN:VEVENT
DTSTART;TZID=America/Los_Angeles:20230608T180000
DTEND;TZID=America/Los_Angeles:20230608T210000
DTSTAMP:20260425T193620
CREATED:20230606T043046Z
LAST-MODIFIED:20230606T043046Z
UID:2554-1686247200-1686258000@figtreecoffee.com
SUMMARY:John Armstrong\, Suitable Ace
DESCRIPTION:Experience an unforgettable evening of diverse talents\, featuring John Armstrong from 6-7\, Suitable Ace from 7-8\, and Macie Horne from 8-9\, as they captivate the audience with their unique performances.
URL:https://figtreecoffee.com/event/john-armstrong-suitable-ace/
LOCATION:The Fig Tree\, 217 Vernon Street\, Roseville\, CA\, 95678\, United States
CATEGORIES:Live Music
ATTACH;FMTTYPE=image/jpeg:https://figtreecoffee.com/wp-content/uploads/2023/04/Live-Music.jpg
END:VEVENT
BEGIN:VEVENT
DTSTART;TZID=America/Los_Angeles:20230607T180000
DTEND;TZID=America/Los_Angeles:20230607T210000
DTSTAMP:20260425T193620
CREATED:20230606T042901Z
LAST-MODIFIED:20230606T042901Z
UID:2552-1686160800-1686171600@figtreecoffee.com
SUMMARY:Octave Above
DESCRIPTION:Enjoy live music from Octave Above\, 6-9.
URL:https://figtreecoffee.com/event/octave-above-4/
LOCATION:The Fig Tree\, 217 Vernon Street\, Roseville\, CA\, 95678\, United States
CATEGORIES:Live Music
ATTACH;FMTTYPE=image/jpeg:https://figtreecoffee.com/wp-content/uploads/2023/04/Live-Music.jpg
END:VEVENT
BEGIN:VEVENT
DTSTART;TZID=America/Los_Angeles:20230606T180000
DTEND;TZID=America/Los_Angeles:20230606T210000
DTSTAMP:20260425T193620
CREATED:20230606T042845Z
LAST-MODIFIED:20230606T042845Z
UID:2550-1686074400-1686085200@figtreecoffee.com
SUMMARY:Madalyn Werntz
DESCRIPTION:Enjoy live music from Madalyn Werntz\, 6-7.
URL:https://figtreecoffee.com/event/madalyn-werntz/
LOCATION:The Fig Tree\, 217 Vernon Street\, Roseville\, CA\, 95678\, United States
CATEGORIES:Live Music
ATTACH;FMTTYPE=image/jpeg:https://figtreecoffee.com/wp-content/uploads/2023/04/Live-Music.jpg
END:VEVENT
BEGIN:VEVENT
DTSTART;TZID=America/Los_Angeles:20230603T180000
DTEND;TZID=America/Los_Angeles:20230603T210000
DTSTAMP:20260425T193620
CREATED:20230602T044102Z
LAST-MODIFIED:20230602T044102Z
UID:2537-1685815200-1685826000@figtreecoffee.com
SUMMARY:Open Mic Night
DESCRIPTION:We hosted the best open mic\,\ntil’ Covid hit\, then we said sike!\nwe took it away\,\nuntil yesterday\,\nand now you can sing as you’d like! \nThat’s right! Our favorite event is back in action every Saturday this month! Rules are as follows: \n1. All materials must be family-friendly. \n2. The signup list will be available at 5 PM in-house. Time slots will be first come first serve. \n3. We encourage each other and create a positive environment\, no matter how big or small. \nThat being said\, we hope to see you there!
URL:https://figtreecoffee.com/event/open-mic-night-26/
LOCATION:The Fig Tree\, 217 Vernon Street\, Roseville\, CA\, 95678\, United States
CATEGORIES:Open Mic
ATTACH;FMTTYPE=image/jpeg:https://figtreecoffee.com/wp-content/uploads/2023/04/open-mic-Night.jpg
END:VEVENT
BEGIN:VEVENT
DTSTART;TZID=America/Los_Angeles:20230602T180000
DTEND;TZID=America/Los_Angeles:20230602T210000
DTSTAMP:20260425T193620
CREATED:20230602T044302Z
LAST-MODIFIED:20230602T044302Z
UID:2541-1685728800-1685739600@figtreecoffee.com
SUMMARY:Sam Miller & Rumi Shimada
DESCRIPTION:Enjoy live music from Sam Miller\, between 6 pm to 7 pm\, and Rumi Shimada from 7 pm to 9 pm.
URL:https://figtreecoffee.com/event/sam-miller-rumi-shimada/
LOCATION:The Fig Tree\, 217 Vernon Street\, Roseville\, CA\, 95678\, United States
CATEGORIES:Live Music
ATTACH;FMTTYPE=image/jpeg:https://figtreecoffee.com/wp-content/uploads/2023/04/Live-Music.jpg
END:VEVENT
BEGIN:VEVENT
DTSTART;TZID=America/Los_Angeles:20230601T180000
DTEND;TZID=America/Los_Angeles:20230601T210000
DTSTAMP:20260425T193620
CREATED:20230602T044143Z
LAST-MODIFIED:20230602T044143Z
UID:2539-1685642400-1685653200@figtreecoffee.com
SUMMARY:Rachel Mullen & Donrico DeCastro
DESCRIPTION:Enjoy live music from Rachel Mullen between 6 to 7 pm and Donrico DeCastro takes the stage from 7-9 pm.
URL:https://figtreecoffee.com/event/rachel-mullen-donrico-decastro/
LOCATION:The Fig Tree\, 217 Vernon Street\, Roseville\, CA\, 95678\, United States
CATEGORIES:Live Music
END:VEVENT
BEGIN:VEVENT
DTSTART;TZID=America/Los_Angeles:20230531T180000
DTEND;TZID=America/Los_Angeles:20230531T210000
DTSTAMP:20260425T193620
CREATED:20230602T044407Z
LAST-MODIFIED:20230602T044407Z
UID:2545-1685556000-1685566800@figtreecoffee.com
SUMMARY:Dalton McLaughlin & Daryla
DESCRIPTION:Enjoy live music from Dalton McLaughlin between 6 to 7 pm and Daryla takes the stage from 7-9 pm.
URL:https://figtreecoffee.com/event/dalton-mclaughlin-daryla-2/
LOCATION:The Fig Tree\, 217 Vernon Street\, Roseville\, CA\, 95678\, United States
CATEGORIES:Live Music
ATTACH;FMTTYPE=image/jpeg:https://figtreecoffee.com/wp-content/uploads/2023/04/Live-Music.jpg
END:VEVENT
BEGIN:VEVENT
DTSTART;TZID=America/Los_Angeles:20230530T180000
DTEND;TZID=America/Los_Angeles:20230530T210000
DTSTAMP:20260425T193620
CREATED:20230602T044332Z
LAST-MODIFIED:20230602T044332Z
UID:2543-1685469600-1685480400@figtreecoffee.com
SUMMARY:Lydia
DESCRIPTION:Enjoy live music from Lydia\, 6-7.
URL:https://figtreecoffee.com/event/lydia/
LOCATION:The Fig Tree\, 217 Vernon Street\, Roseville\, CA\, 95678\, United States
CATEGORIES:Live Music
ATTACH;FMTTYPE=image/jpeg:https://figtreecoffee.com/wp-content/uploads/2023/04/Live-Music.jpg
END:VEVENT
BEGIN:VEVENT
DTSTART;TZID=America/Los_Angeles:20230527T180000
DTEND;TZID=America/Los_Angeles:20230527T210000
DTSTAMP:20260425T193620
CREATED:20230523T042705Z
LAST-MODIFIED:20230523T042705Z
UID:2514-1685210400-1685221200@figtreecoffee.com
SUMMARY:Open Mic Night
DESCRIPTION:We hosted the best open mic\,\ntil’ Covid hit\, then we said sike!\nwe took it away\,\nuntil yesterday\,\nand now you can sing as you’d like! \nThat’s right! Our favorite event is back in action every Saturday this month! Rules are as follows: \n1. All materials must be family-friendly. \n2. The signup list will be available at 5 PM in-house. Time slots will be first come first serve. \n3. We encourage each other and create a positive environment\, no matter how big or small. \nThat being said\, we hope to see you there!
URL:https://figtreecoffee.com/event/open-mic-night-25/
LOCATION:The Fig Tree\, 217 Vernon Street\, Roseville\, CA\, 95678\, United States
CATEGORIES:Open Mic
ATTACH;FMTTYPE=image/jpeg:https://figtreecoffee.com/wp-content/uploads/2023/04/open-mic-Night.jpg
END:VEVENT
BEGIN:VEVENT
DTSTART;TZID=America/Los_Angeles:20230526T180000
DTEND;TZID=America/Los_Angeles:20230526T210000
DTSTAMP:20260425T193620
CREATED:20230523T042910Z
LAST-MODIFIED:20230523T042910Z
UID:2522-1685124000-1685134800@figtreecoffee.com
SUMMARY:Celia St Croix & Wesley Laumer
DESCRIPTION:Enjoy live music from Celia St Croix between 6 to 7 pm and Wesley Laumer takes the stage from 7-9 pm.
URL:https://figtreecoffee.com/event/celia-st-croix-wesley-laumer/
LOCATION:The Fig Tree\, 217 Vernon Street\, Roseville\, CA\, 95678\, United States
CATEGORIES:Live Music
END:VEVENT
BEGIN:VEVENT
DTSTART;TZID=America/Los_Angeles:20230525T180000
DTEND;TZID=America/Los_Angeles:20230525T210000
DTSTAMP:20260425T193620
CREATED:20230523T042836Z
LAST-MODIFIED:20230523T042836Z
UID:2520-1685037600-1685048400@figtreecoffee.com
SUMMARY:Rumi Shimada Trio
DESCRIPTION:Enjoy live music from Rumi Shimada Trio\, 6-9.
URL:https://figtreecoffee.com/event/rumi-shimada-trio/
LOCATION:The Fig Tree\, 217 Vernon Street\, Roseville\, CA\, 95678\, United States
CATEGORIES:Live Music
ATTACH;FMTTYPE=image/jpeg:https://figtreecoffee.com/wp-content/uploads/2023/04/Live-Music.jpg
END:VEVENT
BEGIN:VEVENT
DTSTART;TZID=America/Los_Angeles:20230524T180000
DTEND;TZID=America/Los_Angeles:20230524T210000
DTSTAMP:20260425T193620
CREATED:20230523T042802Z
LAST-MODIFIED:20230523T042802Z
UID:2518-1684951200-1684962000@figtreecoffee.com
SUMMARY:Octave Above
DESCRIPTION:Enjoy live music from Octave Above\, 6-9.
URL:https://figtreecoffee.com/event/octave-above-3/
LOCATION:The Fig Tree\, 217 Vernon Street\, Roseville\, CA\, 95678\, United States
CATEGORIES:Live Music
ATTACH;FMTTYPE=image/jpeg:https://figtreecoffee.com/wp-content/uploads/2023/04/Live-Music.jpg
END:VEVENT
BEGIN:VEVENT
DTSTART;TZID=America/Los_Angeles:20230523T180000
DTEND;TZID=America/Los_Angeles:20230523T210000
DTSTAMP:20260425T193620
CREATED:20230523T042741Z
LAST-MODIFIED:20230523T043400Z
UID:2516-1684864800-1684875600@figtreecoffee.com
SUMMARY:Under the Canopy & Alec Ogston
DESCRIPTION:Enjoy live music from Under the Canopy between 6 to 7 pm and Alec Ogston takes the stage from 7-9 pm.
URL:https://figtreecoffee.com/event/under-the-canopy-alec-ogston/
LOCATION:The Fig Tree\, 217 Vernon Street\, Roseville\, CA\, 95678\, United States
CATEGORIES:Live Music
END:VEVENT
BEGIN:VEVENT
DTSTART;TZID=America/Los_Angeles:20230519T180000
DTEND;TZID=America/Los_Angeles:20230519T210000
DTSTAMP:20260425T193620
CREATED:20230516T045251Z
LAST-MODIFIED:20230516T045251Z
UID:2512-1684519200-1684530000@figtreecoffee.com
SUMMARY:Ocean Affonso & Isle of Stipe
DESCRIPTION:Enjoy live music from Ocean Affonso between 6 to 7 pm and sle of Stipe takes the stage from 7-9 pm.
URL:https://figtreecoffee.com/event/ocean-affonso-isle-of-stipe/
LOCATION:The Fig Tree\, 217 Vernon Street\, Roseville\, CA\, 95678\, United States
CATEGORIES:Live Music
END:VEVENT
BEGIN:VEVENT
DTSTART;TZID=America/Los_Angeles:20230518T180000
DTEND;TZID=America/Los_Angeles:20230518T210000
DTSTAMP:20260425T193620
CREATED:20230516T045145Z
LAST-MODIFIED:20230516T045145Z
UID:2509-1684432800-1684443600@figtreecoffee.com
SUMMARY:Jion Jugo & Daryla
DESCRIPTION:Enjoy live music from Jion Jugo between 6 to 7 pm and Daryla takes the stage from 7-9 pm.
URL:https://figtreecoffee.com/event/jion-jugo-daryla/
LOCATION:The Fig Tree\, 217 Vernon Street\, Roseville\, CA\, 95678\, United States
CATEGORIES:Live Music
ATTACH;FMTTYPE=image/jpeg:https://figtreecoffee.com/wp-content/uploads/2023/04/Live-Music.jpg
END:VEVENT
BEGIN:VEVENT
DTSTART;TZID=America/Los_Angeles:20230517T180000
DTEND;TZID=America/Los_Angeles:20230517T210000
DTSTAMP:20260425T193620
CREATED:20230516T045118Z
LAST-MODIFIED:20230516T045216Z
UID:2507-1684346400-1684357200@figtreecoffee.com
SUMMARY:ZAY & Jion Jugo
DESCRIPTION:Enjoy live music from ZAY between 6 to 7 pm and Jion Jugo takes the stage from 7-9 pm.
URL:https://figtreecoffee.com/event/zay-jion-jugo/
LOCATION:The Fig Tree\, 217 Vernon Street\, Roseville\, CA\, 95678\, United States
CATEGORIES:Live Music
ATTACH;FMTTYPE=image/jpeg:https://figtreecoffee.com/wp-content/uploads/2023/04/Live-Music.jpg
END:VEVENT
BEGIN:VEVENT
DTSTART;TZID=America/Los_Angeles:20230516T180000
DTEND;TZID=America/Los_Angeles:20230516T210000
DTSTAMP:20260425T193620
CREATED:20230516T044930Z
LAST-MODIFIED:20230516T044930Z
UID:2505-1684260000-1684270800@figtreecoffee.com
SUMMARY:Sam Miller & Josh Gowen & Friends
DESCRIPTION:Enjoy live music from Sam Miller between 6 to 7 pm and Josh Gowen & Friends takes the stage from 7-9 pm.
URL:https://figtreecoffee.com/event/sam-miller-josh-gowen-friends/
LOCATION:The Fig Tree\, 217 Vernon Street\, Roseville\, CA\, 95678\, United States
CATEGORIES:Live Music
END:VEVENT
BEGIN:VEVENT
DTSTART;TZID=America/Los_Angeles:20230513T180000
DTEND;TZID=America/Los_Angeles:20230513T210000
DTSTAMP:20260425T193620
CREATED:20230516T044758Z
LAST-MODIFIED:20230516T044758Z
UID:2479-1684000800-1684011600@figtreecoffee.com
SUMMARY:Open Mic Night
DESCRIPTION:We hosted the best open mic\,\ntil’ Covid hit\, then we said sike!\nwe took it away\,\nuntil yesterday\,\nand now you can sing as you’d like! \nThat’s right! Our favorite event is back in action every Saturday this month! Rules are as follows: \n1. All materials must be family-friendly. \n2. The signup list will be available at 5 PM in-house. Time slots will be first come first serve. \n3. We encourage each other and create a positive environment\, no matter how big or small. \nThat being said\, we hope to see you there!
URL:https://figtreecoffee.com/event/open-mic-night-24/
LOCATION:The Fig Tree\, 217 Vernon Street\, Roseville\, CA\, 95678\, United States
CATEGORIES:Open Mic
ATTACH;FMTTYPE=image/jpeg:https://figtreecoffee.com/wp-content/uploads/2023/04/open-mic-Night.jpg
END:VEVENT
BEGIN:VEVENT
DTSTART;TZID=America/Los_Angeles:20230513T180000
DTEND;TZID=America/Los_Angeles:20230513T210000
DTSTAMP:20260425T193620
CREATED:20230509T031046Z
LAST-MODIFIED:20230509T031046Z
UID:2475-1684000800-1684011600@figtreecoffee.com
SUMMARY:Open Mic Night
DESCRIPTION:We hosted the best open mic\,\ntil’ Covid hit\, then we said sike!\nwe took it away\,\nuntil yesterday\,\nand now you can sing as you’d like! \nThat’s right! Our favorite event is back in action every Saturday this month! Rules are as follows: \n1. All materials must be family-friendly. \n2. The signup list will be available at 5 PM in-house. Time slots will be first come first serve. \n3. We encourage each other and create a positive environment\, no matter how big or small. \nThat being said\, we hope to see you there!
URL:https://figtreecoffee.com/event/open-mic-night-23/
LOCATION:The Fig Tree\, 217 Vernon Street\, Roseville\, CA\, 95678\, United States
CATEGORIES:Open Mic
ATTACH;FMTTYPE=image/jpeg:https://figtreecoffee.com/wp-content/uploads/2023/04/open-mic-Night.jpg
END:VEVENT
BEGIN:VEVENT
DTSTART;TZID=America/Los_Angeles:20230512T180000
DTEND;TZID=America/Los_Angeles:20230512T210000
DTSTAMP:20260425T193620
CREATED:20230509T031505Z
LAST-MODIFIED:20230509T031505Z
UID:2484-1683914400-1683925200@figtreecoffee.com
SUMMARY:Daryla
DESCRIPTION:Enjoy live music from Daryla\, 6-9.
URL:https://figtreecoffee.com/event/daryla-4/
LOCATION:The Fig Tree\, 217 Vernon Street\, Roseville\, CA\, 95678\, United States
CATEGORIES:Live Music
ATTACH;FMTTYPE=image/jpeg:https://figtreecoffee.com/wp-content/uploads/2023/04/Live-Music.jpg
END:VEVENT
BEGIN:VEVENT
DTSTART;TZID=America/Los_Angeles:20230511T180000
DTEND;TZID=America/Los_Angeles:20230511T210000
DTSTAMP:20260425T193620
CREATED:20230509T031447Z
LAST-MODIFIED:20230509T031447Z
UID:2480-1683828000-1683838800@figtreecoffee.com
SUMMARY:Jaden Santini & Alec Ogston
DESCRIPTION:Enjoy live music from Jaden Santini between 6 to 7 pm and Alec Ogston takes the stage from 7-9 pm.
URL:https://figtreecoffee.com/event/jaden-santini-alec-ogston/
LOCATION:The Fig Tree\, 217 Vernon Street\, Roseville\, CA\, 95678\, United States
CATEGORIES:Live Music
END:VEVENT
BEGIN:VEVENT
DTSTART;TZID=America/Los_Angeles:20230510T180000
DTEND;TZID=America/Los_Angeles:20230510T210000
DTSTAMP:20260425T193620
CREATED:20230509T031424Z
LAST-MODIFIED:20230509T031424Z
UID:2481-1683741600-1683752400@figtreecoffee.com
SUMMARY:Octave Above
DESCRIPTION:Enjoy live music from Octave Above\, 6-9.
URL:https://figtreecoffee.com/event/octave-above-2/
LOCATION:The Fig Tree\, 217 Vernon Street\, Roseville\, CA\, 95678\, United States
CATEGORIES:Live Music
ATTACH;FMTTYPE=image/jpeg:https://figtreecoffee.com/wp-content/uploads/2023/04/Live-Music.jpg
END:VEVENT
BEGIN:VEVENT
DTSTART;TZID=America/Los_Angeles:20230509T180000
DTEND;TZID=America/Los_Angeles:20230509T210000
DTSTAMP:20260425T193620
CREATED:20230509T031152Z
LAST-MODIFIED:20230509T031152Z
UID:2477-1683655200-1683666000@figtreecoffee.com
SUMMARY:Sam Miller & Hill Country Band
DESCRIPTION:Enjoy live music from Sam Miller between 6 to 7 pm and Hill Country Band takes the stage from 7-9 pm.
URL:https://figtreecoffee.com/event/sam-miller-hill-country-band/
LOCATION:The Fig Tree\, 217 Vernon Street\, Roseville\, CA\, 95678\, United States
CATEGORIES:Live Music
END:VEVENT
BEGIN:VEVENT
DTSTART;TZID=America/Los_Angeles:20230506T180000
DTEND;TZID=America/Los_Angeles:20230506T210000
DTSTAMP:20260425T193620
CREATED:20230502T052235Z
LAST-MODIFIED:20230502T052235Z
UID:2462-1683396000-1683406800@figtreecoffee.com
SUMMARY:Open Mic Night
DESCRIPTION:We hosted the best open mic\,\ntil’ Covid hit\, then we said sike!\nwe took it away\,\nuntil yesterday\,\nand now you can sing as you’d like! \nThat’s right! Our favorite event is back in action every Saturday this month! Rules are as follows: \n1. All materials must be family-friendly. \n2. The signup list will be available at 5 PM in-house. Time slots will be first come first serve. \n3. We encourage each other and create a positive environment\, no matter how big or small. \nThat being said\, we hope to see you there!
URL:https://figtreecoffee.com/event/open-mic-night-22/
LOCATION:The Fig Tree\, 217 Vernon Street\, Roseville\, CA\, 95678\, United States
CATEGORIES:Open Mic
ATTACH;FMTTYPE=image/jpeg:https://figtreecoffee.com/wp-content/uploads/2023/04/open-mic-Night.jpg
END:VEVENT
BEGIN:VEVENT
DTSTART;TZID=America/Los_Angeles:20230505T180000
DTEND;TZID=America/Los_Angeles:20230505T210000
DTSTAMP:20260425T193620
CREATED:20230502T052559Z
LAST-MODIFIED:20230502T055928Z
UID:2470-1683309600-1683320400@figtreecoffee.com
SUMMARY:Savanna Lee
DESCRIPTION:Enjoy live music from a special guest to be announced between 6 to 7 pm and Savanna Lee takes the stage from 7-9 pm.
URL:https://figtreecoffee.com/event/savanna-lee/
LOCATION:The Fig Tree\, 217 Vernon Street\, Roseville\, CA\, 95678\, United States
CATEGORIES:Live Music
ATTACH;FMTTYPE=image/jpeg:https://figtreecoffee.com/wp-content/uploads/2023/04/Live-Music.jpg
END:VEVENT
BEGIN:VEVENT
DTSTART;TZID=America/Los_Angeles:20230504T180000
DTEND;TZID=America/Los_Angeles:20230504T210000
DTSTAMP:20260425T193620
CREATED:20230502T052448Z
LAST-MODIFIED:20230502T055429Z
UID:2468-1683223200-1683234000@figtreecoffee.com
SUMMARY:Graven Tyler & Isaac Morris
DESCRIPTION:Enjoy live music from Graven Tyler between 6 to 7 pm and Isaac Morris takes the stage from 7-9 pm.
URL:https://figtreecoffee.com/event/graven-tyler-isaac-morris-3/
LOCATION:The Fig Tree\, 217 Vernon Street\, Roseville\, CA\, 95678\, United States
CATEGORIES:Live Music
ATTACH;FMTTYPE=image/jpeg:https://figtreecoffee.com/wp-content/uploads/2023/04/Live-Music.jpg
END:VEVENT
BEGIN:VEVENT
DTSTART;TZID=America/Los_Angeles:20230503T180000
DTEND;TZID=America/Los_Angeles:20230503T210000
DTSTAMP:20260425T193620
CREATED:20230502T052344Z
LAST-MODIFIED:20230502T055333Z
UID:2466-1683136800-1683147600@figtreecoffee.com
SUMMARY:Dalton McLaughlin & Jion Jugo
DESCRIPTION:Enjoy live music from Dalton McLaughlin between 6 to 7 pm and Jion Jugo takes the stage from 7-9 pm.
URL:https://figtreecoffee.com/event/dalton-mclaughlin-jion-jugo/
LOCATION:The Fig Tree\, 217 Vernon Street\, Roseville\, CA\, 95678\, United States
CATEGORIES:Live Music
ATTACH;FMTTYPE=image/jpeg:https://figtreecoffee.com/wp-content/uploads/2023/04/Live-Music.jpg
END:VEVENT
BEGIN:VEVENT
DTSTART;TZID=America/Los_Angeles:20230502T180000
DTEND;TZID=America/Los_Angeles:20230502T210000
DTSTAMP:20260425T193620
CREATED:20230502T052302Z
LAST-MODIFIED:20230502T055034Z
UID:2464-1683050400-1683061200@figtreecoffee.com
SUMMARY:Sam Miller & Derek Stevenson
DESCRIPTION:Enjoy live music from Sam Miller between 6 to 7 pm and Derek Stevenson takes the stage from 7-9 pm.
URL:https://figtreecoffee.com/event/sam-miller-derek-stevenson/
LOCATION:The Fig Tree\, 217 Vernon Street\, Roseville\, CA\, 95678\, United States
CATEGORIES:Live Music
ATTACH;FMTTYPE=image/jpeg:https://figtreecoffee.com/wp-content/uploads/2023/05/Live-Music-Derek-Stevenson.jpg
END:VEVENT
END:VCALENDAR