BEGIN:VCALENDAR
VERSION:2.0
PRODID:-//The Fig Tree - ECPv6.15.20//NONSGML v1.0//EN
CALSCALE:GREGORIAN
METHOD:PUBLISH
X-ORIGINAL-URL:https://figtreecoffee.com
X-WR-CALDESC:Events for The Fig Tree
REFRESH-INTERVAL;VALUE=DURATION:PT1H
X-Robots-Tag:noindex
X-PUBLISHED-TTL:PT1H
BEGIN:VTIMEZONE
TZID:America/Los_Angeles
BEGIN:DAYLIGHT
TZOFFSETFROM:-0800
TZOFFSETTO:-0700
TZNAME:PDT
DTSTART:20230312T100000
END:DAYLIGHT
BEGIN:STANDARD
TZOFFSETFROM:-0700
TZOFFSETTO:-0800
TZNAME:PST
DTSTART:20231105T090000
END:STANDARD
BEGIN:DAYLIGHT
TZOFFSETFROM:-0800
TZOFFSETTO:-0700
TZNAME:PDT
DTSTART:20240310T100000
END:DAYLIGHT
BEGIN:STANDARD
TZOFFSETFROM:-0700
TZOFFSETTO:-0800
TZNAME:PST
DTSTART:20241103T090000
END:STANDARD
BEGIN:DAYLIGHT
TZOFFSETFROM:-0800
TZOFFSETTO:-0700
TZNAME:PDT
DTSTART:20250309T100000
END:DAYLIGHT
BEGIN:STANDARD
TZOFFSETFROM:-0700
TZOFFSETTO:-0800
TZNAME:PST
DTSTART:20251102T090000
END:STANDARD
END:VTIMEZONE
BEGIN:VEVENT
DTSTART;TZID=America/Los_Angeles:20240210T180000
DTEND;TZID=America/Los_Angeles:20240210T210000
DTSTAMP:20260425T061408
CREATED:20240110T024820Z
LAST-MODIFIED:20240110T024820Z
UID:3295-1707588000-1707598800@figtreecoffee.com
SUMMARY:Open Mic Night
DESCRIPTION:Calling all performers and music lovers! Join us for an electrifying Open Mic Night where you can showcase your talents or simply enjoy an evening of diverse performances. It’s your stage\, your moment – let the music and creativity flow! \nRules are as follows: \n1. All materials must be family-friendly. \n2. The signup list will be available at 5 PM in-house. Time slots will be first come first serve. \n3. We encourage each other and create a positive environment\, whether big or small. \nWe hope to see you there!
URL:https://figtreecoffee.com/event/open-mic-night-49/
LOCATION:The Fig Tree\, 217 Vernon Street\, Roseville\, CA\, 95678\, United States
CATEGORIES:Open Mic
ATTACH;FMTTYPE=image/png:https://figtreecoffee.com/wp-content/uploads/2023/12/open-mic-Night.png
END:VEVENT
BEGIN:VEVENT
DTSTART;TZID=America/Los_Angeles:20240213T180000
DTEND;TZID=America/Los_Angeles:20240213T210000
DTSTAMP:20260425T061408
CREATED:20240213T002207Z
LAST-MODIFIED:20240213T002207Z
UID:3357-1707847200-1707858000@figtreecoffee.com
SUMMARY:Piano Night\, featuring Brenna Weeks
DESCRIPTION:Indulge in an enchanting evening of Piano Night with the talented Brenna Weeks. Join us for a musical journey as she fills the air with the timeless beauty of piano melodies from 6 pm to 9 pm.
URL:https://figtreecoffee.com/event/piano-night-featuring-brenna-weeks-3/
LOCATION:The Fig Tree\, 217 Vernon Street\, Roseville\, CA\, 95678\, United States
CATEGORIES:Piano Night
ATTACH;FMTTYPE=image/jpeg:https://figtreecoffee.com/wp-content/uploads/2024/02/Piano-Night-featuring-Brenna-Weeks-Vday.jpg
END:VEVENT
BEGIN:VEVENT
DTSTART;TZID=America/Los_Angeles:20240214T180000
DTEND;TZID=America/Los_Angeles:20240214T210000
DTSTAMP:20260425T061408
CREATED:20240213T002920Z
LAST-MODIFIED:20240213T002920Z
UID:3360-1707933600-1707944400@figtreecoffee.com
SUMMARY:Valentines Day Show: Donrico & Research Project Jazz Combo
DESCRIPTION:Love is in the air! Join us for a special Valentine’s Day Show featuring Donrico from 6-7 pm\, setting the romantic mood with soulful tunes. Then\, from 7-9 pm\, indulge in the enchanting melodies of the Research Project Jazz Combo. It’s an evening of love\, music\, and unforgettable performances.
URL:https://figtreecoffee.com/event/valentines-day-show-donrico-research-project-jazz-combo/
LOCATION:The Fig Tree\, 217 Vernon Street\, Roseville\, CA\, 95678\, United States
CATEGORIES:Live Music
ATTACH;FMTTYPE=image/jpeg:https://figtreecoffee.com/wp-content/uploads/2024/02/Live-Music-Donrico.jpg
END:VEVENT
BEGIN:VEVENT
DTSTART;TZID=America/Los_Angeles:20240215T180000
DTEND;TZID=America/Los_Angeles:20240215T210000
DTSTAMP:20260425T061408
CREATED:20240213T005413Z
LAST-MODIFIED:20240213T005413Z
UID:3364-1708020000-1708030800@figtreecoffee.com
SUMMARY:Pretika Shankar & Imagine Music Students
DESCRIPTION:Join us for an evening of musical magic! From 6-9 pm\, Pretika Shankar and Imagine Music Students will serenade you with enchanting melodies and captivating performances. It’s a night filled with talent\, passion\, and unforgettable music.
URL:https://figtreecoffee.com/event/pretika-shankar-imagine-music-students/
LOCATION:The Fig Tree\, 217 Vernon Street\, Roseville\, CA\, 95678\, United States
CATEGORIES:Live Entertainment
ATTACH;FMTTYPE=image/jpeg:https://figtreecoffee.com/wp-content/uploads/2024/02/Live-Performance-Pretika-Shankar-Imagine-Music-Students.jpg
END:VEVENT
BEGIN:VEVENT
DTSTART;TZID=America/Los_Angeles:20240216T170000
DTEND;TZID=America/Los_Angeles:20240216T200000
DTSTAMP:20260425T061408
CREATED:20240213T010339Z
LAST-MODIFIED:20240213T010339Z
UID:3367-1708102800-1708113600@figtreecoffee.com
SUMMARY:B2R Music Showcase
DESCRIPTION:Experience the future of music! Join us for the B2R Music Showcase from 5-8 pm\, where talented musicians will showcase their skills and passion on stage. It’s a night filled with diverse talent and captivating performances that you won’t want to miss.
URL:https://figtreecoffee.com/event/b2r-music-showcase/
LOCATION:The Fig Tree\, 217 Vernon Street\, Roseville\, CA\, 95678\, United States
CATEGORIES:Live Music
ATTACH;FMTTYPE=image/jpeg:https://figtreecoffee.com/wp-content/uploads/2024/02/Live-Music-B2R.jpg
END:VEVENT
BEGIN:VEVENT
DTSTART;TZID=America/Los_Angeles:20240217T180000
DTEND;TZID=America/Los_Angeles:20240217T210000
DTSTAMP:20260425T061408
CREATED:20240110T024834Z
LAST-MODIFIED:20240110T024834Z
UID:3297-1708192800-1708203600@figtreecoffee.com
SUMMARY:Open Mic Night
DESCRIPTION:Calling all performers and music lovers! Join us for an electrifying Open Mic Night where you can showcase your talents or simply enjoy an evening of diverse performances. It’s your stage\, your moment – let the music and creativity flow! \nRules are as follows: \n1. All materials must be family-friendly. \n2. The signup list will be available at 5 PM in-house. Time slots will be first come first serve. \n3. We encourage each other and create a positive environment\, whether big or small. \nWe hope to see you there!
URL:https://figtreecoffee.com/event/open-mic-night-50/
LOCATION:The Fig Tree\, 217 Vernon Street\, Roseville\, CA\, 95678\, United States
CATEGORIES:Open Mic
ATTACH;FMTTYPE=image/png:https://figtreecoffee.com/wp-content/uploads/2023/12/open-mic-Night.png
END:VEVENT
BEGIN:VEVENT
DTSTART;TZID=America/Los_Angeles:20240220T180000
DTEND;TZID=America/Los_Angeles:20240220T210000
DTSTAMP:20260425T061408
CREATED:20240220T065428Z
LAST-MODIFIED:20240220T065428Z
UID:3384-1708452000-1708462800@figtreecoffee.com
SUMMARY:Piano Night\, featuring Rachel Mullen
DESCRIPTION:Join us for an exquisite evening of Piano Night featuring the talented Rachel Mullen\, enchanting your senses from 6-9 pm. Immerse yourself in the timeless beauty of piano melodies and let the music weave a captivating experience.
URL:https://figtreecoffee.com/event/piano-night-featuring-rachel-mullen-3/
LOCATION:The Fig Tree\, 217 Vernon Street\, Roseville\, CA\, 95678\, United States
CATEGORIES:Piano Night
ATTACH;FMTTYPE=image/png:https://figtreecoffee.com/wp-content/uploads/2024/01/Piano-Night-featuring-Rachel-Mullen.png
END:VEVENT
BEGIN:VEVENT
DTSTART;TZID=America/Los_Angeles:20240221T180000
DTEND;TZID=America/Los_Angeles:20240221T210000
DTSTAMP:20260425T061408
CREATED:20240220T065518Z
LAST-MODIFIED:20240220T065518Z
UID:3386-1708538400-1708549200@figtreecoffee.com
SUMMARY:One Giant Fish
DESCRIPTION:Prepare for a musical extravaganza! Join us for the One Giant Fish Music Showcase from 6-9 pm. It’s a night filled with enchanting melodies and captivating performances that you won’t want to miss.
URL:https://figtreecoffee.com/event/one-giant-fish-2/
LOCATION:The Fig Tree\, 217 Vernon Street\, Roseville\, CA\, 95678\, United States
CATEGORIES:Live Music
ATTACH;FMTTYPE=image/png:https://figtreecoffee.com/wp-content/uploads/2024/02/Live-Music_20240203_220203_0000.png
END:VEVENT
BEGIN:VEVENT
DTSTART;TZID=America/Los_Angeles:20240222T180000
DTEND;TZID=America/Los_Angeles:20240222T210000
DTSTAMP:20260425T061408
CREATED:20240220T065625Z
LAST-MODIFIED:20240220T065625Z
UID:3388-1708624800-1708635600@figtreecoffee.com
SUMMARY:Rumi Shimada & Friends
DESCRIPTION:Embark on a musical adventure with Rumi Shimada & Friends from 6-9 pm. Join us for a night filled with soulful melodies and captivating performances that you won’t want to miss.
URL:https://figtreecoffee.com/event/rumi-shimada-friends-2/
LOCATION:The Fig Tree\, 217 Vernon Street\, Roseville\, CA\, 95678\, United States
CATEGORIES:Live Music
ATTACH;FMTTYPE=image/jpeg:https://figtreecoffee.com/wp-content/uploads/2024/01/Live-Music-Rumi-Shimada-Friends.jpg
END:VEVENT
BEGIN:VEVENT
DTSTART;TZID=America/Los_Angeles:20240223T180000
DTEND;TZID=America/Los_Angeles:20240223T210000
DTSTAMP:20260425T061408
CREATED:20240220T065726Z
LAST-MODIFIED:20240222T195310Z
UID:3390-1708711200-1708722000@figtreecoffee.com
SUMMARY:Madison Lazark & SOAK
DESCRIPTION:Join us for a musical journey! From 6-7 pm\, let Madison Lazark serenade you with enchanting melodies. Then\, from 7-9 pm\, immerse yourself in the dynamic sounds of SOAK. It’s an evening filled with diverse musical talents and captivating performances that you won’t want to miss.
URL:https://figtreecoffee.com/event/madison-lazark-soak/
LOCATION:The Fig Tree\, 217 Vernon Street\, Roseville\, CA\, 95678\, United States
CATEGORIES:Live Music
ATTACH;FMTTYPE=image/png:https://figtreecoffee.com/wp-content/uploads/2024/01/Live-Music-featuring-Madison-Lazark.png
END:VEVENT
BEGIN:VEVENT
DTSTART;TZID=America/Los_Angeles:20240224T180000
DTEND;TZID=America/Los_Angeles:20240224T210000
DTSTAMP:20260425T061408
CREATED:20240110T024853Z
LAST-MODIFIED:20240110T024853Z
UID:3299-1708797600-1708808400@figtreecoffee.com
SUMMARY:Open Mic Night
DESCRIPTION:Calling all performers and music lovers! Join us for an electrifying Open Mic Night where you can showcase your talents or simply enjoy an evening of diverse performances. It’s your stage\, your moment – let the music and creativity flow! \nRules are as follows: \n1. All materials must be family-friendly. \n2. The signup list will be available at 5 PM in-house. Time slots will be first come first serve. \n3. We encourage each other and create a positive environment\, whether big or small. \nWe hope to see you there!
URL:https://figtreecoffee.com/event/open-mic-night-51/
LOCATION:The Fig Tree\, 217 Vernon Street\, Roseville\, CA\, 95678\, United States
CATEGORIES:Open Mic
ATTACH;FMTTYPE=image/png:https://figtreecoffee.com/wp-content/uploads/2023/12/open-mic-Night.png
END:VEVENT
BEGIN:VEVENT
DTSTART;TZID=America/Los_Angeles:20240227T180000
DTEND;TZID=America/Los_Angeles:20240227T210000
DTSTAMP:20260425T061408
CREATED:20240226T212914Z
LAST-MODIFIED:20240226T212914Z
UID:3395-1709056800-1709067600@figtreecoffee.com
SUMMARY:Piano Night\, featuring Brenna Weeks
DESCRIPTION:Indulge in an enchanting evening of Piano Night with the talented Brenna Weeks. Join us for a musical journey as she fills the air with the timeless beauty of piano melodies from 6 pm to 9 pm.
URL:https://figtreecoffee.com/event/piano-night-featuring-brenna-weeks-4/
LOCATION:The Fig Tree\, 217 Vernon Street\, Roseville\, CA\, 95678\, United States
CATEGORIES:Piano Night
ATTACH;FMTTYPE=image/jpeg:https://figtreecoffee.com/wp-content/uploads/2024/02/Piano-Night-featuring-Brenna-Weeks-Vday.jpg
END:VEVENT
BEGIN:VEVENT
DTSTART;TZID=America/Los_Angeles:20240228T180000
DTEND;TZID=America/Los_Angeles:20240228T210000
DTSTAMP:20260425T061408
CREATED:20240226T213229Z
LAST-MODIFIED:20240226T213229Z
UID:3403-1709143200-1709154000@figtreecoffee.com
SUMMARY:Alina\, Tony Galioto\, & One Giant Fish
DESCRIPTION:Get ready for an evening of musical excellence! From 6-7 pm\, enjoy the enchanting melodies of Alina’s performance. Following at 7-8 pm\, let Tony Galioto captivate you with his soulful tunes. Concluding the night from 8-9 pm\, immerse yourself in the dynamic sounds of One Giant Fish. Join us for a night filled with diverse talent and unforgettable performances.
URL:https://figtreecoffee.com/event/alina-tony-galioto-one-giant-fish/
LOCATION:The Fig Tree\, 217 Vernon Street\, Roseville\, CA\, 95678\, United States
CATEGORIES:Live Music
ATTACH;FMTTYPE=image/png:https://figtreecoffee.com/wp-content/uploads/2024/02/Live-Music_20240203_220203_0000.png
END:VEVENT
BEGIN:VEVENT
DTSTART;TZID=America/Los_Angeles:20240229T180000
DTEND;TZID=America/Los_Angeles:20240229T210000
DTSTAMP:20260425T061408
CREATED:20240226T213441Z
LAST-MODIFIED:20240227T032153Z
UID:3405-1709229600-1709240400@figtreecoffee.com
SUMMARY:Sarah Star & Mizithra
DESCRIPTION:Join us for a night of musical delight! Enjoy a special performance from Sarah Star From 6-7 pm. Then from 7-9 pm\, let Mizithra serenade you with enchanting melodies. It’s an evening filled with diverse musical talents and captivating performances.
URL:https://figtreecoffee.com/event/mizithra/
LOCATION:The Fig Tree\, 217 Vernon Street\, Roseville\, CA\, 95678\, United States
CATEGORIES:Live Music
ATTACH;FMTTYPE=image/jpeg:https://figtreecoffee.com/wp-content/uploads/2024/02/Live-Music_20240226_133847_0000.jpg
END:VEVENT
BEGIN:VEVENT
DTSTART;TZID=America/Los_Angeles:20240301T180000
DTEND;TZID=America/Los_Angeles:20240301T210000
DTSTAMP:20260425T061408
CREATED:20240226T213518Z
LAST-MODIFIED:20240227T031915Z
UID:3407-1709316000-1709326800@figtreecoffee.com
SUMMARY:Suitable Ace & This Is It!
DESCRIPTION:Prepare for a jazz-filled evening! Enjoy a performance from Suitable Ace\, 6-7 pm. Then from 7-9 pm\, enjoy the smooth sounds of This Is It! Jazz Quartet. It’s an evening of musical diversity and captivating performances you won’t want to miss.
URL:https://figtreecoffee.com/event/this-is-it/
LOCATION:The Fig Tree\, 217 Vernon Street\, Roseville\, CA\, 95678\, United States
CATEGORIES:Live Music
ATTACH;FMTTYPE=image/png:https://figtreecoffee.com/wp-content/uploads/2024/02/February-Header_1920x1280.png
END:VEVENT
BEGIN:VEVENT
DTSTART;TZID=America/Los_Angeles:20240302T180000
DTEND;TZID=America/Los_Angeles:20240302T210000
DTSTAMP:20260425T061408
CREATED:20240226T212958Z
LAST-MODIFIED:20240226T212958Z
UID:3397-1709402400-1709413200@figtreecoffee.com
SUMMARY:Open Mic Night
DESCRIPTION:Calling all performers and music lovers! Join us for an electrifying Open Mic Night where you can showcase your talents or simply enjoy an evening of diverse performances. It’s your stage\, your moment – let the music and creativity flow! \nRules are as follows: \n1. All materials must be family-friendly. \n2. The signup list will be available at 5 PM in-house. Time slots will be first come first serve. \n3. We encourage each other and create a positive environment\, whether big or small. \nWe hope to see you there!
URL:https://figtreecoffee.com/event/open-mic-night-52/
LOCATION:The Fig Tree\, 217 Vernon Street\, Roseville\, CA\, 95678\, United States
CATEGORIES:Open Mic
ATTACH;FMTTYPE=image/png:https://figtreecoffee.com/wp-content/uploads/2023/12/open-mic-Night.png
END:VEVENT
BEGIN:VEVENT
DTSTART;TZID=America/Los_Angeles:20240305T180000
DTEND;TZID=America/Los_Angeles:20240305T210000
DTSTAMP:20260425T061408
CREATED:20240305T021046Z
LAST-MODIFIED:20240305T021046Z
UID:3415-1709661600-1709672400@figtreecoffee.com
SUMMARY:Piano Night\, featuring Rachel Mullen
DESCRIPTION:Join us for an exquisite evening of Piano Night featuring the talented Rachel Mullen\, enchanting your senses from 6-9 pm. Immerse yourself in the timeless beauty of piano melodies and let the music weave a captivating experience.
URL:https://figtreecoffee.com/event/piano-night-featuring-rachel-mullen-4/
LOCATION:The Fig Tree\, 217 Vernon Street\, Roseville\, CA\, 95678\, United States
CATEGORIES:Piano Night
ATTACH;FMTTYPE=image/png:https://figtreecoffee.com/wp-content/uploads/2024/01/Piano-Night-featuring-Rachel-Mullen.png
END:VEVENT
BEGIN:VEVENT
DTSTART;TZID=America/Los_Angeles:20240306T180000
DTEND;TZID=America/Los_Angeles:20240306T210000
DTSTAMP:20260425T061408
CREATED:20240305T021122Z
LAST-MODIFIED:20240305T021122Z
UID:3417-1709748000-1709758800@figtreecoffee.com
SUMMARY:One Giant Fish
DESCRIPTION:Prepare for a musical extravaganza! Join us for the One Giant Fish Music Showcase from 6-9 pm. It’s a night filled with enchanting melodies and captivating performances that you won’t want to miss.
URL:https://figtreecoffee.com/event/one-giant-fish-3/
LOCATION:The Fig Tree\, 217 Vernon Street\, Roseville\, CA\, 95678\, United States
CATEGORIES:Live Music
ATTACH;FMTTYPE=image/png:https://figtreecoffee.com/wp-content/uploads/2024/02/Live-Music_20240203_220203_0000.png
END:VEVENT
BEGIN:VEVENT
DTSTART;TZID=America/Los_Angeles:20240307T180000
DTEND;TZID=America/Los_Angeles:20240307T210000
DTSTAMP:20260425T061408
CREATED:20240305T021635Z
LAST-MODIFIED:20240305T021635Z
UID:3419-1709834400-1709845200@figtreecoffee.com
SUMMARY:Plaid Brothers
DESCRIPTION:Get ready for a night of musical charm! Join us for the Plaid Brothers from 6-9 pm\, where their eclectic tunes will create an atmosphere of pure delight and musical magic.
URL:https://figtreecoffee.com/event/plaid-brothers/
LOCATION:The Fig Tree\, 217 Vernon Street\, Roseville\, CA\, 95678\, United States
CATEGORIES:Live Music
ATTACH;FMTTYPE=image/jpeg:https://figtreecoffee.com/wp-content/uploads/2024/03/Live-Music_20240304_181601_0000.jpg
END:VEVENT
BEGIN:VEVENT
DTSTART;TZID=America/Los_Angeles:20240308T180000
DTEND;TZID=America/Los_Angeles:20240308T210000
DTSTAMP:20260425T061408
CREATED:20240305T022203Z
LAST-MODIFIED:20240305T022203Z
UID:3422-1709920800-1709931600@figtreecoffee.com
SUMMARY:Les RW; Jonathan Schneider; & Isaiah Lara
DESCRIPTION:Immerse yourself in an evening of diverse musical talents! From 6-7 pm\, Les RW will serenade you with enchanting melodies. Then\, from 7-8 pm\, let Jonathan Schneider captivate you with his soulful tunes. Finally\, from 8-9 pm\, enjoy the dynamic sounds of Isaiah Lara. It’s a night filled with captivating performances that you won’t want to miss.
URL:https://figtreecoffee.com/event/les-rw-jonathan-schneider-isaiah-lara/
LOCATION:The Fig Tree\, 217 Vernon Street\, Roseville\, CA\, 95678\, United States
CATEGORIES:Live Music
ATTACH;FMTTYPE=image/jpeg:https://figtreecoffee.com/wp-content/uploads/2024/03/Live-Music_20240304_182138_0000.jpg
END:VEVENT
BEGIN:VEVENT
DTSTART;TZID=America/Los_Angeles:20240309T180000
DTEND;TZID=America/Los_Angeles:20240309T210000
DTSTAMP:20260425T061408
CREATED:20240226T213017Z
LAST-MODIFIED:20240226T213017Z
UID:3399-1710007200-1710018000@figtreecoffee.com
SUMMARY:Open Mic Night
DESCRIPTION:Calling all performers and music lovers! Join us for an electrifying Open Mic Night where you can showcase your talents or simply enjoy an evening of diverse performances. It’s your stage\, your moment – let the music and creativity flow! \nRules are as follows: \n1. All materials must be family-friendly. \n2. The signup list will be available at 5 PM in-house. Time slots will be first come first serve. \n3. We encourage each other and create a positive environment\, whether big or small. \nWe hope to see you there!
URL:https://figtreecoffee.com/event/open-mic-night-53/
LOCATION:The Fig Tree\, 217 Vernon Street\, Roseville\, CA\, 95678\, United States
CATEGORIES:Open Mic
ATTACH;FMTTYPE=image/png:https://figtreecoffee.com/wp-content/uploads/2023/12/open-mic-Night.png
END:VEVENT
BEGIN:VEVENT
DTSTART;TZID=America/Los_Angeles:20240312T180000
DTEND;TZID=America/Los_Angeles:20240312T210000
DTSTAMP:20260425T061408
CREATED:20240311T183425Z
LAST-MODIFIED:20240311T183425Z
UID:3441-1710266400-1710277200@figtreecoffee.com
SUMMARY:Piano Night\, featuring Brenna Weeks
DESCRIPTION:Indulge in an enchanting evening of Piano Night with the talented Brenna Weeks. Join us for a musical journey as she fills the air with the timeless beauty of piano melodies from 6 pm to 9 pm.
URL:https://figtreecoffee.com/event/piano-night-featuring-brenna-weeks-5/
LOCATION:The Fig Tree\, 217 Vernon Street\, Roseville\, CA\, 95678\, United States
CATEGORIES:Piano Night
ATTACH;FMTTYPE=image/jpeg:https://figtreecoffee.com/wp-content/uploads/2024/02/Piano-Night-featuring-Brenna-Weeks-Vday.jpg
END:VEVENT
BEGIN:VEVENT
DTSTART;TZID=America/Los_Angeles:20240313T180000
DTEND;TZID=America/Los_Angeles:20240313T210000
DTSTAMP:20260425T061408
CREATED:20240311T183531Z
LAST-MODIFIED:20240311T183531Z
UID:3443-1710352800-1710363600@figtreecoffee.com
SUMMARY:One Giant Fish
DESCRIPTION:Prepare for a musical extravaganza! Join us for the One Giant Fish Music Showcase from 6-9 pm. It’s a night filled with enchanting melodies and captivating performances that you won’t want to miss.
URL:https://figtreecoffee.com/event/one-giant-fish-4/
LOCATION:The Fig Tree\, 217 Vernon Street\, Roseville\, CA\, 95678\, United States
CATEGORIES:Live Music
ATTACH;FMTTYPE=image/png:https://figtreecoffee.com/wp-content/uploads/2024/02/Live-Music_20240203_220203_0000.png
END:VEVENT
BEGIN:VEVENT
DTSTART;TZID=America/Los_Angeles:20240314T183000
DTEND;TZID=America/Los_Angeles:20240314T203000
DTSTAMP:20260425T061408
CREATED:20240311T183917Z
LAST-MODIFIED:20240311T183917Z
UID:3445-1710441000-1710448200@figtreecoffee.com
SUMMARY:Meet the Author: Gurmeet Kaur
DESCRIPTION:Join us for a special Meet the Author Event featuring Gurmeet Kaur from 6:30-8:30 PM. Don’t miss the chance to enjoy your favorite fig coffee drink while engaging with the author!
URL:https://figtreecoffee.com/event/meet-the-author-gurmeet-kaur/
LOCATION:The Fig Tree\, 217 Vernon Street\, Roseville\, CA\, 95678\, United States
CATEGORIES:Meet the Author
ATTACH;FMTTYPE=image/jpeg:https://figtreecoffee.com/wp-content/uploads/2024/03/Meet-The-Author-Flyer.jpeg
END:VEVENT
BEGIN:VEVENT
DTSTART;TZID=America/Los_Angeles:20240315T180000
DTEND;TZID=America/Los_Angeles:20240315T210000
DTSTAMP:20260425T061408
CREATED:20240311T184233Z
LAST-MODIFIED:20240311T192402Z
UID:3448-1710525600-1710536400@figtreecoffee.com
SUMMARY:Mischief & Lydia Shepherd
DESCRIPTION:Join us for a night of literary excitement! From 6-8 PM\, immerse yourself in Mischief with captivating tales\, followed by an engaging session with Lydia Shepherd from 8-9 PM. Don’t miss out on this unique opportunity!
URL:https://figtreecoffee.com/event/mischief-lydia-shepherd/
LOCATION:The Fig Tree\, 217 Vernon Street\, Roseville\, CA\, 95678\, United States
CATEGORIES:Live Music
ATTACH;FMTTYPE=image/jpeg:https://figtreecoffee.com/wp-content/uploads/2024/03/Live-Music_20240311_122253_0000.jpg
END:VEVENT
BEGIN:VEVENT
DTSTART;TZID=America/Los_Angeles:20240316T180000
DTEND;TZID=America/Los_Angeles:20240316T210000
DTSTAMP:20260425T061408
CREATED:20240226T213030Z
LAST-MODIFIED:20240311T184402Z
UID:3401-1710612000-1710622800@figtreecoffee.com
SUMMARY:Open Mic Night
DESCRIPTION:Calling all performers and music lovers! Join us for an electrifying Open Mic Night where you can showcase your talents or simply enjoy an evening of diverse performances. It’s your stage\, your moment – let the music and creativity flow! \nRules are as follows: \n1. All materials must be family-friendly. \n2. The signup list will be available at 5 PM in-house. Time slots will be first come first serve. \n3. We encourage each other and create a positive environment\, whether big or small. \nWe hope to see you there!
URL:https://figtreecoffee.com/event/open-mic-night-54/
LOCATION:The Fig Tree\, 217 Vernon Street\, Roseville\, CA\, 95678\, United States
CATEGORIES:Open Mic
ATTACH;FMTTYPE=image/png:https://figtreecoffee.com/wp-content/uploads/2023/12/open-mic-Night.png
END:VEVENT
BEGIN:VEVENT
DTSTART;TZID=America/Los_Angeles:20240319T180000
DTEND;TZID=America/Los_Angeles:20240319T210000
DTSTAMP:20260425T061408
CREATED:20240319T213445Z
LAST-MODIFIED:20240319T213445Z
UID:3452-1710871200-1710882000@figtreecoffee.com
SUMMARY:Piano Night\, featuring Rachel Mullen
DESCRIPTION:Join us for an exquisite evening of Piano Night featuring the talented Rachel Mullen\, enchanting your senses from 6-9 pm. Immerse yourself in the timeless beauty of piano melodies and let the music weave a captivating experience.
URL:https://figtreecoffee.com/event/piano-night-featuring-rachel-mullen-5/
LOCATION:The Fig Tree\, 217 Vernon Street\, Roseville\, CA\, 95678\, United States
CATEGORIES:Piano Night
ATTACH;FMTTYPE=image/png:https://figtreecoffee.com/wp-content/uploads/2024/01/Piano-Night-featuring-Rachel-Mullen.png
END:VEVENT
BEGIN:VEVENT
DTSTART;TZID=America/Los_Angeles:20240320T180000
DTEND;TZID=America/Los_Angeles:20240320T210000
DTSTAMP:20260425T061408
CREATED:20240319T214248Z
LAST-MODIFIED:20240319T214248Z
UID:3454-1710957600-1710968400@figtreecoffee.com
SUMMARY:One Giant Fish
DESCRIPTION:Prepare for a musical extravaganza! Join us for the One Giant Fish Music Showcase from 6-9 pm. It’s a night filled with enchanting melodies and captivating performances that you won’t want to miss.
URL:https://figtreecoffee.com/event/one-giant-fish-5/
LOCATION:The Fig Tree\, 217 Vernon Street\, Roseville\, CA\, 95678\, United States
CATEGORIES:Live Music
ATTACH;FMTTYPE=image/png:https://figtreecoffee.com/wp-content/uploads/2024/02/Live-Music_20240203_220203_0000.png
END:VEVENT
BEGIN:VEVENT
DTSTART;TZID=America/Los_Angeles:20240321T180000
DTEND;TZID=America/Los_Angeles:20240321T210000
DTSTAMP:20260425T061408
CREATED:20240319T214336Z
LAST-MODIFIED:20240319T214336Z
UID:3456-1711044000-1711054800@figtreecoffee.com
SUMMARY:Rumi Shimada & Friends
DESCRIPTION:Embark on a musical adventure with Rumi Shimada & Friends from 6-9 pm. Join us for a night filled with soulful melodies and captivating performances that you won’t want to miss.
URL:https://figtreecoffee.com/event/rumi-shimada-friends-3/
LOCATION:The Fig Tree\, 217 Vernon Street\, Roseville\, CA\, 95678\, United States
CATEGORIES:Live Music
ATTACH;FMTTYPE=image/jpeg:https://figtreecoffee.com/wp-content/uploads/2024/01/Live-Music-Rumi-Shimada-Friends.jpg
END:VEVENT
BEGIN:VEVENT
DTSTART;TZID=America/Los_Angeles:20240322T180000
DTEND;TZID=America/Los_Angeles:20240322T210000
DTSTAMP:20260425T061408
CREATED:20240319T215002Z
LAST-MODIFIED:20240319T215044Z
UID:3458-1711130400-1711141200@figtreecoffee.com
SUMMARY:Jebby K
DESCRIPTION:Kick off your weekend with Jebby K from 6-9 pm! Sip on our March special coffee drinks like Pot o’ Gold or Fairy Garden while immersing yourself in live music. It’s the perfect blend of delightful tunes and magical flavors to start your Friday night right.
URL:https://figtreecoffee.com/event/jebby-k-2/
LOCATION:The Fig Tree\, 217 Vernon Street\, Roseville\, CA\, 95678\, United States
CATEGORIES:Live Music
ATTACH;FMTTYPE=image/jpeg:https://figtreecoffee.com/wp-content/uploads/2024/03/Live-Music-Featuring-Jebby-K.jpg
END:VEVENT
END:VCALENDAR