BEGIN:VCALENDAR
VERSION:2.0
PRODID:-//The Fig Tree - ECPv6.15.20//NONSGML v1.0//EN
CALSCALE:GREGORIAN
METHOD:PUBLISH
X-ORIGINAL-URL:https://figtreecoffee.com
X-WR-CALDESC:Events for The Fig Tree
REFRESH-INTERVAL;VALUE=DURATION:PT1H
X-Robots-Tag:noindex
X-PUBLISHED-TTL:PT1H
BEGIN:VTIMEZONE
TZID:America/Los_Angeles
BEGIN:DAYLIGHT
TZOFFSETFROM:-0800
TZOFFSETTO:-0700
TZNAME:PDT
DTSTART:20220313T100000
END:DAYLIGHT
BEGIN:STANDARD
TZOFFSETFROM:-0700
TZOFFSETTO:-0800
TZNAME:PST
DTSTART:20221106T090000
END:STANDARD
BEGIN:DAYLIGHT
TZOFFSETFROM:-0800
TZOFFSETTO:-0700
TZNAME:PDT
DTSTART:20230312T100000
END:DAYLIGHT
BEGIN:STANDARD
TZOFFSETFROM:-0700
TZOFFSETTO:-0800
TZNAME:PST
DTSTART:20231105T090000
END:STANDARD
BEGIN:DAYLIGHT
TZOFFSETFROM:-0800
TZOFFSETTO:-0700
TZNAME:PDT
DTSTART:20240310T100000
END:DAYLIGHT
BEGIN:STANDARD
TZOFFSETFROM:-0700
TZOFFSETTO:-0800
TZNAME:PST
DTSTART:20241103T090000
END:STANDARD
END:VTIMEZONE
BEGIN:VEVENT
DTSTART;TZID=America/Los_Angeles:20230720T180000
DTEND;TZID=America/Los_Angeles:20230720T210000
DTSTAMP:20260425T175748
CREATED:20230719T155549Z
LAST-MODIFIED:20230719T155549Z
UID:2650-1689876000-1689886800@figtreecoffee.com
SUMMARY:GarSham
DESCRIPTION:Join us for live music featuring GarSham from 6-9 pm! This is an excellent opportunity to see one of our talented and local musicians in the area perform.
URL:https://figtreecoffee.com/event/garsham/
LOCATION:The Fig Tree\, 217 Vernon Street\, Roseville\, CA\, 95678\, United States
CATEGORIES:Live Music
ATTACH;FMTTYPE=image/jpeg:https://figtreecoffee.com/wp-content/uploads/2023/04/Live-Music.jpg
END:VEVENT
BEGIN:VEVENT
DTSTART;TZID=America/Los_Angeles:20230721T180000
DTEND;TZID=America/Los_Angeles:20230721T210000
DTSTAMP:20260425T175748
CREATED:20230719T155625Z
LAST-MODIFIED:20230719T155625Z
UID:2652-1689962400-1689973200@figtreecoffee.com
SUMMARY:Rumi Shimada Trio
DESCRIPTION:Enjoy live music from Rumi Shimada Trio\, 6-9.
URL:https://figtreecoffee.com/event/rumi-shimada-trio-2/
LOCATION:The Fig Tree\, 217 Vernon Street\, Roseville\, CA\, 95678\, United States
CATEGORIES:Live Music
ATTACH;FMTTYPE=image/jpeg:https://figtreecoffee.com/wp-content/uploads/2023/04/Live-Music.jpg
END:VEVENT
BEGIN:VEVENT
DTSTART;TZID=America/Los_Angeles:20230722T180000
DTEND;TZID=America/Los_Angeles:20230722T210000
DTSTAMP:20260425T175748
CREATED:20230719T155514Z
LAST-MODIFIED:20230719T155514Z
UID:2648-1690048800-1690059600@figtreecoffee.com
SUMMARY:Open Mic Night
DESCRIPTION:Join us for our Open Mic Night at Fig Coffee! All are welcome to perform. This is an excellent opportunity to share your talents with the community and have fun! \nRules are as follows: \n1. All materials must be family-friendly. \n2. The signup list will be available at 5 PM in-house. Time slots will be first come first serve. \n3. We encourage each other and create a positive environment\, whether big or small. \nWe hope to see you there! \nHost: Alec Ogston
URL:https://figtreecoffee.com/event/open-mic-night-33/
LOCATION:The Fig Tree\, 217 Vernon Street\, Roseville\, CA\, 95678\, United States
CATEGORIES:Open Mic
ATTACH;FMTTYPE=image/jpeg:https://figtreecoffee.com/wp-content/uploads/2023/04/open-mic-Night.jpg
END:VEVENT
BEGIN:VEVENT
DTSTART;TZID=America/Los_Angeles:20230726T180000
DTEND;TZID=America/Los_Angeles:20230726T210000
DTSTAMP:20260425T175748
CREATED:20230728T055808Z
LAST-MODIFIED:20230728T055808Z
UID:2655-1690394400-1690405200@figtreecoffee.com
SUMMARY:Alec Ogston
DESCRIPTION:Enjoy live music from Alec Ogston between 6 to 9 pm
URL:https://figtreecoffee.com/event/alec-ogston/
LOCATION:The Fig Tree\, 217 Vernon Street\, Roseville\, CA\, 95678\, United States
CATEGORIES:Live Music
ATTACH;FMTTYPE=image/png:https://figtreecoffee.com/wp-content/uploads/2022/09/Live-Music.png
END:VEVENT
BEGIN:VEVENT
DTSTART;TZID=America/Los_Angeles:20230728T180000
DTEND;TZID=America/Los_Angeles:20230728T210000
DTSTAMP:20260425T175748
CREATED:20230728T055953Z
LAST-MODIFIED:20230728T060002Z
UID:2657-1690567200-1690578000@figtreecoffee.com
SUMMARY:Mischief & The Studebakers
DESCRIPTION:Join us for an evening of pure fun and lively entertainment! From 6-8 pm\, Mischief will bring their playful tunes to the stage\, followed by the rockin’ sounds of The Studebakers from 8-9 pm. Get ready to dance\, sing along\, and create memories with friends and family at this fantastic live music event
URL:https://figtreecoffee.com/event/mischief-the-studebakers/
LOCATION:The Fig Tree\, 217 Vernon Street\, Roseville\, CA\, 95678\, United States
CATEGORIES:Live Music
ATTACH;FMTTYPE=image/jpeg:https://figtreecoffee.com/wp-content/uploads/2023/04/Live-Music.jpg
END:VEVENT
BEGIN:VEVENT
DTSTART;TZID=America/Los_Angeles:20230729T180000
DTEND;TZID=America/Los_Angeles:20230729T210000
DTSTAMP:20260425T175748
CREATED:20230728T060038Z
LAST-MODIFIED:20230728T060038Z
UID:2660-1690653600-1690664400@figtreecoffee.com
SUMMARY:Open Mic Night
DESCRIPTION:Join us for our Open Mic Night at Fig Coffee! All are welcome to perform. This is an excellent opportunity to share your talents with the community and have fun! \nRules are as follows: \n1. All materials must be family-friendly. \n2. The signup list will be available at 5 PM in-house. Time slots will be first come first serve. \n3. We encourage each other and create a positive environment\, whether big or small. \nWe hope to see you there! \nHost: Josh
URL:https://figtreecoffee.com/event/open-mic-night-34/
LOCATION:The Fig Tree\, 217 Vernon Street\, Roseville\, CA\, 95678\, United States
CATEGORIES:Open Mic
ATTACH;FMTTYPE=image/jpeg:https://figtreecoffee.com/wp-content/uploads/2023/04/open-mic-Night.jpg
END:VEVENT
BEGIN:VEVENT
DTSTART;TZID=America/Los_Angeles:20230809T180000
DTEND;TZID=America/Los_Angeles:20230809T210000
DTSTAMP:20260425T175748
CREATED:20230811T035344Z
LAST-MODIFIED:20230811T035344Z
UID:2665-1691604000-1691614800@figtreecoffee.com
SUMMARY:SALT
DESCRIPTION:Mark your calendars for an ethereal musical journey on August 9th\, 6-9 pm\, as SALT takes the stage. Experience a captivating blend of piano and vocals\, featuring original compositions and enchanting covers. Immerse yourself in the enchanting world of ethereal rock\, reminiscent of Tori Amos and early David Bowie\, for an unforgettable night of music.
URL:https://figtreecoffee.com/event/salt/
LOCATION:The Fig Tree\, 217 Vernon Street\, Roseville\, CA\, 95678\, United States
CATEGORIES:Live Music
ATTACH;FMTTYPE=image/jpeg:https://figtreecoffee.com/wp-content/uploads/2023/08/Salt.jpg
END:VEVENT
BEGIN:VEVENT
DTSTART;TZID=America/Los_Angeles:20230810T180000
DTEND;TZID=America/Los_Angeles:20230810T210000
DTSTAMP:20260425T175748
CREATED:20230811T035500Z
LAST-MODIFIED:20230811T035500Z
UID:2668-1691690400-1691701200@figtreecoffee.com
SUMMARY:Aaron Orbit & Savanna Lee
DESCRIPTION:Join us for an enchanting evening of live music! From 6-7 pm\, Aaron Orbit will mesmerize you with his unique sound\, followed by the soulful melodies of Savanna Lee from 7-9 pm. Experience a night of musical magic and captivating performances that will leave you wanting more!
URL:https://figtreecoffee.com/event/aaron-orbit-savanna-lee/
LOCATION:The Fig Tree\, 217 Vernon Street\, Roseville\, CA\, 95678\, United States
CATEGORIES:Live Music
ATTACH;FMTTYPE=image/jpeg:https://figtreecoffee.com/wp-content/uploads/2023/04/Live-Music.jpg
END:VEVENT
BEGIN:VEVENT
DTSTART;TZID=America/Los_Angeles:20230811T180000
DTEND;TZID=America/Los_Angeles:20230811T210000
DTSTAMP:20260425T175748
CREATED:20230811T035617Z
LAST-MODIFIED:20230811T035702Z
UID:2670-1691776800-1691787600@figtreecoffee.com
SUMMARY:James Erst & Of The Heart
DESCRIPTION:Get ready for an incredible musical experience! From 6-7 pm\, James Erst will serenade you with his captivating tunes. Then\, from 7-9 pm\, immerse yourself in the classic rock covers and originals from Of The Heart\, delivering a soulful solo performance that will have you grooving all night long. Join us for a night of diverse talent and unforgettable melodies!
URL:https://figtreecoffee.com/event/james-erst-of-the-heart/
LOCATION:The Fig Tree\, 217 Vernon Street\, Roseville\, CA\, 95678\, United States
CATEGORIES:Live Music
ATTACH;FMTTYPE=image/jpeg:https://figtreecoffee.com/wp-content/uploads/2023/04/Live-Music.jpg
END:VEVENT
BEGIN:VEVENT
DTSTART;TZID=America/Los_Angeles:20230816T180000
DTEND;TZID=America/Los_Angeles:20230816T210000
DTSTAMP:20260425T175748
CREATED:20230815T033052Z
LAST-MODIFIED:20230815T033052Z
UID:2684-1692208800-1692219600@figtreecoffee.com
SUMMARY:SALT
DESCRIPTION:Mark your calendars for an ethereal musical journey on August 9th\, 6-9 pm\, as SALT takes the stage. Experience a captivating blend of piano and vocals\, featuring original compositions and enchanting covers. Immerse yourself in the enchanting world of ethereal rock\, reminiscent of Tori Amos and early David Bowie\, for an unforgettable night of music.
URL:https://figtreecoffee.com/event/salt-2/
LOCATION:The Fig Tree\, 217 Vernon Street\, Roseville\, CA\, 95678\, United States
CATEGORIES:Live Music
ATTACH;FMTTYPE=image/jpeg:https://figtreecoffee.com/wp-content/uploads/2023/08/Salt.jpg
END:VEVENT
BEGIN:VEVENT
DTSTART;TZID=America/Los_Angeles:20230817T180000
DTEND;TZID=America/Los_Angeles:20230817T210000
DTSTAMP:20260425T175748
CREATED:20230815T033201Z
LAST-MODIFIED:20230815T033226Z
UID:2686-1692295200-1692306000@figtreecoffee.com
SUMMARY:Artie Lukas & Dirty Laundry
DESCRIPTION:Prepare for an electrifying night of live music! From 6-7 pm\, be mesmerized by Artie Lukas’ instrumental dueling electric guitars\, followed by the soulful banjo-driven Americana of Dirty Laundry from 7-9 pm. Join us for an unforgettable evening of diverse sounds and exceptional performances.
URL:https://figtreecoffee.com/event/artie-lukas-dirty-laundry/
LOCATION:The Fig Tree\, 217 Vernon Street\, Roseville\, CA\, 95678\, United States
CATEGORIES:Live Music
ATTACH;FMTTYPE=image/jpeg:https://figtreecoffee.com/wp-content/uploads/2023/04/Live-Music.jpg
END:VEVENT
BEGIN:VEVENT
DTSTART;TZID=America/Los_Angeles:20230818T180000
DTEND;TZID=America/Los_Angeles:20230818T200000
DTSTAMP:20260425T175748
CREATED:20230815T033320Z
LAST-MODIFIED:20230815T033320Z
UID:2688-1692381600-1692388800@figtreecoffee.com
SUMMARY:Celia St. Croix & Purely Awkward
DESCRIPTION:Experience a night of musical magic! From 6-7 pm\, Celia St. Croix will captivate you with her enchanting melodies\, followed by the unique sounds of Purely Awkward from 7-8 pm. Join us for an evening of diverse talent and unforgettable tunes.
URL:https://figtreecoffee.com/event/celia-st-croix-purely-awkward/
LOCATION:The Fig Tree\, 217 Vernon Street\, Roseville\, CA\, 95678\, United States
CATEGORIES:Live Music
ATTACH;FMTTYPE=image/jpeg:https://figtreecoffee.com/wp-content/uploads/2023/04/Live-Music.jpg
END:VEVENT
BEGIN:VEVENT
DTSTART;TZID=America/Los_Angeles:20230819T180000
DTEND;TZID=America/Los_Angeles:20230819T210000
DTSTAMP:20260425T175748
CREATED:20230815T033032Z
LAST-MODIFIED:20230815T033032Z
UID:2682-1692468000-1692478800@figtreecoffee.com
SUMMARY:Open Mic Night
DESCRIPTION:Join us on Saturday\, August 19th\, for an Open Mic night at Fig Tree. Support local talent\, sign up to perform\, and relish in delightful coffee while enjoying an evening filled with friends\, community\, and creativity. \nRules are as follows: \n1. All materials must be family-friendly. \n2. The signup list will be available at 5 PM in-house. Time slots will be first come first serve. \n3. We encourage each other and create a positive environment\, whether big or small. \nWe hope to see you there!
URL:https://figtreecoffee.com/event/open-mic-night-35/
LOCATION:The Fig Tree\, 217 Vernon Street\, Roseville\, CA\, 95678\, United States
CATEGORIES:Open Mic
ATTACH;FMTTYPE=image/jpeg:https://figtreecoffee.com/wp-content/uploads/2023/04/open-mic-Night.jpg
END:VEVENT
BEGIN:VEVENT
DTSTART;TZID=America/Los_Angeles:20230823T180000
DTEND;TZID=America/Los_Angeles:20230823T210000
DTSTAMP:20260425T175748
CREATED:20230821T192800Z
LAST-MODIFIED:20230821T192800Z
UID:2691-1692813600-1692824400@figtreecoffee.com
SUMMARY:SALT
DESCRIPTION:Mark your calendars for an ethereal musical journey on August 23rd\, 6-9 pm\, as SALT takes the stage. Experience a captivating blend of piano and vocals\, featuring original compositions and enchanting covers. Immerse yourself in the enchanting world of ethereal rock\, reminiscent of Tori Amos and early David Bowie\, for an unforgettable night of music.
URL:https://figtreecoffee.com/event/salt-3/
LOCATION:The Fig Tree\, 217 Vernon Street\, Roseville\, CA\, 95678\, United States
CATEGORIES:Live Music
ATTACH;FMTTYPE=image/jpeg:https://figtreecoffee.com/wp-content/uploads/2023/08/Salt.jpg
END:VEVENT
BEGIN:VEVENT
DTSTART;TZID=America/Los_Angeles:20230824T180000
DTEND;TZID=America/Los_Angeles:20230824T210000
DTSTAMP:20260425T175748
CREATED:20230821T193053Z
LAST-MODIFIED:20230821T193432Z
UID:2693-1692900000-1692910800@figtreecoffee.com
SUMMARY:Still Sam & Sam Caylor & Will N
DESCRIPTION:From 6-7 pm\, groove to the tunes of Still Sam\, followed by the captivating melodies of Sam Caylor & Will N from 7-9 pm. Don’t miss out on this incredible musical experience! See you there!
URL:https://figtreecoffee.com/event/still-sam-sam-caylor-will-n/
LOCATION:The Fig Tree\, 217 Vernon Street\, Roseville\, CA\, 95678\, United States
CATEGORIES:Live Music
ATTACH;FMTTYPE=image/jpeg:https://figtreecoffee.com/wp-content/uploads/2023/04/Live-Music.jpg
END:VEVENT
BEGIN:VEVENT
DTSTART;TZID=America/Los_Angeles:20230825T180000
DTEND;TZID=America/Los_Angeles:20230825T210000
DTSTAMP:20260425T175748
CREATED:20230821T193420Z
LAST-MODIFIED:20230821T193420Z
UID:2695-1692986400-1692997200@figtreecoffee.com
SUMMARY:Daryla Griser & Jebby K
DESCRIPTION:Sip on custom-made lemonade or savor a comforting hot coffee as you enjoy the soulful tunes of Daryla Griser from 6-7 pm. 🎵✨ And the musical journey continues with Jebby K taking the stage from 7-9 pm\, filling the air with captivating melodies. \nJoin us for a memorable evening of great music and delightful drinks!
URL:https://figtreecoffee.com/event/daryla-griser-jebby-k/
LOCATION:The Fig Tree\, 217 Vernon Street\, Roseville\, CA\, 95678\, United States
CATEGORIES:Live Music
ATTACH;FMTTYPE=image/jpeg:https://figtreecoffee.com/wp-content/uploads/2023/04/Live-Music.jpg
END:VEVENT
BEGIN:VEVENT
DTSTART;TZID=America/Los_Angeles:20230830T180000
DTEND;TZID=America/Los_Angeles:20230830T210000
DTSTAMP:20260425T175748
CREATED:20230828T200911Z
LAST-MODIFIED:20230828T200911Z
UID:2699-1693418400-1693429200@figtreecoffee.com
SUMMARY:SALT
DESCRIPTION:Mark your calendars for an ethereal musical journey on August 30th\, 6-9 pm\, as SALT takes the stage. Experience a captivating blend of piano and vocals\, featuring original compositions and enchanting covers. Immerse yourself in the enchanting world of ethereal rock\, reminiscent of Tori Amos and early David Bowie\, for an unforgettable night of music.
URL:https://figtreecoffee.com/event/salt-4/
LOCATION:The Fig Tree\, 217 Vernon Street\, Roseville\, CA\, 95678\, United States
CATEGORIES:Live Music
ATTACH;FMTTYPE=image/jpeg:https://figtreecoffee.com/wp-content/uploads/2023/08/Salt.jpg
END:VEVENT
BEGIN:VEVENT
DTSTART;TZID=America/Los_Angeles:20230831T180000
DTEND;TZID=America/Los_Angeles:20230831T210000
DTSTAMP:20260425T175748
CREATED:20230828T201517Z
LAST-MODIFIED:20230828T201517Z
UID:2707-1693504800-1693515600@figtreecoffee.com
SUMMARY:Isaac Morris\, Graven Tyler\, & Rumi Shimada
DESCRIPTION:An evening of musical brilliance awaits! Join us for a cascade of talent with Isaac Morris from 6-7 pm\, Graven Tyler from 7-8 pm\, and Rumi Shimada from 8-9 pm. Let the melodies take you on a captivating journey.
URL:https://figtreecoffee.com/event/isaac-morris-graven-tyler-rumi-shimada-2/
LOCATION:The Fig Tree\, 217 Vernon Street\, Roseville\, CA\, 95678\, United States
CATEGORIES:Live Music
ATTACH;FMTTYPE=image/jpeg:https://figtreecoffee.com/wp-content/uploads/2023/04/Live-Music.jpg
END:VEVENT
BEGIN:VEVENT
DTSTART;TZID=America/Los_Angeles:20230901T180000
DTEND;TZID=America/Los_Angeles:20230901T210000
DTSTAMP:20260425T175748
CREATED:20230828T201017Z
LAST-MODIFIED:20230829T011847Z
UID:2701-1693591200-1693602000@figtreecoffee.com
SUMMARY:Kelly Slusher\, The Art Project\, & Jion Jugo
DESCRIPTION:Get ready for a Friday filled with artistic wonders! From 6-7 pm\, Kelly Slusher will captivate you with her musical talents\, followed by the heartwarming sounds of The Art Project from 7:15-8 pm. Then\, from 8-9 pm\, groove to the tunes of Jion Jugo. And Kelly Slusher will enhance the ambiance with her visual display. Join us for an evening where music and art unite!
URL:https://figtreecoffee.com/event/isaac-morris-graven-tyler-rumi-shimada/
LOCATION:The Fig Tree\, 217 Vernon Street\, Roseville\, CA\, 95678\, United States
CATEGORIES:Live Music
ATTACH;FMTTYPE=image/jpeg:https://figtreecoffee.com/wp-content/uploads/2023/04/Live-Music.jpg
END:VEVENT
BEGIN:VEVENT
DTSTART;TZID=America/Los_Angeles:20230906T180000
DTEND;TZID=America/Los_Angeles:20230906T210000
DTSTAMP:20260425T175748
CREATED:20230908T033752Z
LAST-MODIFIED:20230908T033752Z
UID:2713-1694023200-1694034000@figtreecoffee.com
SUMMARY:Daryla & SALT
DESCRIPTION:An evening of soulful melodies awaits! From 6-7 pm\, let Daryla serenade your senses\, followed by the ethereal sounds of SALT from 7-9 pm. Join us for a musical journey that will leave you enchanted and inspired.
URL:https://figtreecoffee.com/event/daryla-salt/
LOCATION:The Fig Tree\, 217 Vernon Street\, Roseville\, CA\, 95678\, United States
CATEGORIES:Live Music
ATTACH;FMTTYPE=image/jpeg:https://figtreecoffee.com/wp-content/uploads/2023/08/Salt.jpg
END:VEVENT
BEGIN:VEVENT
DTSTART;TZID=America/Los_Angeles:20230907T180000
DTEND;TZID=America/Los_Angeles:20230907T210000
DTSTAMP:20260425T175748
CREATED:20230908T033838Z
LAST-MODIFIED:20230908T033838Z
UID:2709-1694109600-1694120400@figtreecoffee.com
SUMMARY:Jaela & Alec Ogsten
DESCRIPTION:Prepare for a captivating evening of live music! From 6-7 pm\, let Jaela’s enchanting harp melodies sweep you away\, followed by the soulful tunes of Alec Ogsten from 7-9 pm. Join us for a night filled with diverse musical talents and unforgettable performances.
URL:https://figtreecoffee.com/event/jaela-alec-ogsten/
LOCATION:The Fig Tree\, 217 Vernon Street\, Roseville\, CA\, 95678\, United States
CATEGORIES:Live Music
ATTACH;FMTTYPE=image/jpeg:https://figtreecoffee.com/wp-content/uploads/2023/04/Live-Music.jpg
END:VEVENT
BEGIN:VEVENT
DTSTART;TZID=America/Los_Angeles:20230908T180000
DTEND;TZID=America/Los_Angeles:20230908T210000
DTSTAMP:20260425T175748
CREATED:20230908T033912Z
LAST-MODIFIED:20230908T033912Z
UID:2716-1694196000-1694206800@figtreecoffee.com
SUMMARY:Jaela & Alec Ogsten
DESCRIPTION:Join us for a musical journey! From 6-7 pm\, ZumuGuma will serenade you with mellow rock featuring two vocalists. Then\, from 7-9 pm\, immerse yourself in the captivating melodies of Steve Wildanger. It’s an evening of diverse sounds and exceptional performances you won’t want to miss.
URL:https://figtreecoffee.com/event/jaela-alec-ogsten-2/
LOCATION:The Fig Tree\, 217 Vernon Street\, Roseville\, CA\, 95678\, United States
CATEGORIES:Live Music
ATTACH;FMTTYPE=image/jpeg:https://figtreecoffee.com/wp-content/uploads/2023/04/Live-Music.jpg
END:VEVENT
BEGIN:VEVENT
DTSTART;TZID=America/Los_Angeles:20230909T180000
DTEND;TZID=America/Los_Angeles:20230909T210000
DTSTAMP:20260425T175748
CREATED:20230908T033931Z
LAST-MODIFIED:20230908T033931Z
UID:2718-1694282400-1694293200@figtreecoffee.com
SUMMARY:Open Mic Night
DESCRIPTION:Join us on Saturday\, August 19th\, for an Open Mic night at Fig Tree. Support local talent\, sign up to perform\, and relish in delightful coffee while enjoying an evening filled with friends\, community\, and creativity. \nRules are as follows: \n1. All materials must be family-friendly. \n2. The signup list will be available at 5 PM in-house. Time slots will be first come first serve. \n3. We encourage each other and create a positive environment\, whether big or small. \nWe hope to see you there!
URL:https://figtreecoffee.com/event/open-mic-night-36/
LOCATION:The Fig Tree\, 217 Vernon Street\, Roseville\, CA\, 95678\, United States
CATEGORIES:Open Mic
ATTACH;FMTTYPE=image/jpeg:https://figtreecoffee.com/wp-content/uploads/2023/04/open-mic-Night.jpg
END:VEVENT
BEGIN:VEVENT
DTSTART;TZID=America/Los_Angeles:20230913T180000
DTEND;TZID=America/Los_Angeles:20230913T210000
DTSTAMP:20260425T175748
CREATED:20230914T051959Z
LAST-MODIFIED:20230914T051959Z
UID:2750-1694628000-1694638800@figtreecoffee.com
SUMMARY:Jonathan Schneider & SVLT
DESCRIPTION:Join us at Fig Coffee Shop for an evening of soulful live music. From 6-7 pm\, enjoy the captivating melodies of Jonathan Schneider as he serenades you with his acoustic guitar and heartfelt lyrics. Then\, from 7-9 pm\, get ready to groove to the energetic tunes of SVLT. Their dynamic performance and infectious rhythms will have you dancing the night away. With a cozy ambiance\, delicious drinks\, and incredible live music\, Fig Coffee Shop is the perfect place to unwind and enjoy a memorable night out. Don’t miss this fantastic lineup of talented musicians!
URL:https://figtreecoffee.com/event/jonathan-schneider-svlt/
LOCATION:The Fig Tree\, 217 Vernon Street\, Roseville\, CA\, 95678\, United States
CATEGORIES:Live Music
ATTACH;FMTTYPE=image/jpeg:https://figtreecoffee.com/wp-content/uploads/2023/04/Live-Music.jpg
END:VEVENT
BEGIN:VEVENT
DTSTART;TZID=America/Los_Angeles:20230914T180000
DTEND;TZID=America/Los_Angeles:20230914T210000
DTSTAMP:20260425T175748
CREATED:20230914T052138Z
LAST-MODIFIED:20230914T052138Z
UID:2752-1694714400-1694725200@figtreecoffee.com
SUMMARY:John Freeman & Donrico
DESCRIPTION:Join us for an evening of live music! From 6-7 pm\, let John Freeman serenade you with his captivating tunes. Then\, from 7-9 pm\, immerse yourself in the soulful sounds of Donrico. It’s an evening of diverse musical talents and unforgettable performances you won’t want to miss.
URL:https://figtreecoffee.com/event/john-freeman-donrico/
LOCATION:The Fig Tree\, 217 Vernon Street\, Roseville\, CA\, 95678\, United States
CATEGORIES:Live Music
ATTACH;FMTTYPE=image/jpeg:https://figtreecoffee.com/wp-content/uploads/2023/04/Live-Music.jpg
END:VEVENT
BEGIN:VEVENT
DTSTART;TZID=America/Los_Angeles:20230915T180000
DTEND;TZID=America/Los_Angeles:20230915T210000
DTSTAMP:20260425T175748
CREATED:20230914T052431Z
LAST-MODIFIED:20230914T052431Z
UID:2754-1694800800-1694811600@figtreecoffee.com
SUMMARY:The Blue Romantics & Of the Heart
DESCRIPTION:Join us at Fig Coffee Shop for an evening filled with live music and good vibes! We have an exciting lineup in store for you. From 6-7 pm\, we have the talented John Freeman taking the stage to serenade you with his soulful tunes. Then\, from 7-9 pm\, get ready to groove to the beats of the amazing Donrico. With their captivating performances and incredible musical talent\, this promises to be a night you won’t want to miss.
URL:https://figtreecoffee.com/event/the-blue-romantics-of-the-heart/
LOCATION:The Fig Tree\, 217 Vernon Street\, Roseville\, CA\, 95678\, United States
CATEGORIES:Live Music
ATTACH;FMTTYPE=image/jpeg:https://figtreecoffee.com/wp-content/uploads/2023/04/Live-Music.jpg
END:VEVENT
BEGIN:VEVENT
DTSTART;TZID=America/Los_Angeles:20230916T180000
DTEND;TZID=America/Los_Angeles:20230916T210000
DTSTAMP:20260425T175748
CREATED:20230914T052725Z
LAST-MODIFIED:20230914T052725Z
UID:2756-1694887200-1694898000@figtreecoffee.com
SUMMARY:Open Mic Night
DESCRIPTION:Grab your favorite drink\, settle in\, and get ready for an evening filled with incredible performances and soul-stirring music and performances at Fig’s Open Mic Night! \nRules are as follows: \n1. All materials must be family-friendly. \n2. The signup list will be available at 5 PM in-house. Time slots will be first come first serve. \n3. We encourage each other and create a positive environment\, whether big or small. \nWe hope to see you there!
URL:https://figtreecoffee.com/event/open-mic-night-37/
LOCATION:The Fig Tree\, 217 Vernon Street\, Roseville\, CA\, 95678\, United States
CATEGORIES:Open Mic
ATTACH;FMTTYPE=image/jpeg:https://figtreecoffee.com/wp-content/uploads/2023/04/open-mic-Night.jpg
END:VEVENT
BEGIN:VEVENT
DTSTART;TZID=America/Los_Angeles:20230920T180000
DTEND;TZID=America/Los_Angeles:20230920T210000
DTSTAMP:20260425T175748
CREATED:20230919T154558Z
LAST-MODIFIED:20230919T160214Z
UID:2759-1695232800-1695243600@figtreecoffee.com
SUMMARY:Zack Gibian & SALT
DESCRIPTION:Prepare for a musical journey! From 6-7 pm\, Zack Gibian will kick off the evening with his captivating tunes. Then\, from 7-9 pm\, immerse yourself in the ethereal sounds of SALT. It’s an evening of diverse musical talents and unforgettable performances you won’t want to miss.
URL:https://figtreecoffee.com/event/zack-gibian-salt/
LOCATION:The Fig Tree\, 217 Vernon Street\, Roseville\, CA\, 95678\, United States
CATEGORIES:Live Music
ATTACH;FMTTYPE=image/jpeg:https://figtreecoffee.com/wp-content/uploads/2023/09/Live-Music-Zack-Gibian-SALT.jpg
END:VEVENT
BEGIN:VEVENT
DTSTART;TZID=America/Los_Angeles:20230921T180000
DTEND;TZID=America/Los_Angeles:20230921T210000
DTSTAMP:20260425T175748
CREATED:20230919T160126Z
LAST-MODIFIED:20230919T160742Z
UID:2761-1695319200-1695330000@figtreecoffee.com
SUMMARY:Ben Cole & Alexa Bandala
DESCRIPTION:Join us for an evening of live music! From 6-7 pm\, let Ben Cole serenade you with his captivating tunes. Then\, from 7-9 pm\, immerse yourself in the soulful sounds of Alexa Bandala. It’s an evening of diverse musical talents and unforgettable performances.
URL:https://figtreecoffee.com/event/ben-cole-alexa-bandala/
LOCATION:The Fig Tree\, 217 Vernon Street\, Roseville\, CA\, 95678\, United States
CATEGORIES:Live Music
ATTACH;FMTTYPE=image/jpeg:https://figtreecoffee.com/wp-content/uploads/2023/09/Live-Music-2.jpg
END:VEVENT
BEGIN:VEVENT
DTSTART;TZID=America/Los_Angeles:20230922T180000
DTEND;TZID=America/Los_Angeles:20230922T210000
DTSTAMP:20260425T175748
CREATED:20230919T160911Z
LAST-MODIFIED:20230919T160911Z
UID:2766-1695405600-1695416400@figtreecoffee.com
SUMMARY:Cat’s Meow
DESCRIPTION:Get ready to swing the night away with Cat’s Meow! From 6-9 pm\, this four-piece combo will transport you to the golden era of jazz with their infectious swing tunes. Join us for a toe-tapping\, finger-snapping evening you won’t want to miss.
URL:https://figtreecoffee.com/event/cats-meow/
LOCATION:The Fig Tree\, 217 Vernon Street\, Roseville\, CA\, 95678\, United States
CATEGORIES:Live Music
ATTACH;FMTTYPE=image/jpeg:https://figtreecoffee.com/wp-content/uploads/2023/09/Cats-Meow.jpg
END:VEVENT
END:VCALENDAR