BEGIN:VCALENDAR
VERSION:2.0
PRODID:-//The Fig Tree - ECPv6.15.20//NONSGML v1.0//EN
CALSCALE:GREGORIAN
METHOD:PUBLISH
X-ORIGINAL-URL:https://figtreecoffee.com
X-WR-CALDESC:Events for The Fig Tree
REFRESH-INTERVAL;VALUE=DURATION:PT1H
X-Robots-Tag:noindex
X-PUBLISHED-TTL:PT1H
BEGIN:VTIMEZONE
TZID:America/Los_Angeles
BEGIN:DAYLIGHT
TZOFFSETFROM:-0800
TZOFFSETTO:-0700
TZNAME:PDT
DTSTART:20250309T100000
END:DAYLIGHT
BEGIN:STANDARD
TZOFFSETFROM:-0700
TZOFFSETTO:-0800
TZNAME:PST
DTSTART:20251102T090000
END:STANDARD
BEGIN:DAYLIGHT
TZOFFSETFROM:-0800
TZOFFSETTO:-0700
TZNAME:PDT
DTSTART:20260308T100000
END:DAYLIGHT
BEGIN:STANDARD
TZOFFSETFROM:-0700
TZOFFSETTO:-0800
TZNAME:PST
DTSTART:20261101T090000
END:STANDARD
BEGIN:DAYLIGHT
TZOFFSETFROM:-0800
TZOFFSETTO:-0700
TZNAME:PDT
DTSTART:20270314T100000
END:DAYLIGHT
BEGIN:STANDARD
TZOFFSETFROM:-0700
TZOFFSETTO:-0800
TZNAME:PST
DTSTART:20271107T090000
END:STANDARD
END:VTIMEZONE
BEGIN:VEVENT
DTSTART;TZID=America/Los_Angeles:20260328T170000
DTEND;TZID=America/Los_Angeles:20260328T210000
DTSTAMP:20260423T163730
CREATED:20260323T233244Z
LAST-MODIFIED:20260323T233244Z
UID:7648-1774717200-1774731600@figtreecoffee.com
SUMMARY:Open Mic Night
DESCRIPTION:Calling all performers and music lovers! Join us for an electrifying Open Mic Night where you can showcase your talents or simply enjoy an evening of diverse performances. It’s your stage\, your moment – let the music and creativity flow! \nRules are as follows: \n1. All materials must be family-friendly. \n2. The signup list will be available at 5 PM in-house. Time slots will be first come first serve. \n3. We encourage each other and create a positive environment\, whether big or small. \nWe hope to see you there!
URL:https://figtreecoffee.com/event/open-mic-night-156/
LOCATION:The Fig Tree\, 217 Vernon Street\, Roseville\, CA\, 95678\, United States
CATEGORIES:Open Mic
ATTACH;FMTTYPE=image/png:https://figtreecoffee.com/wp-content/uploads/2025/11/OPEN-MIC-NIGHT.png
END:VEVENT
BEGIN:VEVENT
DTSTART;TZID=America/Los_Angeles:20260331T180000
DTEND;TZID=America/Los_Angeles:20260331T210000
DTSTAMP:20260423T163730
CREATED:20260331T184600Z
LAST-MODIFIED:20260331T184600Z
UID:8528-1774980000-1774990800@figtreecoffee.com
SUMMARY:Piano Night\, featuring Rece W
DESCRIPTION:Join us for Piano Night featuring Rece W. Settle in with friends or enjoy a peaceful solo evening while sipping one of our monthly drink specials and taking in the live music.
URL:https://figtreecoffee.com/event/piano-night-featuring-rece-w/
LOCATION:The Fig Tree\, 217 Vernon Street\, Roseville\, CA\, 95678\, United States
CATEGORIES:Piano Night
ATTACH;FMTTYPE=image/png:https://figtreecoffee.com/wp-content/uploads/2026/03/piano-night-6-9-pm.png
END:VEVENT
BEGIN:VEVENT
DTSTART;TZID=America/Los_Angeles:20260401T183000
DTEND;TZID=America/Los_Angeles:20260401T203000
DTSTAMP:20260423T163730
CREATED:20260331T184422Z
LAST-MODIFIED:20260331T184422Z
UID:8526-1775068200-1775075400@figtreecoffee.com
SUMMARY:Celtic Session
DESCRIPTION:Get ready for a lively Celtic Session from 6:30-8:30 PM! Bring your own instrument and jump into the jam\, or simply enjoy the traditional tunes and good company. Let the music bring a bit of Celtic charm to your evening!
URL:https://figtreecoffee.com/event/celtic-session-18/
LOCATION:The Fig Tree\, 217 Vernon Street\, Roseville\, CA\, 95678\, United States
CATEGORIES:Live Music
ATTACH;FMTTYPE=image/png:https://figtreecoffee.com/wp-content/uploads/2025/03/Celtic-Session.png
END:VEVENT
BEGIN:VEVENT
DTSTART;TZID=America/Los_Angeles:20260402T180000
DTEND;TZID=America/Los_Angeles:20260402T210000
DTSTAMP:20260423T163730
CREATED:20260331T184656Z
LAST-MODIFIED:20260331T184656Z
UID:8530-1775152800-1775163600@figtreecoffee.com
SUMMARY:Isaac Davis Jazz Quintet
DESCRIPTION:Ease into Thursday evening with the Isaac Davis Jazz Quintet from 6–9 pm. Smooth live jazz and cozy café vibes make it the perfect spot to meet friends\, enjoy a casual date night\, or unwind solo. Pair the music with one of our monthly drink specials and something sweet from the pastry case.
URL:https://figtreecoffee.com/event/isaac-davis-jazz-quintet-2/
LOCATION:The Fig Tree\, 217 Vernon Street\, Roseville\, CA\, 95678\, United States
CATEGORIES:Live Music
ATTACH;FMTTYPE=image/png:https://figtreecoffee.com/wp-content/uploads/2026/01/Live-Music.png
END:VEVENT
BEGIN:VEVENT
DTSTART;TZID=America/Los_Angeles:20260404T170000
DTEND;TZID=America/Los_Angeles:20260404T210000
DTSTAMP:20260423T163730
CREATED:20260331T184344Z
LAST-MODIFIED:20260331T184344Z
UID:8524-1775322000-1775336400@figtreecoffee.com
SUMMARY:Open Mic Night
DESCRIPTION:Calling all performers and music lovers! Join us for an electrifying Open Mic Night where you can showcase your talents or simply enjoy an evening of diverse performances. It’s your stage\, your moment – let the music and creativity flow! \nRules are as follows: \n1. All materials must be family-friendly. \n2. The signup list will be available at 5 PM in-house. Time slots will be first come first serve. \n3. We encourage each other and create a positive environment\, whether big or small. \nWe hope to see you there!
URL:https://figtreecoffee.com/event/open-mic-night-157/
LOCATION:The Fig Tree\, 217 Vernon Street\, Roseville\, CA\, 95678\, United States
CATEGORIES:Open Mic
ATTACH;FMTTYPE=image/png:https://figtreecoffee.com/wp-content/uploads/2025/11/OPEN-MIC-NIGHT.png
END:VEVENT
BEGIN:VEVENT
DTSTART;TZID=America/Los_Angeles:20260408T180000
DTEND;TZID=America/Los_Angeles:20260408T204000
DTSTAMP:20260423T163730
CREATED:20260408T180251Z
LAST-MODIFIED:20260408T180251Z
UID:8548-1775671200-1775680800@figtreecoffee.com
SUMMARY:Jazz Jam Session
DESCRIPTION:Immerse yourself in the smooth\, soulful sounds of jazz at tonight’s Jazz Jam Session. Whether you’re a musician looking to join the groove or a listener soaking in the melodies\, it’s the perfect night for jazz lovers to connect and enjoy the art of improvisation. Grab your favorite coffee or tea and let the music take you away! \n 
URL:https://figtreecoffee.com/event/jazz-jam-session-15/
LOCATION:The Fig Tree\, 217 Vernon Street\, Roseville\, CA\, 95678\, United States
CATEGORIES:Live Music
ATTACH;FMTTYPE=image/png:https://figtreecoffee.com/wp-content/uploads/2025/11/Jazz-Jam-Session-Free-Admission.png
END:VEVENT
BEGIN:VEVENT
DTSTART;TZID=America/Los_Angeles:20260409T180000
DTEND;TZID=America/Los_Angeles:20260409T204500
DTSTAMP:20260423T163730
CREATED:20260408T180613Z
LAST-MODIFIED:20260408T180613Z
UID:8550-1775757600-1775767500@figtreecoffee.com
SUMMARY:Bryan Quinn; Chris Conway
DESCRIPTION:Ease into Thursday evening with live local music and a relaxed\, welcoming vibe. Bryan Quinn opens from 6–7:15 pm\, followed by Chris Conway from 7:30–8:45 pm. Grab a monthly drink special\, share a pastry with friends\, or enjoy a cozy solo night while the music carries you through the evening. \n 
URL:https://figtreecoffee.com/event/bryan-quinn-chris-conway-2/
LOCATION:The Fig Tree\, 217 Vernon Street\, Roseville\, CA\, 95678\, United States
CATEGORIES:Live Music
ATTACH;FMTTYPE=image/png:https://figtreecoffee.com/wp-content/uploads/2026/03/Live-Music-6-to-850-pm.png
END:VEVENT
BEGIN:VEVENT
DTSTART;TZID=America/Los_Angeles:20260410T180000
DTEND;TZID=America/Los_Angeles:20260410T204500
DTSTAMP:20260423T163730
CREATED:20260408T180832Z
LAST-MODIFIED:20260408T180832Z
UID:8554-1775844000-1775853900@figtreecoffee.com
SUMMARY:Mischief; Madison Kate
DESCRIPTION:Start your Friday night with the lively energy of Mischief from 6–8 pm\, then wind down with a cozy set from Madison Kate from 8–8:45 pm. Grab a monthly drink special\, bring a friend or enjoy a solo night\, and settle into an easy\, feel-good start to your weekend. \n 
URL:https://figtreecoffee.com/event/mischief-madison-kate/
LOCATION:The Fig Tree\, 217 Vernon Street\, Roseville\, CA\, 95678\, United States
CATEGORIES:Live Music
ATTACH;FMTTYPE=image/png:https://figtreecoffee.com/wp-content/uploads/2026/01/Mischief.png
END:VEVENT
BEGIN:VEVENT
DTSTART;TZID=America/Los_Angeles:20260411T170000
DTEND;TZID=America/Los_Angeles:20260411T210000
DTSTAMP:20260423T163730
CREATED:20260408T180159Z
LAST-MODIFIED:20260408T180159Z
UID:8546-1775926800-1775941200@figtreecoffee.com
SUMMARY:Open Mic Night
DESCRIPTION:Calling all performers and music lovers! Join us for an electrifying Open Mic Night where you can showcase your talents or simply enjoy an evening of diverse performances. It’s your stage\, your moment – let the music and creativity flow! \nRules are as follows: \n1. All materials must be family-friendly. \n2. The signup list will be available at 5 PM in-house. Time slots will be first come first serve. \n3. We encourage each other and create a positive environment\, whether big or small. \nWe hope to see you there!
URL:https://figtreecoffee.com/event/open-mic-night-158/
LOCATION:The Fig Tree\, 217 Vernon Street\, Roseville\, CA\, 95678\, United States
CATEGORIES:Open Mic
ATTACH;FMTTYPE=image/png:https://figtreecoffee.com/wp-content/uploads/2025/11/OPEN-MIC-NIGHT.png
END:VEVENT
BEGIN:VEVENT
DTSTART;TZID=America/Los_Angeles:20260414T180000
DTEND;TZID=America/Los_Angeles:20260414T210000
DTSTAMP:20260423T163730
CREATED:20260414T231044Z
LAST-MODIFIED:20260414T231044Z
UID:8562-1776189600-1776200400@figtreecoffee.com
SUMMARY:Piano Night\, featuring David Brown
DESCRIPTION:Join us Tuesday for Piano Night with David Brown from 6–9 pm. Settle in with a monthly drink special\, bring a friend or enjoy a peaceful solo evening\, and let the live piano create the perfect midweek atmosphere.
URL:https://figtreecoffee.com/event/piano-night-featuring-david-brown-4/
LOCATION:The Fig Tree\, 217 Vernon Street\, Roseville\, CA\, 95678\, United States
CATEGORIES:Piano Night
ATTACH;FMTTYPE=image/png:https://figtreecoffee.com/wp-content/uploads/2025/11/Live-Music-1.png
END:VEVENT
BEGIN:VEVENT
DTSTART;TZID=America/Los_Angeles:20260415T180000
DTEND;TZID=America/Los_Angeles:20260415T204000
DTSTAMP:20260423T163730
CREATED:20260414T231503Z
LAST-MODIFIED:20260414T231503Z
UID:8564-1776276000-1776285600@figtreecoffee.com
SUMMARY:Ken Teel; Acid Fog from Mars
DESCRIPTION:Ken Teel plays 6–7:30 pm\, followed by Acid Fog from Mars 7:45–8:40 pm in a relaxed midweek set that moves from warm\, easygoing grooves into a more atmospheric late-evening feel. A cozy reset moment to unwind\, settle in\, and enjoy local music in a welcoming space.
URL:https://figtreecoffee.com/event/ken-teel-acid-fog-from-mars/
LOCATION:The Fig Tree\, 217 Vernon Street\, Roseville\, CA\, 95678\, United States
CATEGORIES:Live Music
ATTACH;FMTTYPE=image/png:https://figtreecoffee.com/wp-content/uploads/2026/04/Live-Music.png
END:VEVENT
BEGIN:VEVENT
DTSTART;TZID=America/Los_Angeles:20260416T180000
DTEND;TZID=America/Los_Angeles:20260416T204500
DTSTAMP:20260423T163730
CREATED:20260414T232054Z
LAST-MODIFIED:20260414T232127Z
UID:8567-1776362400-1776372300@figtreecoffee.com
SUMMARY:Fig Tree Staff Night!
DESCRIPTION:Anthony Boccaleoni plays 6–6:45 pm\, followed immediately by Dante 6:45–7:05 pm\, then Gabriel Star 7:10–8 pm\, and closing the night is Jazmine Monterrosa 8–8:45 pm. A fast-moving staff night lineup with short sets that keep the energy flowing\, shifting from intimate acoustic moments into a stronger late-evening close\, perfect for a lively\, community-focused night at the shop.
URL:https://figtreecoffee.com/event/fig-tree-staff-night/
LOCATION:The Fig Tree\, 217 Vernon Street\, Roseville\, CA\, 95678\, United States
CATEGORIES:Live Music
ATTACH;FMTTYPE=image/png:https://figtreecoffee.com/wp-content/uploads/2026/04/Anthony-Boccaleoni-Jazmine-Monterrosa.png
END:VEVENT
BEGIN:VEVENT
DTSTART;TZID=America/Los_Angeles:20260417T180000
DTEND;TZID=America/Los_Angeles:20260417T204500
DTSTAMP:20260423T163730
CREATED:20260414T232502Z
LAST-MODIFIED:20260414T232502Z
UID:8570-1776448800-1776458700@figtreecoffee.com
SUMMARY:Suspenders
DESCRIPTION:Suspenders plays 6–8:45 pm in a steady\, easygoing set that carries the evening from early night into a relaxed close. Expect a warm\, inviting atmosphere with plenty of space to settle in\, catch up with friends\, and ease into the weekend with live local music.
URL:https://figtreecoffee.com/event/suspenders/
LOCATION:The Fig Tree\, 217 Vernon Street\, Roseville\, CA\, 95678\, United States
CATEGORIES:Live Music
ATTACH;FMTTYPE=image/png:https://figtreecoffee.com/wp-content/uploads/2026/04/Live-Music-1.png
END:VEVENT
BEGIN:VEVENT
DTSTART;TZID=America/Los_Angeles:20260418T170000
DTEND;TZID=America/Los_Angeles:20260418T210000
DTSTAMP:20260423T163730
CREATED:20260414T231024Z
LAST-MODIFIED:20260414T231024Z
UID:8560-1776531600-1776546000@figtreecoffee.com
SUMMARY:Open Mic Night
DESCRIPTION:Calling all performers and music lovers! Join us for an electrifying Open Mic Night where you can showcase your talents or simply enjoy an evening of diverse performances. It’s your stage\, your moment – let the music and creativity flow! \nRules are as follows: \n1. All materials must be family-friendly. \n2. The signup list will be available at 5 PM in-house. Time slots will be first come first serve. \n3. We encourage each other and create a positive environment\, whether big or small. \nWe hope to see you there!
URL:https://figtreecoffee.com/event/open-mic-night-159/
LOCATION:The Fig Tree\, 217 Vernon Street\, Roseville\, CA\, 95678\, United States
CATEGORIES:Open Mic
ATTACH;FMTTYPE=image/png:https://figtreecoffee.com/wp-content/uploads/2025/11/OPEN-MIC-NIGHT.png
END:VEVENT
BEGIN:VEVENT
DTSTART;TZID=America/Los_Angeles:20260421T180000
DTEND;TZID=America/Los_Angeles:20260421T210000
DTSTAMP:20260423T163730
CREATED:20260420T235649Z
LAST-MODIFIED:20260420T235649Z
UID:8587-1776794400-1776805200@figtreecoffee.com
SUMMARY:Piano Night\, featuring Leslie W.
DESCRIPTION:Indulge in an enchanting evening of Piano Night with Leslie W. from 6-9 pm. Join us for a soulful journey through captivating melodies and musical brilliance.
URL:https://figtreecoffee.com/event/piano-night-featuring-leslie-w-17/
LOCATION:The Fig Tree\, 217 Vernon Street\, Roseville\, CA\, 95678\, United States
CATEGORIES:Piano Night
ATTACH;FMTTYPE=image/jpeg:https://figtreecoffee.com/wp-content/uploads/2024/09/Live-Music_20240916_172259_0000.jpg
END:VEVENT
BEGIN:VEVENT
DTSTART;TZID=America/Los_Angeles:20260422T180000
DTEND;TZID=America/Los_Angeles:20260422T204000
DTSTAMP:20260423T163730
CREATED:20260421T000155Z
LAST-MODIFIED:20260421T000155Z
UID:8589-1776880800-1776890400@figtreecoffee.com
SUMMARY:Hippiesoundwaterbug; Under the Canopy
DESCRIPTION:Take a midweek pause with a laid-back night of live music. Hippiesoundwaterbug opens from 6–7 pm\, followed by Under the Canopy from 7–8:40 pm. Settle in with a monthly drink special\, grab a pastry\, and enjoy a relaxed evening with friends or a cozy solo reset.
URL:https://figtreecoffee.com/event/hippiesoundwaterbug-under-the-canopy/
LOCATION:The Fig Tree\, 217 Vernon Street\, Roseville\, CA\, 95678\, United States
CATEGORIES:Live Music
ATTACH;FMTTYPE=image/png:https://figtreecoffee.com/wp-content/uploads/2026/04/Under-the-Canopy.png
END:VEVENT
BEGIN:VEVENT
DTSTART;TZID=America/Los_Angeles:20260423T180000
DTEND;TZID=America/Los_Angeles:20260423T210000
DTSTAMP:20260423T163730
CREATED:20260421T000702Z
LAST-MODIFIED:20260421T000702Z
UID:8592-1776967200-1776978000@figtreecoffee.com
SUMMARY:Adric Johnson; Annabelle Rodriguez; Tae Sierra
DESCRIPTION:Ease into Thursday with a full evening of live music. Adric Johnson kicks things off from 6–7 pm\, followed by Annabelle Rodriguez from 7–8 pm\, with Tae Sierra closing the night from 8–9 pm. Grab a monthly drink special\, share a pastry with friends\, or enjoy a relaxed solo night while the music sets the mood.
URL:https://figtreecoffee.com/event/adric-johnson-annabelle-rodriguez-tae-sierra/
LOCATION:The Fig Tree\, 217 Vernon Street\, Roseville\, CA\, 95678\, United States
CATEGORIES:Live Music
ATTACH;FMTTYPE=image/png:https://figtreecoffee.com/wp-content/uploads/2026/04/Live-Music-2.png
END:VEVENT
BEGIN:VEVENT
DTSTART;TZID=America/Los_Angeles:20260424T180000
DTEND;TZID=America/Los_Angeles:20260424T204000
DTSTAMP:20260423T163730
CREATED:20260421T000727Z
LAST-MODIFIED:20260423T225346Z
UID:8595-1777053600-1777063200@figtreecoffee.com
SUMMARY:Ken Teel Jazz Loops; Aiko Shimada Jazz Trio
DESCRIPTION:Start your Friday with smooth\, layered sounds from Ken Teel Jazz Loops from 6–7 pm\, followed by the Aiko Shimada Jazz Trio from 7–8:40 pm. It’s an easy\, feel-good way to kick off the weekend. Grab a monthly drink special\, settle in with friends or a date\, and enjoy a cozy night of live music.
URL:https://figtreecoffee.com/event/ken-teel-jazz-loops-aiko-shimada-jazz-trio/
LOCATION:The Fig Tree\, 217 Vernon Street\, Roseville\, CA\, 95678\, United States
CATEGORIES:Live Music
ATTACH;FMTTYPE=image/png:https://figtreecoffee.com/wp-content/uploads/2026/04/Live-Music.png
END:VEVENT
BEGIN:VEVENT
DTSTART;TZID=America/Los_Angeles:20260425T170000
DTEND;TZID=America/Los_Angeles:20260425T210000
DTSTAMP:20260423T163730
CREATED:20260421T000745Z
LAST-MODIFIED:20260421T000745Z
UID:8597-1777136400-1777150800@figtreecoffee.com
SUMMARY:Open Mic Night
DESCRIPTION:Calling all performers and music lovers! Join us for an electrifying Open Mic Night where you can showcase your talents or simply enjoy an evening of diverse performances. It’s your stage\, your moment – let the music and creativity flow! \nRules are as follows: \n1. All materials must be family-friendly. \n2. The signup list will be available at 5 PM in-house. Time slots will be first come first serve. \n3. We encourage each other and create a positive environment\, whether big or small. \nWe hope to see you there!
URL:https://figtreecoffee.com/event/open-mic-night-160/
LOCATION:The Fig Tree\, 217 Vernon Street\, Roseville\, CA\, 95678\, United States
CATEGORIES:Open Mic
ATTACH;FMTTYPE=image/png:https://figtreecoffee.com/wp-content/uploads/2025/11/OPEN-MIC-NIGHT.png
END:VEVENT
END:VCALENDAR