BEGIN:VCALENDAR
VERSION:2.0
PRODID:-//The Fig Tree - ECPv6.15.20//NONSGML v1.0//EN
CALSCALE:GREGORIAN
METHOD:PUBLISH
X-WR-CALNAME:The Fig Tree
X-ORIGINAL-URL:https://figtreecoffee.com
X-WR-CALDESC:Events for The Fig Tree
REFRESH-INTERVAL;VALUE=DURATION:PT1H
X-Robots-Tag:noindex
X-PUBLISHED-TTL:PT1H
BEGIN:VTIMEZONE
TZID:America/Los_Angeles
BEGIN:DAYLIGHT
TZOFFSETFROM:-0800
TZOFFSETTO:-0700
TZNAME:PDT
DTSTART:20230312T100000
END:DAYLIGHT
BEGIN:STANDARD
TZOFFSETFROM:-0700
TZOFFSETTO:-0800
TZNAME:PST
DTSTART:20231105T090000
END:STANDARD
BEGIN:DAYLIGHT
TZOFFSETFROM:-0800
TZOFFSETTO:-0700
TZNAME:PDT
DTSTART:20240310T100000
END:DAYLIGHT
BEGIN:STANDARD
TZOFFSETFROM:-0700
TZOFFSETTO:-0800
TZNAME:PST
DTSTART:20241103T090000
END:STANDARD
BEGIN:DAYLIGHT
TZOFFSETFROM:-0800
TZOFFSETTO:-0700
TZNAME:PDT
DTSTART:20250309T100000
END:DAYLIGHT
BEGIN:STANDARD
TZOFFSETFROM:-0700
TZOFFSETTO:-0800
TZNAME:PST
DTSTART:20251102T090000
END:STANDARD
END:VTIMEZONE
BEGIN:VEVENT
DTSTART;TZID=America/Los_Angeles:20240402T180000
DTEND;TZID=America/Los_Angeles:20240402T210000
DTSTAMP:20260425T061215
CREATED:20240401T194859Z
LAST-MODIFIED:20240402T162324Z
UID:3482-1712080800-1712091600@figtreecoffee.com
SUMMARY:Piano Night\, featuring Leslie R.
DESCRIPTION:Indulge in an enchanting evening of Piano Night with Leslie R. from 6-9 pm. Join us for a soulful journey through captivating melodies and musical brilliance.
URL:https://figtreecoffee.com/event/piano-night-featuring-leslie-r/
LOCATION:The Fig Tree\, 217 Vernon Street\, Roseville\, CA\, 95678\, United States
CATEGORIES:Piano Night
ATTACH;FMTTYPE=image/png:https://figtreecoffee.com/wp-content/uploads/2024/04/Piano-Night-featuring-Leslie-R-1.png
END:VEVENT
BEGIN:VEVENT
DTSTART;TZID=America/Los_Angeles:20240403T180000
DTEND;TZID=America/Los_Angeles:20240403T210000
DTSTAMP:20260425T061215
CREATED:20240401T195159Z
LAST-MODIFIED:20240402T163736Z
UID:3484-1712167200-1712178000@figtreecoffee.com
SUMMARY:John Freeman; Steve Wildanger; & Steven Madrick
DESCRIPTION:Prepare for a night of musical delight! From 6-7 pm\, let John Freeman serenade you with his soulful tunes. Then\, from 7-8 pm\, enjoy the dynamic sounds of Steve Wildanger. Concluding the evening from 8-9 pm\, immerse yourself in the captivating melodies of Steven Madrick. Join us for an unforgettable musical experience.
URL:https://figtreecoffee.com/event/john-freeman-steve-wildanger-steven-madrick/
LOCATION:The Fig Tree\, 217 Vernon Street\, Roseville\, CA\, 95678\, United States
CATEGORIES:Live Music
ATTACH;FMTTYPE=image/png:https://figtreecoffee.com/wp-content/uploads/2024/04/Live-Music-Steven-Madrick.png
END:VEVENT
BEGIN:VEVENT
DTSTART;TZID=America/Los_Angeles:20240404T180000
DTEND;TZID=America/Los_Angeles:20240404T210000
DTSTAMP:20260425T061215
CREATED:20240401T195312Z
LAST-MODIFIED:20240402T163304Z
UID:3486-1712253600-1712264400@figtreecoffee.com
SUMMARY:Gary Shamber & The Denim Nuns
DESCRIPTION:Get ready for a night of musical diversity! From 6-7 pm\, enjoy the soulful tunes of Gary Shamber. Then\, from 7-9 pm\, immerse yourself in the dynamic sounds of The Denim Nuns. Join us for an evening filled with captivating performances and unforgettable melodies.
URL:https://figtreecoffee.com/event/gary-shamber-the-denim-nuns/
LOCATION:The Fig Tree\, 217 Vernon Street\, Roseville\, CA\, 95678\, United States
CATEGORIES:Live Music
ATTACH;FMTTYPE=image/png:https://figtreecoffee.com/wp-content/uploads/2024/04/Live-Music-featuring-Gary-Shamber-The-Denim-Nuns.png
END:VEVENT
BEGIN:VEVENT
DTSTART;TZID=America/Los_Angeles:20240405T180000
DTEND;TZID=America/Los_Angeles:20240405T210000
DTSTAMP:20260425T061215
CREATED:20240401T194620Z
LAST-MODIFIED:20240402T161337Z
UID:3478-1712340000-1712350800@figtreecoffee.com
SUMMARY:B2R Music Showcase
DESCRIPTION:Join us for the B2R Music Showcase on April 5th from 6:00 pm to 9:00 pm! Get ready to be amazed by the talent of our bands\, including Memories of the Past\, Sunflowers\, Twisted Youth\, and Ignition. It’s an evening filled with fantastic performances and unforgettable music that you won’t want to miss!
URL:https://figtreecoffee.com/event/b2r-music-showcase-2/
LOCATION:The Fig Tree\, 217 Vernon Street\, Roseville\, CA\, 95678\, United States
CATEGORIES:Live Music
ATTACH;FMTTYPE=image/jpeg:https://figtreecoffee.com/wp-content/uploads/2024/02/Live-Music-B2R.jpg
END:VEVENT
BEGIN:VEVENT
DTSTART;TZID=America/Los_Angeles:20240409T180000
DTEND;TZID=America/Los_Angeles:20240409T210000
DTSTAMP:20260425T061215
CREATED:20240409T153150Z
LAST-MODIFIED:20240409T153150Z
UID:3494-1712685600-1712696400@figtreecoffee.com
SUMMARY:Piano Night\, featuring Rachel Mullen
DESCRIPTION:Join us for an exquisite evening of Piano Night featuring the talented Rachel Mullen\, enchanting your senses from 6-9 pm. Immerse yourself in the timeless beauty of piano melodies and let the music weave a captivating experience.
URL:https://figtreecoffee.com/event/piano-night-featuring-rachel-mullen-6/
LOCATION:The Fig Tree\, 217 Vernon Street\, Roseville\, CA\, 95678\, United States
CATEGORIES:Piano Night
ATTACH;FMTTYPE=image/png:https://figtreecoffee.com/wp-content/uploads/2024/01/Piano-Night-featuring-Rachel-Mullen.png
END:VEVENT
BEGIN:VEVENT
DTSTART;TZID=America/Los_Angeles:20240410T180000
DTEND;TZID=America/Los_Angeles:20240410T210000
DTSTAMP:20260425T061215
CREATED:20240409T195346Z
LAST-MODIFIED:20240410T153845Z
UID:3496-1712772000-1712782800@figtreecoffee.com
SUMMARY:Still Sam\, Ahmed Syed\, & Brendan Speights
DESCRIPTION:Experience a night of musical brilliance! From 6-7 pm\, let Still Sam serenade you with their enchanting melodies. Then\, from 7-8 pm\, enjoy the soulful tunes of Ahmed Syed. Concluding the evening from 8-9 pm\, immerse yourself in the captivating sounds of Brendan Speights. Join us for an unforgettable musical journey.
URL:https://figtreecoffee.com/event/still-sam-ahmed-syed-brendan-speights/
LOCATION:The Fig Tree\, 217 Vernon Street\, Roseville\, CA\, 95678\, United States
CATEGORIES:Live Music
ATTACH;FMTTYPE=image/jpeg:https://figtreecoffee.com/wp-content/uploads/2024/04/Still-Sam-Ahmed-Syed-Brendan-Speights.jpg
END:VEVENT
BEGIN:VEVENT
DTSTART;TZID=America/Los_Angeles:20240411T180000
DTEND;TZID=America/Los_Angeles:20240411T210000
DTSTAMP:20260425T061215
CREATED:20240409T195746Z
LAST-MODIFIED:20240409T195746Z
UID:3499-1712858400-1712869200@figtreecoffee.com
SUMMARY:Cats Meow
DESCRIPTION:Get ready for a night of live music! From 6-9 pm\, enjoy a variety of genres and tunes performed live by talented Cats Meow. It’s an evening filled with musical magic and unforgettable performances that cater to all music tastes.
URL:https://figtreecoffee.com/event/cats-meow-2/
LOCATION:The Fig Tree\, 217 Vernon Street\, Roseville\, CA\, 95678\, United States
CATEGORIES:Live Music
ATTACH;FMTTYPE=image/jpeg:https://figtreecoffee.com/wp-content/uploads/2024/04/Live-Music.jpg
END:VEVENT
BEGIN:VEVENT
DTSTART;TZID=America/Los_Angeles:20240412T180000
DTEND;TZID=America/Los_Angeles:20240412T210000
DTSTAMP:20260425T061215
CREATED:20240409T202057Z
LAST-MODIFIED:20240409T202057Z
UID:3502-1712944800-1712955600@figtreecoffee.com
SUMMARY:Charivari Jazz Quartet
DESCRIPTION:Immerse yourself in an evening of jazz excellence! Join us from 6-9 pm for the Charivari Jazz Quartet\, as they serenade you with soulful melodies and captivating rhythms. It’s a night filled with musical magic that jazz enthusiasts won’t want to miss.
URL:https://figtreecoffee.com/event/charivari-jazz-quartet/
LOCATION:The Fig Tree\, 217 Vernon Street\, Roseville\, CA\, 95678\, United States
CATEGORIES:Live Music
ATTACH;FMTTYPE=image/jpeg:https://figtreecoffee.com/wp-content/uploads/2024/04/Live-Music-1.jpg
END:VEVENT
BEGIN:VEVENT
DTSTART;TZID=America/Los_Angeles:20240413T180000
DTEND;TZID=America/Los_Angeles:20240413T210000
DTSTAMP:20260425T061215
CREATED:20240401T194658Z
LAST-MODIFIED:20240401T194658Z
UID:3480-1713031200-1713042000@figtreecoffee.com
SUMMARY:Open Mic Night
DESCRIPTION:Calling all performers and music lovers! Join us for an electrifying Open Mic Night where you can showcase your talents or simply enjoy an evening of diverse performances. It’s your stage\, your moment – let the music and creativity flow! \nRules are as follows: \n1. All materials must be family-friendly. \n2. The signup list will be available at 5 PM in-house. Time slots will be first come first serve. \n3. We encourage each other and create a positive environment\, whether big or small. \nWe hope to see you there!
URL:https://figtreecoffee.com/event/open-mic-night-57/
LOCATION:The Fig Tree\, 217 Vernon Street\, Roseville\, CA\, 95678\, United States
CATEGORIES:Open Mic
ATTACH;FMTTYPE=image/png:https://figtreecoffee.com/wp-content/uploads/2023/12/open-mic-Night.png
END:VEVENT
BEGIN:VEVENT
DTSTART;TZID=America/Los_Angeles:20240416T180000
DTEND;TZID=America/Los_Angeles:20240416T210000
DTSTAMP:20260425T061215
CREATED:20240416T010124Z
LAST-MODIFIED:20240416T010124Z
UID:3510-1713290400-1713301200@figtreecoffee.com
SUMMARY:Piano Night\, featuring Leslie R.
DESCRIPTION:Indulge in an enchanting evening of Piano Night with Leslie R. from 6-9 pm. Join us for a soulful journey through captivating melodies and musical brilliance.
URL:https://figtreecoffee.com/event/piano-night-featuring-leslie-r-2/
LOCATION:The Fig Tree\, 217 Vernon Street\, Roseville\, CA\, 95678\, United States
CATEGORIES:Piano Night
ATTACH;FMTTYPE=image/png:https://figtreecoffee.com/wp-content/uploads/2024/04/Piano-Night-featuring-Leslie-R-1.png
END:VEVENT
BEGIN:VEVENT
DTSTART;TZID=America/Los_Angeles:20240417T180000
DTEND;TZID=America/Los_Angeles:20240417T210000
DTSTAMP:20260425T061215
CREATED:20240416T010311Z
LAST-MODIFIED:20240416T010311Z
UID:3512-1713376800-1713387600@figtreecoffee.com
SUMMARY:Alina & Open to Suggestion
DESCRIPTION:Get ready for a night of musical exploration! From 6-7 pm\, let Alina enchant you with her soulful tunes. Then\, from 7-9 pm\, experience the dynamic sounds of Open to Suggestion (formerly Sam Cowell)\, as they captivate you with their eclectic repertoire. It’s an evening filled with diverse musical talents and unforgettable performances.
URL:https://figtreecoffee.com/event/alina-open-to-suggestion/
LOCATION:The Fig Tree\, 217 Vernon Street\, Roseville\, CA\, 95678\, United States
CATEGORIES:Live Music
ATTACH;FMTTYPE=image/jpeg:https://figtreecoffee.com/wp-content/uploads/2024/04/Live-Music-1.jpg
END:VEVENT
BEGIN:VEVENT
DTSTART;TZID=America/Los_Angeles:20240418T180000
DTEND;TZID=America/Los_Angeles:20240418T210000
DTSTAMP:20260425T061215
CREATED:20240416T010403Z
LAST-MODIFIED:20240416T010403Z
UID:3514-1713463200-1713474000@figtreecoffee.com
SUMMARY:Rumi Shimada & Friends
DESCRIPTION:Embark on a musical adventure with Rumi Shimada & Friends from 6-9 pm. Join us for a night filled with soulful melodies and captivating performances that you won’t want to miss.
URL:https://figtreecoffee.com/event/rumi-shimada-friends-4/
LOCATION:The Fig Tree\, 217 Vernon Street\, Roseville\, CA\, 95678\, United States
CATEGORIES:Live Music
ATTACH;FMTTYPE=image/jpeg:https://figtreecoffee.com/wp-content/uploads/2024/01/Live-Music-Rumi-Shimada-Friends.jpg
END:VEVENT
BEGIN:VEVENT
DTSTART;TZID=America/Los_Angeles:20240419T180000
DTEND;TZID=America/Los_Angeles:20240419T210000
DTSTAMP:20260425T061215
CREATED:20240416T010606Z
LAST-MODIFIED:20240416T010606Z
UID:3516-1713549600-1713560400@figtreecoffee.com
SUMMARY:Mischief & Sara Star
DESCRIPTION:Join us for a night of musical entertainment! From 6-8 pm\, enjoy the playful tunes of Mischief. Then\, from Sara Star’s performance\, immerse yourself in captivating melodies. It’s an evening filled with diverse musical talents and unforgettable performances.
URL:https://figtreecoffee.com/event/mischief-sara-star/
LOCATION:The Fig Tree\, 217 Vernon Street\, Roseville\, CA\, 95678\, United States
CATEGORIES:Live Music
ATTACH;FMTTYPE=image/jpeg:https://figtreecoffee.com/wp-content/uploads/2024/04/Live-Music.jpg
END:VEVENT
BEGIN:VEVENT
DTSTART;TZID=America/Los_Angeles:20240420T180000
DTEND;TZID=America/Los_Angeles:20240420T210000
DTSTAMP:20260425T061215
CREATED:20240416T010040Z
LAST-MODIFIED:20240416T010040Z
UID:3508-1713636000-1713646800@figtreecoffee.com
SUMMARY:Open Mic Night
DESCRIPTION:Calling all performers and music lovers! Join us for an electrifying Open Mic Night where you can showcase your talents or simply enjoy an evening of diverse performances. It’s your stage\, your moment – let the music and creativity flow! \nRules are as follows: \n1. All materials must be family-friendly. \n2. The signup list will be available at 5 PM in-house. Time slots will be first come first serve. \n3. We encourage each other and create a positive environment\, whether big or small. \nWe hope to see you there!
URL:https://figtreecoffee.com/event/open-mic-night-58/
LOCATION:The Fig Tree\, 217 Vernon Street\, Roseville\, CA\, 95678\, United States
CATEGORIES:Open Mic
ATTACH;FMTTYPE=image/png:https://figtreecoffee.com/wp-content/uploads/2023/12/open-mic-Night.png
END:VEVENT
BEGIN:VEVENT
DTSTART;TZID=America/Los_Angeles:20240423T180000
DTEND;TZID=America/Los_Angeles:20240423T210000
DTSTAMP:20260425T061215
CREATED:20240423T183726Z
LAST-MODIFIED:20240423T183726Z
UID:3521-1713895200-1713906000@figtreecoffee.com
SUMMARY:Piano Night\, featuring Rachel Mullen
DESCRIPTION:Join us for an exquisite evening of Piano Night featuring the talented Rachel Mullen\, enchanting your senses from 6-9 pm. Immerse yourself in the timeless beauty of piano melodies and let the music weave a captivating experience.
URL:https://figtreecoffee.com/event/piano-night-featuring-rachel-mullen-7/
LOCATION:The Fig Tree\, 217 Vernon Street\, Roseville\, CA\, 95678\, United States
CATEGORIES:Piano Night
ATTACH;FMTTYPE=image/png:https://figtreecoffee.com/wp-content/uploads/2024/01/Piano-Night-featuring-Rachel-Mullen.png
END:VEVENT
BEGIN:VEVENT
DTSTART;TZID=America/Los_Angeles:20240424T180000
DTEND;TZID=America/Los_Angeles:20240424T210000
DTSTAMP:20260425T061215
CREATED:20240423T183902Z
LAST-MODIFIED:20240423T183902Z
UID:3523-1713981600-1713992400@figtreecoffee.com
SUMMARY:Aiko Shimada Trio; Bethany Anne; & Kevin G
DESCRIPTION:Prepare for an evening of musical brilliance! From 6-7 pm\, indulge in the enchanting melodies of the Aiko Shimada Trio. Then\, from 7-8 pm\, let Bethany Anne captivate you with her soulful tunes. Concluding the night from 8-9 pm\, immerse yourself in the captivating sounds of Kevin G. Join us for a musical journey you won’t soon forget.
URL:https://figtreecoffee.com/event/aiko-shimada-trio-bethany-anne-kevin-g/
LOCATION:The Fig Tree\, 217 Vernon Street\, Roseville\, CA\, 95678\, United States
CATEGORIES:Live Music
ATTACH;FMTTYPE=image/jpeg:https://figtreecoffee.com/wp-content/uploads/2024/04/Live-Music.jpg
END:VEVENT
BEGIN:VEVENT
DTSTART;TZID=America/Los_Angeles:20240425T180000
DTEND;TZID=America/Los_Angeles:20240425T210000
DTSTAMP:20260425T061215
CREATED:20240423T184058Z
LAST-MODIFIED:20240423T184058Z
UID:3525-1714068000-1714078800@figtreecoffee.com
SUMMARY:Madison Lazark & TMB
DESCRIPTION:Join us for a musical journey! From 6-7 pm\, let Madison Lazark serenade you with enchanting melodies. Then\, from 7-9 pm\, immerse yourself in the dynamic sounds of TMB. It’s an evening filled with diverse musical talents and captivating performances that you won’t want to miss.
URL:https://figtreecoffee.com/event/madison-lazark-tmb/
LOCATION:The Fig Tree\, 217 Vernon Street\, Roseville\, CA\, 95678\, United States
CATEGORIES:Live Music
ATTACH;FMTTYPE=image/png:https://figtreecoffee.com/wp-content/uploads/2024/01/Live-Music-featuring-Madison-Lazark.png
END:VEVENT
BEGIN:VEVENT
DTSTART;TZID=America/Los_Angeles:20240426T170000
DTEND;TZID=America/Los_Angeles:20240426T200000
DTSTAMP:20260425T061215
CREATED:20240423T184141Z
LAST-MODIFIED:20240423T184141Z
UID:3527-1714150800-1714161600@figtreecoffee.com
SUMMARY:B2R Music Showcase
DESCRIPTION:Join us for the B2R Music Showcase on April 5th from 6:00 pm to 9:00 pm! Get ready to be amazed by the talent of our bands\, including Memories of the Past\, Sunflowers\, Twisted Youth\, and Ignition. It’s an evening filled with fantastic performances and unforgettable music that you won’t want to miss!
URL:https://figtreecoffee.com/event/b2r-music-showcase-3/
LOCATION:The Fig Tree\, 217 Vernon Street\, Roseville\, CA\, 95678\, United States
CATEGORIES:Live Music
ATTACH;FMTTYPE=image/jpeg:https://figtreecoffee.com/wp-content/uploads/2024/02/Live-Music-B2R.jpg
END:VEVENT
BEGIN:VEVENT
DTSTART;TZID=America/Los_Angeles:20240427T180000
DTEND;TZID=America/Los_Angeles:20240427T210000
DTSTAMP:20260425T061215
CREATED:20240423T181917Z
LAST-MODIFIED:20240423T181917Z
UID:3519-1714240800-1714251600@figtreecoffee.com
SUMMARY:Open Mic Night
DESCRIPTION:Calling all performers and music lovers! Join us for an electrifying Open Mic Night where you can showcase your talents or simply enjoy an evening of diverse performances. It’s your stage\, your moment – let the music and creativity flow! \nRules are as follows: \n1. All materials must be family-friendly. \n2. The signup list will be available at 5 PM in-house. Time slots will be first come first serve. \n3. We encourage each other and create a positive environment\, whether big or small. \nWe hope to see you there!
URL:https://figtreecoffee.com/event/open-mic-night-59/
LOCATION:The Fig Tree\, 217 Vernon Street\, Roseville\, CA\, 95678\, United States
CATEGORIES:Open Mic
ATTACH;FMTTYPE=image/png:https://figtreecoffee.com/wp-content/uploads/2023/12/open-mic-Night.png
END:VEVENT
BEGIN:VEVENT
DTSTART;TZID=America/Los_Angeles:20240501T180000
DTEND;TZID=America/Los_Angeles:20240501T210000
DTSTAMP:20260425T061215
CREATED:20240501T181259Z
LAST-MODIFIED:20240501T181259Z
UID:3545-1714586400-1714597200@figtreecoffee.com
SUMMARY:John Freeman & The Speak Low
DESCRIPTION:Experience an unforgettable evening of live music! From 6-7 pm\, let John Freeman serenade you with his soulful tunes. Then\, from 7-9 pm\, immerse yourself in the dynamic sounds of The Speak Low. It’s a night filled with musical magic that you won’t want to miss.
URL:https://figtreecoffee.com/event/john-freeman-the-speak-low/
LOCATION:The Fig Tree\, 217 Vernon Street\, Roseville\, CA\, 95678\, United States
CATEGORIES:Live Music
ATTACH;FMTTYPE=image/jpeg:https://figtreecoffee.com/wp-content/uploads/2024/04/Live-Music.jpg
END:VEVENT
BEGIN:VEVENT
DTSTART;TZID=America/Los_Angeles:20240502T180000
DTEND;TZID=America/Los_Angeles:20240502T210000
DTSTAMP:20260425T061215
CREATED:20240501T181812Z
LAST-MODIFIED:20240501T181812Z
UID:3547-1714672800-1714683600@figtreecoffee.com
SUMMARY:Jerde Sisters; Still Sam; & Donrico
DESCRIPTION:Get ready for an evening of musical diversity! From 6-7 pm\, let the Jerde Sisters enchant you with their soulful tunes. Then\, from 7-8 pm\, immerse yourself in the captivating sounds of Still Sam. Concluding the night from 8-9 pm\, let Donrico serenade you with his unique sound. Join us for a night filled with diverse musical talents and unforgettable performances.
URL:https://figtreecoffee.com/event/jerde-sisters-still-sam-donrico/
LOCATION:The Fig Tree\, 217 Vernon Street\, Roseville\, CA\, 95678\, United States
CATEGORIES:Live Music
ATTACH;FMTTYPE=image/png:https://figtreecoffee.com/wp-content/uploads/2024/05/Still-Sam-and-Donrico.png
END:VEVENT
BEGIN:VEVENT
DTSTART;TZID=America/Los_Angeles:20240503T180000
DTEND;TZID=America/Los_Angeles:20240503T210000
DTSTAMP:20260425T061215
CREATED:20240501T182330Z
LAST-MODIFIED:20240501T182330Z
UID:3550-1714759200-1714770000@figtreecoffee.com
SUMMARY:Daryla
DESCRIPTION:Immerse yourself in the soulful tunes of Daryla from 6-9 pm while sipping on your favorite latte or iced tea. Let the melodies wash over you as you indulge in both musical and sensory delights. It’s the perfect blend of music and refreshment for a truly memorable evening.
URL:https://figtreecoffee.com/event/daryla-5/
LOCATION:The Fig Tree\, 217 Vernon Street\, Roseville\, CA\, 95678\, United States
CATEGORIES:Live Music
ATTACH;FMTTYPE=image/png:https://figtreecoffee.com/wp-content/uploads/2024/05/Daryla.png
END:VEVENT
BEGIN:VEVENT
DTSTART;TZID=America/Los_Angeles:20240504T180000
DTEND;TZID=America/Los_Angeles:20240504T210000
DTSTAMP:20260425T061215
CREATED:20240501T181144Z
LAST-MODIFIED:20240501T181144Z
UID:3543-1714845600-1714856400@figtreecoffee.com
SUMMARY:Open Mic Night
DESCRIPTION:Calling all performers and music lovers! Join us for an electrifying Open Mic Night where you can showcase your talents or simply enjoy an evening of diverse performances. It’s your stage\, your moment – let the music and creativity flow! \nRules are as follows: \n1. All materials must be family-friendly. \n2. The signup list will be available at 5 PM in-house. Time slots will be first come first serve. \n3. We encourage each other and create a positive environment\, whether big or small. \nWe hope to see you there!
URL:https://figtreecoffee.com/event/open-mic-night-60/
LOCATION:The Fig Tree\, 217 Vernon Street\, Roseville\, CA\, 95678\, United States
CATEGORIES:Open Mic
ATTACH;FMTTYPE=image/png:https://figtreecoffee.com/wp-content/uploads/2023/12/open-mic-Night.png
END:VEVENT
BEGIN:VEVENT
DTSTART;TZID=America/Los_Angeles:20240507T180000
DTEND;TZID=America/Los_Angeles:20240507T210000
DTSTAMP:20260425T061215
CREATED:20240506T171216Z
LAST-MODIFIED:20240506T171216Z
UID:3555-1715104800-1715115600@figtreecoffee.com
SUMMARY:Piano Night\, featuring Rachel Mullen
DESCRIPTION:Join us for an exquisite evening of Piano Night featuring the talented Rachel Mullen\, enchanting your senses from 6-9 pm. Immerse yourself in the timeless beauty of piano melodies and let the music weave a captivating experience.
URL:https://figtreecoffee.com/event/piano-night-featuring-rachel-mullen-8/
LOCATION:The Fig Tree\, 217 Vernon Street\, Roseville\, CA\, 95678\, United States
CATEGORIES:Piano Night
ATTACH;FMTTYPE=image/png:https://figtreecoffee.com/wp-content/uploads/2024/01/Piano-Night-featuring-Rachel-Mullen.png
END:VEVENT
BEGIN:VEVENT
DTSTART;TZID=America/Los_Angeles:20240508T190000
DTEND;TZID=America/Los_Angeles:20240508T210000
DTSTAMP:20260425T061215
CREATED:20240506T173540Z
LAST-MODIFIED:20240506T173540Z
UID:3560-1715194800-1715202000@figtreecoffee.com
SUMMARY:Steve Wildanger & Benjamin Rivas
DESCRIPTION:Prepare for an evening of musical excellence! From 7-8 pm\, enjoy the soulful tunes of Steve Wildanger. Then\, from 8-9 pm\, let Benjamin Rivas captivate you with his unique sound. Savor your favorite beverage as you immerse yourself in an unforgettable musical journey. It’s a night filled with talent and melody you won’t soon forget.
URL:https://figtreecoffee.com/event/steve-wildanger-benjamin-rivas/
LOCATION:The Fig Tree\, 217 Vernon Street\, Roseville\, CA\, 95678\, United States
CATEGORIES:Live Music
ATTACH;FMTTYPE=image/jpeg:https://figtreecoffee.com/wp-content/uploads/2024/04/Live-Music.jpg
END:VEVENT
BEGIN:VEVENT
DTSTART;TZID=America/Los_Angeles:20240509T180000
DTEND;TZID=America/Los_Angeles:20240509T210000
DTSTAMP:20260425T061215
CREATED:20240506T173415Z
LAST-MODIFIED:20240506T173415Z
UID:3557-1715277600-1715288400@figtreecoffee.com
SUMMARY:Rumi Shimada & The Denim Nuns
DESCRIPTION:Join us for an unforgettable evening of live music! From 6-7 pm\, Rumi Shimada will enchant you with her soulful tunes. Then\, from 7-9 pm\, immerse yourself in the dynamic sounds of The Denim Nuns. Sip on your favorite beverage and let the music transport you to another realm. It’s a night of musical magic you won’t want to miss.
URL:https://figtreecoffee.com/event/rumi-shimada-the-denim-nuns/
LOCATION:The Fig Tree\, 217 Vernon Street\, Roseville\, CA\, 95678\, United States
CATEGORIES:Live Music
ATTACH;FMTTYPE=image/png:https://figtreecoffee.com/wp-content/uploads/2024/05/Rumi-Shimada_The-Denim-Nuns.png
END:VEVENT
BEGIN:VEVENT
DTSTART;TZID=America/Los_Angeles:20240510T180000
DTEND;TZID=America/Los_Angeles:20240510T210000
DTSTAMP:20260425T061215
CREATED:20240506T173745Z
LAST-MODIFIED:20240506T173745Z
UID:3562-1715364000-1715374800@figtreecoffee.com
SUMMARY:B2R Music Showcase featuring Blank Spaces
DESCRIPTION:Experience the future of music at our B2R Showcase featuring Blank Spaces from 6-9 pm! Join us for an evening filled with talent\, energy\, and unforgettable performances. It’s a showcase you won’t want to miss!
URL:https://figtreecoffee.com/event/b2r-music-showcase-featuring-blank-spaces/
LOCATION:The Fig Tree\, 217 Vernon Street\, Roseville\, CA\, 95678\, United States
CATEGORIES:Live Music
ATTACH;FMTTYPE=image/jpeg:https://figtreecoffee.com/wp-content/uploads/2024/02/Live-Music-B2R.jpg
END:VEVENT
BEGIN:VEVENT
DTSTART;TZID=America/Los_Angeles:20240511T180000
DTEND;TZID=America/Los_Angeles:20240511T210000
DTSTAMP:20260425T061215
CREATED:20240506T171156Z
LAST-MODIFIED:20240506T171156Z
UID:3553-1715450400-1715461200@figtreecoffee.com
SUMMARY:Open Mic Night
DESCRIPTION:Calling all performers and music lovers! Join us for an electrifying Open Mic Night where you can showcase your talents or simply enjoy an evening of diverse performances. It’s your stage\, your moment – let the music and creativity flow! \nRules are as follows: \n1. All materials must be family-friendly. \n2. The signup list will be available at 5 PM in-house. Time slots will be first come first serve. \n3. We encourage each other and create a positive environment\, whether big or small. \nWe hope to see you there!
URL:https://figtreecoffee.com/event/open-mic-night-61/
LOCATION:The Fig Tree\, 217 Vernon Street\, Roseville\, CA\, 95678\, United States
CATEGORIES:Open Mic
ATTACH;FMTTYPE=image/png:https://figtreecoffee.com/wp-content/uploads/2023/12/open-mic-Night.png
END:VEVENT
BEGIN:VEVENT
DTSTART;TZID=America/Los_Angeles:20240514T180000
DTEND;TZID=America/Los_Angeles:20240514T210000
DTSTAMP:20260425T061215
CREATED:20240513T203518Z
LAST-MODIFIED:20240513T203518Z
UID:3565-1715709600-1715720400@figtreecoffee.com
SUMMARY:Piano Night\, featuring Brenna Weeks
DESCRIPTION:Indulge in an enchanting evening of Piano Night with the talented Brenna Weeks. Join us for a musical journey as she fills the air with the timeless beauty of piano melodies from 6 pm to 9 pm.
URL:https://figtreecoffee.com/event/piano-night-featuring-brenna-weeks-7/
LOCATION:The Fig Tree\, 217 Vernon Street\, Roseville\, CA\, 95678\, United States
CATEGORIES:Piano Night
ATTACH;FMTTYPE=image/jpeg:https://figtreecoffee.com/wp-content/uploads/2024/02/Piano-Night-featuring-Brenna-Weeks-Vday.jpg
END:VEVENT
BEGIN:VEVENT
DTSTART;TZID=America/Los_Angeles:20240515T180000
DTEND;TZID=America/Los_Angeles:20240515T210000
DTSTAMP:20260425T061215
CREATED:20240513T203720Z
LAST-MODIFIED:20240513T203720Z
UID:3567-1715796000-1715806800@figtreecoffee.com
SUMMARY:Ace; Ahmed Syed; & Alec Ogston 8-9
DESCRIPTION:Join us for a night of musical diversity! From 6-7 pm\, let Ace kick off the evening with their captivating tunes. Then\, from 7-8 pm\, enjoy the soulful melodies of Ahmed Syed. Concluding the night from 8-9 pm\, let Alec Ogston serenade you with his unique sound. It’s an evening filled with talented artists and unforgettable performances.
URL:https://figtreecoffee.com/event/ace-ahmed-syed-alec-ogston-8-9/
LOCATION:The Fig Tree\, 217 Vernon Street\, Roseville\, CA\, 95678\, United States
CATEGORIES:Live Music
ATTACH;FMTTYPE=image/jpeg:https://figtreecoffee.com/wp-content/uploads/2024/04/Live-Music.jpg
END:VEVENT
END:VCALENDAR