BEGIN:VCALENDAR
VERSION:2.0
PRODID:-//The Fig Tree - ECPv6.15.20//NONSGML v1.0//EN
CALSCALE:GREGORIAN
METHOD:PUBLISH
X-WR-CALNAME:The Fig Tree
X-ORIGINAL-URL:https://figtreecoffee.com
X-WR-CALDESC:Events for The Fig Tree
REFRESH-INTERVAL;VALUE=DURATION:PT1H
X-Robots-Tag:noindex
X-PUBLISHED-TTL:PT1H
BEGIN:VTIMEZONE
TZID:America/Los_Angeles
BEGIN:DAYLIGHT
TZOFFSETFROM:-0800
TZOFFSETTO:-0700
TZNAME:PDT
DTSTART:20230312T100000
END:DAYLIGHT
BEGIN:STANDARD
TZOFFSETFROM:-0700
TZOFFSETTO:-0800
TZNAME:PST
DTSTART:20231105T090000
END:STANDARD
BEGIN:DAYLIGHT
TZOFFSETFROM:-0800
TZOFFSETTO:-0700
TZNAME:PDT
DTSTART:20240310T100000
END:DAYLIGHT
BEGIN:STANDARD
TZOFFSETFROM:-0700
TZOFFSETTO:-0800
TZNAME:PST
DTSTART:20241103T090000
END:STANDARD
BEGIN:DAYLIGHT
TZOFFSETFROM:-0800
TZOFFSETTO:-0700
TZNAME:PDT
DTSTART:20250309T100000
END:DAYLIGHT
BEGIN:STANDARD
TZOFFSETFROM:-0700
TZOFFSETTO:-0800
TZNAME:PST
DTSTART:20251102T090000
END:STANDARD
END:VTIMEZONE
BEGIN:VEVENT
DTSTART;TZID=America/Los_Angeles:20240709T180000
DTEND;TZID=America/Los_Angeles:20240709T210000
DTSTAMP:20260425T031842
CREATED:20240709T002014Z
LAST-MODIFIED:20240709T002014Z
UID:3689-1720548000-1720558800@figtreecoffee.com
SUMMARY:Piano Night\, featuring Brenna Weeks
DESCRIPTION:Indulge in an enchanting evening of Piano Night with the talented Brenna Weeks. Join us for a musical journey as she fills the air with the timeless beauty of piano melodies from 6 pm to 9 pm.
URL:https://figtreecoffee.com/event/piano-night-featuring-brenna-weeks-11/
LOCATION:The Fig Tree\, 217 Vernon Street\, Roseville\, CA\, 95678\, United States
CATEGORIES:Piano Night
ATTACH;FMTTYPE=image/jpeg:https://figtreecoffee.com/wp-content/uploads/2024/02/Piano-Night-featuring-Brenna-Weeks-Vday.jpg
END:VEVENT
BEGIN:VEVENT
DTSTART;TZID=America/Los_Angeles:20240710T180000
DTEND;TZID=America/Los_Angeles:20240710T210000
DTSTAMP:20260425T031842
CREATED:20240709T002312Z
LAST-MODIFIED:20240709T002406Z
UID:3693-1720634400-1720645200@figtreecoffee.com
SUMMARY:Gabe Garcia\, Tae Sierra\, & Leslie R
DESCRIPTION:Get ready for an evening of amazing live music! From 6-7 pm\, enjoy the captivating sounds of Gabe Garcia. Then\, from 7-8 pm\, let Tae Sierra enchant you with their performance. Finally\, from 8-9 pm\, wrap up the night with the soulful melodies of Leslie W. It’s the perfect way to unwind and enjoy great music!
URL:https://figtreecoffee.com/event/gabe-garcia-tae-sierra-leslie/
LOCATION:The Fig Tree\, 217 Vernon Street\, Roseville\, CA\, 95678\, United States
CATEGORIES:Live Music
ATTACH;FMTTYPE=image/jpeg:https://figtreecoffee.com/wp-content/uploads/2024/04/Live-Music.jpg
END:VEVENT
BEGIN:VEVENT
DTSTART;TZID=America/Los_Angeles:20240711T180000
DTEND;TZID=America/Los_Angeles:20240711T210000
DTSTAMP:20260425T031842
CREATED:20240709T003238Z
LAST-MODIFIED:20240709T004203Z
UID:3696-1720720800-1720731600@figtreecoffee.com
SUMMARY:Doyle and Bill\, Alec Ogston\, & Madison Lazark
DESCRIPTION:Join us for an unforgettable evening of live music! From 6-7 pm\, enjoy the harmonious tunes of Doyle and Bill. Then\, from 7-8 pm\, let Alec Ogston captivate you with his performance. Finally\, wrap up the night with the enchanting melodies of Madison Lazark. It’s the perfect way to spend an evening filled with great music!
URL:https://figtreecoffee.com/event/doyle-and-bill-alec-ogston-madison-lazark/
LOCATION:The Fig Tree\, 217 Vernon Street\, Roseville\, CA\, 95678\, United States
CATEGORIES:Live Music
ATTACH;FMTTYPE=image/png:https://figtreecoffee.com/wp-content/uploads/2024/07/Live-Music_20240708_173049_0000.png
END:VEVENT
BEGIN:VEVENT
DTSTART;TZID=America/Los_Angeles:20240712T180000
DTEND;TZID=America/Los_Angeles:20240712T210000
DTSTAMP:20260425T031842
CREATED:20240709T004048Z
LAST-MODIFIED:20240709T004503Z
UID:3699-1720807200-1720818000@figtreecoffee.com
SUMMARY:Mischief & Steven Madrick
DESCRIPTION:Get ready for an exciting evening of live music! From 6-8 pm\, enjoy the dynamic sounds of Mischief. Then\, from 8-9 pm\, let Steven Madrick captivate you with his performance. It’s the perfect way to kick off your weekend with great music and good vibes!
URL:https://figtreecoffee.com/event/doyle-and-bill-alec-ogston-madison-lazark-2/
LOCATION:The Fig Tree\, 217 Vernon Street\, Roseville\, CA\, 95678\, United States
CATEGORIES:Live Music
ATTACH;FMTTYPE=image/png:https://figtreecoffee.com/wp-content/uploads/2024/07/Live-Music_20240708_173901_0000.png
END:VEVENT
BEGIN:VEVENT
DTSTART;TZID=America/Los_Angeles:20240713T170000
DTEND;TZID=America/Los_Angeles:20240713T210000
DTSTAMP:20260425T031842
CREATED:20240709T002052Z
LAST-MODIFIED:20240709T002052Z
UID:3691-1720890000-1720904400@figtreecoffee.com
SUMMARY:Open Mic Night
DESCRIPTION:Calling all performers and music lovers! Join us for an electrifying Open Mic Night where you can showcase your talents or simply enjoy an evening of diverse performances. It’s your stage\, your moment – let the music and creativity flow! \nRules are as follows: \n1. All materials must be family-friendly. \n2. The signup list will be available at 5 PM in-house. Time slots will be first come first serve. \n3. We encourage each other and create a positive environment\, whether big or small. \nWe hope to see you there!
URL:https://figtreecoffee.com/event/open-mic-night-70/
LOCATION:The Fig Tree\, 217 Vernon Street\, Roseville\, CA\, 95678\, United States
CATEGORIES:Open Mic
ATTACH;FMTTYPE=image/png:https://figtreecoffee.com/wp-content/uploads/2024/06/open-mic-Night.png
END:VEVENT
BEGIN:VEVENT
DTSTART;TZID=America/Los_Angeles:20240716T180000
DTEND;TZID=America/Los_Angeles:20240716T210000
DTSTAMP:20260425T031842
CREATED:20240716T152807Z
LAST-MODIFIED:20240716T152807Z
UID:3758-1721152800-1721163600@figtreecoffee.com
SUMMARY:Piano Night\, featuring Rachel Mullen
DESCRIPTION:Join us for an exquisite evening of Piano Night featuring the talented Rachel Mullen\, enchanting your senses from 6-9 pm. Immerse yourself in the timeless beauty of piano melodies and let the music weave a captivating experience.
URL:https://figtreecoffee.com/event/piano-night-featuring-rachel-mullen-11/
LOCATION:The Fig Tree\, 217 Vernon Street\, Roseville\, CA\, 95678\, United States
CATEGORIES:Piano Night
ATTACH;FMTTYPE=image/png:https://figtreecoffee.com/wp-content/uploads/2024/01/Piano-Night-featuring-Rachel-Mullen.png
END:VEVENT
BEGIN:VEVENT
DTSTART;TZID=America/Los_Angeles:20240717T180000
DTEND;TZID=America/Los_Angeles:20240717T210000
DTSTAMP:20260425T031842
CREATED:20240716T153829Z
LAST-MODIFIED:20240716T154450Z
UID:3762-1721239200-1721250000@figtreecoffee.com
SUMMARY:Joshua Ray Magic Showcase & Open to Suggestion
DESCRIPTION:Join us for a magical evening on Friday! From 6-7 pm\, be amazed by the Joshua Ray Magic Showcase. Then\, from 7-9 pm\, enjoy the captivating music of Open to Suggestion. It’s a night of enchantment and entertainment you won’t want to miss!
URL:https://figtreecoffee.com/event/joshua-ray-magic-showcase-open-to-suggestion/
LOCATION:The Fig Tree\, 217 Vernon Street\, Roseville\, CA\, 95678\, United States
CATEGORIES:Live Music
ATTACH;FMTTYPE=image/png:https://figtreecoffee.com/wp-content/uploads/2024/07/Live-Music_20240716_083501_0000.png
END:VEVENT
BEGIN:VEVENT
DTSTART;TZID=America/Los_Angeles:20240718T180000
DTEND;TZID=America/Los_Angeles:20240718T210000
DTSTAMP:20260425T031842
CREATED:20240716T154125Z
LAST-MODIFIED:20240716T154153Z
UID:3765-1721325600-1721336400@figtreecoffee.com
SUMMARY:One Giant Fish\, Ali Bohannon\, & The Speak Low
DESCRIPTION:Get ready for an incredible evening of live music! From 6-7 pm\, enjoy the unique sounds of One Giant Fish. Then\, from 7-8 pm\, be captivated by Ali Bohannon. Finally\, from 8-9 pm\, wrap up the night with the soulful melodies of The Speak Low. It’s the perfect way to unwind and enjoy a night of great music!
URL:https://figtreecoffee.com/event/ne-giant-fish-ali-bohannon-the-speak-low/
LOCATION:The Fig Tree\, 217 Vernon Street\, Roseville\, CA\, 95678\, United States
CATEGORIES:Live Music
ATTACH;FMTTYPE=image/jpeg:https://figtreecoffee.com/wp-content/uploads/2024/06/Live-Music.jpg
END:VEVENT
BEGIN:VEVENT
DTSTART;TZID=America/Los_Angeles:20240719T180000
DTEND;TZID=America/Los_Angeles:20240719T210000
DTSTAMP:20260425T031842
CREATED:20240716T154335Z
LAST-MODIFIED:20240716T154335Z
UID:3768-1721412000-1721422800@figtreecoffee.com
SUMMARY:Shawn & Lanny
DESCRIPTION:Join us for an enchanting evening of live music with Shawn & Lanny\, performing from 6-9 pm. It’s the perfect way to spend your evening with great tunes and good vibes!
URL:https://figtreecoffee.com/event/shawn-lanny/
LOCATION:The Fig Tree\, 217 Vernon Street\, Roseville\, CA\, 95678\, United States
CATEGORIES:Live Music
ATTACH;FMTTYPE=image/jpeg:https://figtreecoffee.com/wp-content/uploads/2024/04/Live-Music.jpg
END:VEVENT
BEGIN:VEVENT
DTSTART;TZID=America/Los_Angeles:20240720T170000
DTEND;TZID=America/Los_Angeles:20240720T210000
DTSTAMP:20260425T031842
CREATED:20240716T153526Z
LAST-MODIFIED:20240716T153526Z
UID:3760-1721494800-1721509200@figtreecoffee.com
SUMMARY:Open Mic Night
DESCRIPTION:Calling all performers and music lovers! Join us for an electrifying Open Mic Night where you can showcase your talents or simply enjoy an evening of diverse performances. It’s your stage\, your moment – let the music and creativity flow! \nRules are as follows: \n1. All materials must be family-friendly. \n2. The signup list will be available at 5 PM in-house. Time slots will be first come first serve. \n3. We encourage each other and create a positive environment\, whether big or small. \nWe hope to see you there!
URL:https://figtreecoffee.com/event/open-mic-night-71/
LOCATION:The Fig Tree\, 217 Vernon Street\, Roseville\, CA\, 95678\, United States
CATEGORIES:Open Mic
ATTACH;FMTTYPE=image/png:https://figtreecoffee.com/wp-content/uploads/2024/06/open-mic-Night.png
END:VEVENT
BEGIN:VEVENT
DTSTART;TZID=America/Los_Angeles:20240723T180000
DTEND;TZID=America/Los_Angeles:20240723T210000
DTSTAMP:20260425T031842
CREATED:20240722T220836Z
LAST-MODIFIED:20240722T220836Z
UID:3774-1721757600-1721768400@figtreecoffee.com
SUMMARY:Piano Night\, featuring One Giant Fish
DESCRIPTION:Prepare for a mesmerizing evening of piano magic! Join us for Piano Night with One Giant Fish from 6-9 pm. Immerse yourself in a world of enchanting melodies and musical brilliance that will leave you spellbound.
URL:https://figtreecoffee.com/event/piano-night-featuring-one-giant-fish-6/
LOCATION:The Fig Tree\, 217 Vernon Street\, Roseville\, CA\, 95678\, United States
CATEGORIES:Piano Night
ATTACH;FMTTYPE=image/png:https://figtreecoffee.com/wp-content/uploads/2023/11/Piano-Night-One-Giant-Fish.png
END:VEVENT
BEGIN:VEVENT
DTSTART;TZID=America/Los_Angeles:20240724T180000
DTEND;TZID=America/Los_Angeles:20240724T210000
DTSTAMP:20260425T031842
CREATED:20240722T224844Z
LAST-MODIFIED:20240722T224844Z
UID:3776-1721844000-1721854800@figtreecoffee.com
SUMMARY:Songwriter Showcase
DESCRIPTION:Join us for a special Songwriter Showcase featuring Alec Ogston\, Leslie W\, and Anthony Boccaleoni\, from 6-9 pm. Enjoy an evening of original music and heartfelt performances by talented songwriters!
URL:https://figtreecoffee.com/event/songwriter-showcase/
LOCATION:The Fig Tree\, 217 Vernon Street\, Roseville\, CA\, 95678\, United States
CATEGORIES:Live Music
ATTACH;FMTTYPE=image/png:https://figtreecoffee.com/wp-content/uploads/2024/07/Live-Music_20240722_153837_0000.png
END:VEVENT
BEGIN:VEVENT
DTSTART;TZID=America/Los_Angeles:20240725T180000
DTEND;TZID=America/Los_Angeles:20240725T210000
DTSTAMP:20260425T031842
CREATED:20240722T225047Z
LAST-MODIFIED:20240722T225047Z
UID:3779-1721930400-1721941200@figtreecoffee.com
SUMMARY:Sarah Star & Travis Roseberry
DESCRIPTION:Get ready for an evening of live music! From 6-7:30 pm\, enjoy the captivating performance of Sarah Star. Then\, from 7:30-9 pm\, let Travis Roseberry take the stage with his enchanting melodies. It’s the perfect way to spend your evening with great tunes!
URL:https://figtreecoffee.com/event/sarah-star-travis-roseberry/
LOCATION:The Fig Tree\, 217 Vernon Street\, Roseville\, CA\, 95678\, United States
CATEGORIES:Live Music
ATTACH;FMTTYPE=image/jpeg:https://figtreecoffee.com/wp-content/uploads/2024/04/Live-Music.jpg
END:VEVENT
BEGIN:VEVENT
DTSTART;TZID=America/Los_Angeles:20240726T180000
DTEND;TZID=America/Los_Angeles:20240726T210000
DTSTAMP:20260425T031842
CREATED:20240722T225301Z
LAST-MODIFIED:20240722T225301Z
UID:3782-1722016800-1722027600@figtreecoffee.com
SUMMARY:Jazz Infinity Combo
DESCRIPTION:Immerse yourself in a night of smooth and soulful sounds with Jazz Infinity Combo\, performing from 6-9 pm. It’s the perfect way to relax and enjoy an evening of live jazz music!
URL:https://figtreecoffee.com/event/jazz-infinity-combo/
LOCATION:The Fig Tree\, 217 Vernon Street\, Roseville\, CA\, 95678\, United States
CATEGORIES:Live Music
ATTACH;FMTTYPE=image/jpeg:https://figtreecoffee.com/wp-content/uploads/2024/04/Live-Music-1.jpg
END:VEVENT
BEGIN:VEVENT
DTSTART;TZID=America/Los_Angeles:20240727T170000
DTEND;TZID=America/Los_Angeles:20240727T210000
DTSTAMP:20260425T031842
CREATED:20240722T215656Z
LAST-MODIFIED:20240722T215656Z
UID:3771-1722099600-1722114000@figtreecoffee.com
SUMMARY:Open Mic Night
DESCRIPTION:Calling all performers and music lovers! Join us for an electrifying Open Mic Night where you can showcase your talents or simply enjoy an evening of diverse performances. It’s your stage\, your moment – let the music and creativity flow! \nRules are as follows: \n1. All materials must be family-friendly. \n2. The signup list will be available at 5 PM in-house. Time slots will be first come first serve. \n3. We encourage each other and create a positive environment\, whether big or small. \nWe hope to see you there!
URL:https://figtreecoffee.com/event/open-mic-night-72/
LOCATION:The Fig Tree\, 217 Vernon Street\, Roseville\, CA\, 95678\, United States
CATEGORIES:Open Mic
ATTACH;FMTTYPE=image/png:https://figtreecoffee.com/wp-content/uploads/2024/06/open-mic-Night.png
END:VEVENT
BEGIN:VEVENT
DTSTART;TZID=America/Los_Angeles:20240730T180000
DTEND;TZID=America/Los_Angeles:20240730T210000
DTSTAMP:20260425T031842
CREATED:20240729T222025Z
LAST-MODIFIED:20240729T222025Z
UID:3786-1722362400-1722373200@figtreecoffee.com
SUMMARY:Piano Night\, featuring One Giant Fish
DESCRIPTION:Prepare for a mesmerizing evening of piano magic! Join us for Piano Night with One Giant Fish from 6-9 pm. Immerse yourself in a world of enchanting melodies and musical brilliance that will leave you spellbound.
URL:https://figtreecoffee.com/event/piano-night-featuring-one-giant-fish-7/
LOCATION:The Fig Tree\, 217 Vernon Street\, Roseville\, CA\, 95678\, United States
CATEGORIES:Piano Night
ATTACH;FMTTYPE=image/png:https://figtreecoffee.com/wp-content/uploads/2023/11/Piano-Night-One-Giant-Fish.png
END:VEVENT
BEGIN:VEVENT
DTSTART;TZID=America/Los_Angeles:20240731T180000
DTEND;TZID=America/Los_Angeles:20240731T210000
DTSTAMP:20260425T031842
CREATED:20240729T222929Z
LAST-MODIFIED:20240729T231213Z
UID:3788-1722448800-1722459600@figtreecoffee.com
SUMMARY:Pigeon & Tuttle; Adam Schild; & Blackburn
DESCRIPTION:Enjoy an evening of diverse live music! Start with Pigeon & Tuttle from 6-7 pm\, followed by Adam Schild from 7-8 pm. Wrap up the night with Blackburn from 8-9 pm. It’s the perfect lineup to keep you entertained all evening long!
URL:https://figtreecoffee.com/event/pigeon-adam-schild-blackburn/
LOCATION:The Fig Tree\, 217 Vernon Street\, Roseville\, CA\, 95678\, United States
CATEGORIES:Live Music
ATTACH;FMTTYPE=image/png:https://figtreecoffee.com/wp-content/uploads/2024/07/Live-Music_20240729_152749_0000.png
END:VEVENT
BEGIN:VEVENT
DTSTART;TZID=America/Los_Angeles:20240801T180000
DTEND;TZID=America/Los_Angeles:20240801T210000
DTSTAMP:20260425T031842
CREATED:20240730T004756Z
LAST-MODIFIED:20240730T004756Z
UID:3791-1722535200-1722546000@figtreecoffee.com
SUMMARY:Jonathan Schneider & Tastes Like TV Static
DESCRIPTION:Enjoy an evening of live music! From 6-7:15 pm\, Jonathan Schneider will captivate you with his performance. Then\, from 7:30-9 pm\, rock out with Tastes Like TV Static. It’s the perfect way to spend your night with fantastic tunes!
URL:https://figtreecoffee.com/event/jonathan-schneider-tastes-like-tv-static/
LOCATION:The Fig Tree\, 217 Vernon Street\, Roseville\, CA\, 95678\, United States
CATEGORIES:Live Music
END:VEVENT
BEGIN:VEVENT
DTSTART;TZID=America/Los_Angeles:20240802T180000
DTEND;TZID=America/Los_Angeles:20240802T210000
DTSTAMP:20260425T031842
CREATED:20240729T231111Z
LAST-MODIFIED:20240729T231111Z
UID:3792-1722621600-1722632400@figtreecoffee.com
SUMMARY:New Richard & Gary Shamber and Friends
DESCRIPTION:Join us for an evening of fantastic live music! Start with New Richard from 6-7 pm\, then enjoy Gary Shamber and Friends from 7-9 pm. It’s the perfect way to spend your night with great tunes and good company!
URL:https://figtreecoffee.com/event/new-richard-gary-shamber-and-friends/
LOCATION:The Fig Tree\, 217 Vernon Street\, Roseville\, CA\, 95678\, United States
CATEGORIES:Live Music
ATTACH;FMTTYPE=image/jpeg:https://figtreecoffee.com/wp-content/uploads/2024/04/Live-Music.jpg
END:VEVENT
BEGIN:VEVENT
DTSTART;TZID=America/Los_Angeles:20240803T170000
DTEND;TZID=America/Los_Angeles:20240803T210000
DTSTAMP:20260425T031842
CREATED:20240729T221850Z
LAST-MODIFIED:20240729T221850Z
UID:3784-1722704400-1722718800@figtreecoffee.com
SUMMARY:Open Mic Night
DESCRIPTION:Calling all performers and music lovers! Join us for an electrifying Open Mic Night where you can showcase your talents or simply enjoy an evening of diverse performances. It’s your stage\, your moment – let the music and creativity flow! \nRules are as follows: \n1. All materials must be family-friendly. \n2. The signup list will be available at 5 PM in-house. Time slots will be first come first serve. \n3. We encourage each other and create a positive environment\, whether big or small. \nWe hope to see you there!
URL:https://figtreecoffee.com/event/open-mic-night-73/
LOCATION:The Fig Tree\, 217 Vernon Street\, Roseville\, CA\, 95678\, United States
CATEGORIES:Open Mic
ATTACH;FMTTYPE=image/png:https://figtreecoffee.com/wp-content/uploads/2024/06/open-mic-Night.png
END:VEVENT
BEGIN:VEVENT
DTSTART;TZID=America/Los_Angeles:20240807T180000
DTEND;TZID=America/Los_Angeles:20240807T210000
DTSTAMP:20260425T031842
CREATED:20240807T050748Z
LAST-MODIFIED:20240807T051036Z
UID:3799-1723053600-1723064400@figtreecoffee.com
SUMMARY:The Dormroom Boys; Steve Wildanger; One Giant Fish
DESCRIPTION:Join us for an exciting evening of live music! Start with The Dormroom Boys from 6-7 pm\, followed by Steve Wildanger from 7-8 pm. Then\, wrap up the night with One Giant Fish from 8-9 pm. It’s the perfect way to enjoy fantastic tunes and great company!
URL:https://figtreecoffee.com/event/the-dormroom-boys-steve-wildanger-one-giant-fish/
LOCATION:The Fig Tree\, 217 Vernon Street\, Roseville\, CA\, 95678\, United States
CATEGORIES:Live Music
ATTACH;FMTTYPE=image/png:https://figtreecoffee.com/wp-content/uploads/2024/08/One-Giant-Fish-v2.png
END:VEVENT
BEGIN:VEVENT
DTSTART;TZID=America/Los_Angeles:20240808T180000
DTEND;TZID=America/Los_Angeles:20240808T210000
DTSTAMP:20260425T031842
CREATED:20240807T051203Z
LAST-MODIFIED:20240807T051203Z
UID:3802-1723140000-1723150800@figtreecoffee.com
SUMMARY:Brendan Speights; Sam Caylor
DESCRIPTION:Come and enjoy an evening of live music! Brendan Speights will kick things off from 6-7 pm\, followed by the talented Sam Caylor from 7-9 pm. It’s the perfect way to spend your night with great tunes and good vibes!
URL:https://figtreecoffee.com/event/brendan-speights-sam-caylor/
LOCATION:The Fig Tree\, 217 Vernon Street\, Roseville\, CA\, 95678\, United States
CATEGORIES:Live Music
ATTACH;FMTTYPE=image/jpeg:https://figtreecoffee.com/wp-content/uploads/2024/06/Live-Music.jpg
END:VEVENT
BEGIN:VEVENT
DTSTART;TZID=America/Los_Angeles:20240809T180000
DTEND;TZID=America/Los_Angeles:20240809T210000
DTSTAMP:20260425T031842
CREATED:20240807T051817Z
LAST-MODIFIED:20240807T051817Z
UID:3804-1723226400-1723237200@figtreecoffee.com
SUMMARY:Dominic Prosio; Jebby
DESCRIPTION:Experience a memorable night of live music! Start with the soulful melodies of Dominic Prosio from 6-7 pm\, then groove to the dynamic sounds of Jebby from 7-9 pm. Perfect tunes to pair with your favorite coffee or tea!
URL:https://figtreecoffee.com/event/dominic-prosio-jebby/
LOCATION:The Fig Tree\, 217 Vernon Street\, Roseville\, CA\, 95678\, United States
CATEGORIES:Live Music
ATTACH;FMTTYPE=image/png:https://figtreecoffee.com/wp-content/uploads/2024/08/Jebby.png
END:VEVENT
BEGIN:VEVENT
DTSTART;TZID=America/Los_Angeles:20240810T170000
DTEND;TZID=America/Los_Angeles:20240810T210000
DTSTAMP:20260425T031842
CREATED:20240807T050328Z
LAST-MODIFIED:20240807T050328Z
UID:3797-1723309200-1723323600@figtreecoffee.com
SUMMARY:Open Mic Night
DESCRIPTION:Calling all performers and music lovers! Join us for an electrifying Open Mic Night where you can showcase your talents or simply enjoy an evening of diverse performances. It’s your stage\, your moment – let the music and creativity flow! \nRules are as follows: \n1. All materials must be family-friendly. \n2. The signup list will be available at 5 PM in-house. Time slots will be first come first serve. \n3. We encourage each other and create a positive environment\, whether big or small. \nWe hope to see you there!
URL:https://figtreecoffee.com/event/open-mic-night-74/
LOCATION:The Fig Tree\, 217 Vernon Street\, Roseville\, CA\, 95678\, United States
CATEGORIES:Open Mic
ATTACH;FMTTYPE=image/png:https://figtreecoffee.com/wp-content/uploads/2024/06/open-mic-Night.png
END:VEVENT
BEGIN:VEVENT
DTSTART;TZID=America/Los_Angeles:20240813T180000
DTEND;TZID=America/Los_Angeles:20240813T210000
DTSTAMP:20260425T031842
CREATED:20240812T171754Z
LAST-MODIFIED:20240812T171754Z
UID:3809-1723572000-1723582800@figtreecoffee.com
SUMMARY:Piano Night\, featuring Brenna Weeks
DESCRIPTION:Indulge in an enchanting evening of Piano Night with the talented Brenna Weeks. Join us for a musical journey as she fills the air with the timeless beauty of piano melodies from 6 pm to 9 pm.
URL:https://figtreecoffee.com/event/piano-night-featuring-brenna-weeks-12/
LOCATION:The Fig Tree\, 217 Vernon Street\, Roseville\, CA\, 95678\, United States
CATEGORIES:Piano Night
ATTACH;FMTTYPE=image/jpeg:https://figtreecoffee.com/wp-content/uploads/2024/02/Piano-Night-featuring-Brenna-Weeks-Vday.jpg
END:VEVENT
BEGIN:VEVENT
DTSTART;TZID=America/Los_Angeles:20240814T180000
DTEND;TZID=America/Los_Angeles:20240814T210000
DTSTAMP:20260425T031842
CREATED:20240812T172053Z
LAST-MODIFIED:20240812T172053Z
UID:3811-1723658400-1723669200@figtreecoffee.com
SUMMARY:Donrico DeCastro; Tae Sierra; Anthony Boccaleani
DESCRIPTION:Looking for the perfect way to unwind and enjoy your Wednesday night? We’ve got you covered with an evening of incredible live music that will have you relaxed and ready to take on the rest of the week.\n\n\n\n\n\n\n\n\n\n\n\nDonrico DeCastro | 6-7 PM: Ease into the evening as Donrico’s smooth tunes fill the air\, creating the perfect soundtrack for unwinding.\nTae Sierra | 7-8 PM: Let Tae’s soulful melodies sweep you away\, as his performance draws you in and keeps you captivated.\nAnthony Boccaleoni | 8-9 PM: As the night deepens\, Anthony’s compelling rhythms will be the perfect way to end your musical journey\, leaving you feeling inspired and content.\n\nJoin us for an evening where every note is a story\, and every moment is made better with good company and a cozy atmosphere!
URL:https://figtreecoffee.com/event/donrico-decastro-tae-sierra-anthony-boccaleani/
LOCATION:The Fig Tree\, 217 Vernon Street\, Roseville\, CA\, 95678\, United States
CATEGORIES:Live Music
ATTACH;FMTTYPE=image/jpeg:https://figtreecoffee.com/wp-content/uploads/2024/02/Live-Music-Donrico.jpg
END:VEVENT
BEGIN:VEVENT
DTSTART;TZID=America/Los_Angeles:20240815T180000
DTEND;TZID=America/Los_Angeles:20240815T210000
DTSTAMP:20260425T031842
CREATED:20240812T172238Z
LAST-MODIFIED:20240812T172238Z
UID:3813-1723744800-1723755600@figtreecoffee.com
SUMMARY:Gabe Garcia; Ace; Isaiah Lara
DESCRIPTION:Start your evening with the soulful tunes of Gabe Garcia from 6-7 PM. Let Ace bring the energy from 7-8 PM\, and wrap up the night with the captivating sounds of Isaiah Lara from 8-9 PM. It’s the perfect mix to enjoy alongside your favorite coffee or tea!
URL:https://figtreecoffee.com/event/gabe-garcia-ace-isaiah-lara/
LOCATION:The Fig Tree\, 217 Vernon Street\, Roseville\, CA\, 95678\, United States
CATEGORIES:Live Music
ATTACH;FMTTYPE=image/jpeg:https://figtreecoffee.com/wp-content/uploads/2024/06/Live-Music.jpg
END:VEVENT
BEGIN:VEVENT
DTSTART;TZID=America/Los_Angeles:20240816T180000
DTEND;TZID=America/Los_Angeles:20240816T210000
DTSTAMP:20260425T031842
CREATED:20240812T174712Z
LAST-MODIFIED:20240812T174739Z
UID:3815-1723831200-1723842000@figtreecoffee.com
SUMMARY:Mischief; Leslie W
DESCRIPTION:Kick off the weekend with Mischief bringing their vibrant energy from 6-8 PM. Then\, keep the night alive with the soulful melodies of Leslie W from 8-9 PM. It’s a night of fantastic music that pairs perfectly with your favorite coffee or a cozy cup of tea!
URL:https://figtreecoffee.com/event/mischief-leslie-w/
LOCATION:The Fig Tree\, 217 Vernon Street\, Roseville\, CA\, 95678\, United States
CATEGORIES:Live Music
ATTACH;FMTTYPE=image/png:https://figtreecoffee.com/wp-content/uploads/2024/08/Mischief-Leslie-W.png
END:VEVENT
BEGIN:VEVENT
DTSTART;TZID=America/Los_Angeles:20240817T170000
DTEND;TZID=America/Los_Angeles:20240817T210000
DTSTAMP:20260425T031842
CREATED:20240812T171710Z
LAST-MODIFIED:20240812T171710Z
UID:3807-1723914000-1723928400@figtreecoffee.com
SUMMARY:Open Mic Night
DESCRIPTION:Calling all performers and music lovers! Join us for an electrifying Open Mic Night where you can showcase your talents or simply enjoy an evening of diverse performances. It’s your stage\, your moment – let the music and creativity flow! \nRules are as follows: \n1. All materials must be family-friendly. \n2. The signup list will be available at 5 PM in-house. Time slots will be first come first serve. \n3. We encourage each other and create a positive environment\, whether big or small. \nWe hope to see you there!
URL:https://figtreecoffee.com/event/open-mic-night-75/
LOCATION:The Fig Tree\, 217 Vernon Street\, Roseville\, CA\, 95678\, United States
CATEGORIES:Open Mic
ATTACH;FMTTYPE=image/png:https://figtreecoffee.com/wp-content/uploads/2024/06/open-mic-Night.png
END:VEVENT
BEGIN:VEVENT
DTSTART;TZID=America/Los_Angeles:20240820T180000
DTEND;TZID=America/Los_Angeles:20240820T210000
DTSTAMP:20260425T031842
CREATED:20240818T194106Z
LAST-MODIFIED:20240818T194106Z
UID:3821-1724176800-1724187600@figtreecoffee.com
SUMMARY:Piano Night\, featuring Rachel Mullen
DESCRIPTION:Join us for an exquisite evening of Piano Night featuring the talented Rachel Mullen\, enchanting your senses from 6-9 pm. Immerse yourself in the timeless beauty of piano melodies and let the music weave a captivating experience.
URL:https://figtreecoffee.com/event/piano-night-featuring-rachel-mullen-12/
LOCATION:The Fig Tree\, 217 Vernon Street\, Roseville\, CA\, 95678\, United States
CATEGORIES:Piano Night
ATTACH;FMTTYPE=image/png:https://figtreecoffee.com/wp-content/uploads/2024/01/Piano-Night-featuring-Rachel-Mullen.png
END:VEVENT
END:VCALENDAR