BEGIN:VCALENDAR
VERSION:2.0
PRODID:-//The Fig Tree - ECPv6.15.20//NONSGML v1.0//EN
CALSCALE:GREGORIAN
METHOD:PUBLISH
X-WR-CALNAME:The Fig Tree
X-ORIGINAL-URL:https://figtreecoffee.com
X-WR-CALDESC:Events for The Fig Tree
REFRESH-INTERVAL;VALUE=DURATION:PT1H
X-Robots-Tag:noindex
X-PUBLISHED-TTL:PT1H
BEGIN:VTIMEZONE
TZID:America/Los_Angeles
BEGIN:DAYLIGHT
TZOFFSETFROM:-0800
TZOFFSETTO:-0700
TZNAME:PDT
DTSTART:20250309T100000
END:DAYLIGHT
BEGIN:STANDARD
TZOFFSETFROM:-0700
TZOFFSETTO:-0800
TZNAME:PST
DTSTART:20251102T090000
END:STANDARD
BEGIN:DAYLIGHT
TZOFFSETFROM:-0800
TZOFFSETTO:-0700
TZNAME:PDT
DTSTART:20260308T100000
END:DAYLIGHT
BEGIN:STANDARD
TZOFFSETFROM:-0700
TZOFFSETTO:-0800
TZNAME:PST
DTSTART:20261101T090000
END:STANDARD
BEGIN:DAYLIGHT
TZOFFSETFROM:-0800
TZOFFSETTO:-0700
TZNAME:PDT
DTSTART:20270314T100000
END:DAYLIGHT
BEGIN:STANDARD
TZOFFSETFROM:-0700
TZOFFSETTO:-0800
TZNAME:PST
DTSTART:20271107T090000
END:STANDARD
END:VTIMEZONE
BEGIN:VEVENT
DTSTART;TZID=America/Los_Angeles:20260314T170000
DTEND;TZID=America/Los_Angeles:20260314T210000
DTSTAMP:20260423T165214
CREATED:20260311T022336Z
LAST-MODIFIED:20260311T022336Z
UID:7564-1773507600-1773522000@figtreecoffee.com
SUMMARY:Open Mic Night
DESCRIPTION:Calling all performers and music lovers! Join us for an electrifying Open Mic Night where you can showcase your talents or simply enjoy an evening of diverse performances. It’s your stage\, your moment – let the music and creativity flow! \nRules are as follows: \n1. All materials must be family-friendly. \n2. The signup list will be available at 5 PM in-house. Time slots will be first come first serve. \n3. We encourage each other and create a positive environment\, whether big or small. \nWe hope to see you there!
URL:https://figtreecoffee.com/event/open-mic-night-154/
LOCATION:The Fig Tree\, 217 Vernon Street\, Roseville\, CA\, 95678\, United States
CATEGORIES:Open Mic
ATTACH;FMTTYPE=image/png:https://figtreecoffee.com/wp-content/uploads/2025/11/OPEN-MIC-NIGHT.png
END:VEVENT
BEGIN:VEVENT
DTSTART;TZID=America/Los_Angeles:20260313T180000
DTEND;TZID=America/Los_Angeles:20260313T210000
DTSTAMP:20260423T165214
CREATED:20260302T210606Z
LAST-MODIFIED:20260311T022315Z
UID:7113-1773424800-1773435600@figtreecoffee.com
SUMMARY:The Footsies Jazz Combo
DESCRIPTION:Set the tone for your Friday night with The Footsies Jazz Combo performing from 6–9 pm. Smooth jazz\, cozy drinks\, and an inviting atmosphere make this the perfect spot to unwind\, gather with friends\, or ease into your weekend plans.
URL:https://figtreecoffee.com/event/the-footsies-jazz-combo-3/
LOCATION:The Fig Tree\, 217 Vernon Street\, Roseville\, CA\, 95678\, United States
CATEGORIES:Live Music
ATTACH;FMTTYPE=image/jpeg:https://figtreecoffee.com/wp-content/uploads/2025/12/Live-Music.jpg
END:VEVENT
BEGIN:VEVENT
DTSTART;TZID=America/Los_Angeles:20260312T180000
DTEND;TZID=America/Los_Angeles:20260312T210000
DTSTAMP:20260423T165214
CREATED:20260311T024104Z
LAST-MODIFIED:20260311T024215Z
UID:7566-1773338400-1773349200@figtreecoffee.com
SUMMARY:Brenna Weeks; Seth Kaminsky
DESCRIPTION:Ease into Thursday evening with Brenna Weeks from 6–7 pm\, followed by Seth Kaminsky from 7–9 pm. Bring a friend\, plan a relaxed date night\, or enjoy a quiet solo evening while sipping one of our monthly drink specials and settling into the cozy atmosphere.
URL:https://figtreecoffee.com/event/brenna-weeks-seth-kaminsky/
LOCATION:The Fig Tree\, 217 Vernon Street\, Roseville\, CA\, 95678\, United States
CATEGORIES:Piano Night
ATTACH;FMTTYPE=image/jpeg:https://figtreecoffee.com/wp-content/uploads/2024/02/Piano-Night-featuring-Brenna-Weeks-Vday.jpg
END:VEVENT
BEGIN:VEVENT
DTSTART;TZID=America/Los_Angeles:20260311T180000
DTEND;TZID=America/Los_Angeles:20260311T210000
DTSTAMP:20260423T165214
CREATED:20260311T022247Z
LAST-MODIFIED:20260311T022247Z
UID:7562-1773252000-1773262800@figtreecoffee.com
SUMMARY:Jazz Jam Session
DESCRIPTION:Immerse yourself in the smooth\, soulful sounds of jazz at tonight’s Jazz Jam Session. Whether you’re a musician looking to join the groove or a listener soaking in the melodies\, it’s the perfect night for jazz lovers to connect and enjoy the art of improvisation. Grab your favorite coffee or tea and let the music take you away! \n 
URL:https://figtreecoffee.com/event/jazz-jam-session-14/
LOCATION:The Fig Tree\, 217 Vernon Street\, Roseville\, CA\, 95678\, United States
CATEGORIES:Live Music
ATTACH;FMTTYPE=image/png:https://figtreecoffee.com/wp-content/uploads/2025/11/Jazz-Jam-Session-Free-Admission.png
END:VEVENT
BEGIN:VEVENT
DTSTART;TZID=America/Los_Angeles:20260307T170000
DTEND;TZID=America/Los_Angeles:20260307T210000
DTSTAMP:20260423T165214
CREATED:20260302T210307Z
LAST-MODIFIED:20260302T210307Z
UID:7104-1772902800-1772917200@figtreecoffee.com
SUMMARY:Open Mic Night
DESCRIPTION:Calling all performers and music lovers! Join us for an electrifying Open Mic Night where you can showcase your talents or simply enjoy an evening of diverse performances. It’s your stage\, your moment – let the music and creativity flow! \nRules are as follows: \n1. All materials must be family-friendly. \n2. The signup list will be available at 5 PM in-house. Time slots will be first come first serve. \n3. We encourage each other and create a positive environment\, whether big or small. \nWe hope to see you there!
URL:https://figtreecoffee.com/event/open-mic-night-153/
LOCATION:The Fig Tree\, 217 Vernon Street\, Roseville\, CA\, 95678\, United States
CATEGORIES:Open Mic
ATTACH;FMTTYPE=image/png:https://figtreecoffee.com/wp-content/uploads/2025/11/OPEN-MIC-NIGHT.png
END:VEVENT
BEGIN:VEVENT
DTSTART;TZID=America/Los_Angeles:20260306T180000
DTEND;TZID=America/Los_Angeles:20260306T210000
DTSTAMP:20260423T165214
CREATED:20260304T190532Z
LAST-MODIFIED:20260304T190532Z
UID:6612-1772820000-1772830800@figtreecoffee.com
SUMMARY:Mischief; Brendan Scott
DESCRIPTION:Kick off your Friday with lively local sounds from Mischief from 6–8 pm\, followed by Brendan Scott from 8–9 pm. It’s the perfect way to start the weekend\, whether you’re meeting friends\, planning a casual date night\, or enjoying a solo unwind with one of our monthly drink specials. \n 
URL:https://figtreecoffee.com/event/mischief-brendan-scott/
LOCATION:The Fig Tree\, 217 Vernon Street\, Roseville\, CA\, 95678\, United States
CATEGORIES:Live Music
ATTACH;FMTTYPE=image/png:https://figtreecoffee.com/wp-content/uploads/2026/01/Mischief.png
END:VEVENT
BEGIN:VEVENT
DTSTART;TZID=America/Los_Angeles:20260305T180000
DTEND;TZID=America/Los_Angeles:20260305T210000
DTSTAMP:20260423T165214
CREATED:20260302T210525Z
LAST-MODIFIED:20260302T210525Z
UID:7110-1772733600-1772744400@figtreecoffee.com
SUMMARY:Sam Caylor; Adam Schild; Prettier in Person
DESCRIPTION:Join us for a special night of music from 6 to 9 pm featuring Sam Caylor and Adam Schild. Each artist will share a solo set\, followed by the two joining together as the duo Prettier in Person. A unique evening of talent and collaboration\, perfect for unwinding with friends\, sipping seasonal drinks\, and enjoying the welcoming atmosphere. \n 
URL:https://figtreecoffee.com/event/sam-caylor-adam-schild-prettier-in-person-5/
LOCATION:The Fig Tree\, 217 Vernon Street\, Roseville\, CA\, 95678\, United States
CATEGORIES:Live Music
ATTACH;FMTTYPE=image/png:https://figtreecoffee.com/wp-content/uploads/2025/11/Live-Music.png
END:VEVENT
BEGIN:VEVENT
DTSTART;TZID=America/Los_Angeles:20260304T183000
DTEND;TZID=America/Los_Angeles:20260304T203000
DTSTAMP:20260423T165214
CREATED:20260302T210408Z
LAST-MODIFIED:20260302T210408Z
UID:7108-1772649000-1772656200@figtreecoffee.com
SUMMARY:Celtic Session
DESCRIPTION:Get ready for a lively Celtic Session from 6:30-8:30 PM! Bring your own instrument and jump into the jam\, or simply enjoy the traditional tunes and good company. Let the music bring a bit of Celtic charm to your evening!
URL:https://figtreecoffee.com/event/celtic-session-17/
LOCATION:The Fig Tree\, 217 Vernon Street\, Roseville\, CA\, 95678\, United States
CATEGORIES:Live Music
ATTACH;FMTTYPE=image/png:https://figtreecoffee.com/wp-content/uploads/2025/03/Celtic-Session.png
END:VEVENT
BEGIN:VEVENT
DTSTART;TZID=America/Los_Angeles:20260303T180000
DTEND;TZID=America/Los_Angeles:20260303T210000
DTSTAMP:20260423T165214
CREATED:20260311T022100Z
LAST-MODIFIED:20260311T022100Z
UID:7560-1772560800-1772571600@figtreecoffee.com
SUMMARY:Piano Night\, featuring David Brown
DESCRIPTION:Join us Tuesday for Piano Night with David Brown from 6–9 pm. Settle in with a monthly drink special\, bring a friend or enjoy a peaceful solo evening\, and let the live piano create the perfect midweek atmosphere.
URL:https://figtreecoffee.com/event/piano-night-featuring-david-brown-3/
LOCATION:The Fig Tree\, 217 Vernon Street\, Roseville\, CA\, 95678\, United States
CATEGORIES:Piano Night
ATTACH;FMTTYPE=image/png:https://figtreecoffee.com/wp-content/uploads/2025/11/Live-Music-1.png
END:VEVENT
BEGIN:VEVENT
DTSTART;TZID=America/Los_Angeles:20260303T180000
DTEND;TZID=America/Los_Angeles:20260303T210000
DTSTAMP:20260423T165214
CREATED:20260302T210328Z
LAST-MODIFIED:20260302T210328Z
UID:7106-1772560800-1772571600@figtreecoffee.com
SUMMARY:Piano Night\, featuring Zachary Piazzisi
DESCRIPTION:Enjoy an enchanting Piano Night with Zachary Piazzisi as he fills the room with soothing melodies from 6-9 PM. Settle in for a relaxing evening of music that will captivate your soul. Don’t miss it!
URL:https://figtreecoffee.com/event/piano-night-featuring-zachary-piazzisi-29/
LOCATION:The Fig Tree\, 217 Vernon Street\, Roseville\, CA\, 95678\, United States
CATEGORIES:Piano Night
ATTACH;FMTTYPE=image/png:https://figtreecoffee.com/wp-content/uploads/2025/11/Zachary-Piazzisi.png
END:VEVENT
BEGIN:VEVENT
DTSTART;TZID=America/Los_Angeles:20260228T170000
DTEND;TZID=America/Los_Angeles:20260228T210000
DTSTAMP:20260423T165214
CREATED:20260217T230625Z
LAST-MODIFIED:20260217T230625Z
UID:6939-1772298000-1772312400@figtreecoffee.com
SUMMARY:Open Mic Night
DESCRIPTION:Calling all performers and music lovers! Join us for an electrifying Open Mic Night where you can showcase your talents or simply enjoy an evening of diverse performances. It’s your stage\, your moment – let the music and creativity flow! \nRules are as follows: \n1. All materials must be family-friendly. \n2. The signup list will be available at 5 PM in-house. Time slots will be first come first serve. \n3. We encourage each other and create a positive environment\, whether big or small. \nWe hope to see you there!
URL:https://figtreecoffee.com/event/open-mic-night-152/
LOCATION:The Fig Tree\, 217 Vernon Street\, Roseville\, CA\, 95678\, United States
CATEGORIES:Open Mic
ATTACH;FMTTYPE=image/png:https://figtreecoffee.com/wp-content/uploads/2025/11/OPEN-MIC-NIGHT.png
END:VEVENT
BEGIN:VEVENT
DTSTART;TZID=America/Los_Angeles:20260227T180000
DTEND;TZID=America/Los_Angeles:20260227T210000
DTSTAMP:20260423T165214
CREATED:20260224T222929Z
LAST-MODIFIED:20260224T222929Z
UID:7057-1772215200-1772226000@figtreecoffee.com
SUMMARY:Spotlight Sessions Young Artist Showcase
DESCRIPTION:Join us on Wednesday from 6–9 pm for our Spotlight Sessions Young Artist Showcase. It’s a night dedicated to celebrating rising local talent. Enjoy fresh performances\, bakery treats\, and cozy midweek vibes as you relax\, connect\, and support the next generation of musicians.
URL:https://figtreecoffee.com/event/spotlight-sessions-young-artist-showcase-6/
LOCATION:The Fig Tree\, 217 Vernon Street\, Roseville\, CA\, 95678\, United States
CATEGORIES:Live Music
ATTACH;FMTTYPE=image/png:https://figtreecoffee.com/wp-content/uploads/2025/12/Young-Artist-Showcase.png
END:VEVENT
BEGIN:VEVENT
DTSTART;TZID=America/Los_Angeles:20260226T180000
DTEND;TZID=America/Los_Angeles:20260226T210000
DTSTAMP:20260423T165214
CREATED:20260224T222847Z
LAST-MODIFIED:20260224T222847Z
UID:7054-1772128800-1772139600@figtreecoffee.com
SUMMARY:Isaac Davis Jazz Quintet
DESCRIPTION:Ease into Thursday evening with the Isaac Davis Jazz Quintet from 6–9 pm. Smooth live jazz and cozy café vibes make it the perfect spot to meet friends\, enjoy a casual date night\, or unwind solo. Pair the music with one of our monthly drink specials and something sweet from the pastry case.
URL:https://figtreecoffee.com/event/isaac-davis-jazz-quintet/
LOCATION:The Fig Tree\, 217 Vernon Street\, Roseville\, CA\, 95678\, United States
CATEGORIES:Live Music
ATTACH;FMTTYPE=image/png:https://figtreecoffee.com/wp-content/uploads/2026/01/Live-Music.png
END:VEVENT
BEGIN:VEVENT
DTSTART;TZID=America/Los_Angeles:20260225T180000
DTEND;TZID=America/Los_Angeles:20260225T210000
DTSTAMP:20260423T165214
CREATED:20260224T222711Z
LAST-MODIFIED:20260224T222711Z
UID:7052-1772042400-1772053200@figtreecoffee.com
SUMMARY:Gabi Manuel; Anthony Boccaleoni; Josephine Ryan
DESCRIPTION:Take a midweek breather with a full night of live local music. Gabi Manuel opens from 6–7 pm\, followed by Anthony Boccaleoni from 7–8 pm\, with Josephine Ryan closing the evening from 8–9 pm. Bring a friend or enjoy a solo reset with a monthly drink special and something fresh from the pastry case.
URL:https://figtreecoffee.com/event/gabi-manuel-anthony-boccaleoni-josephine-ryan/
LOCATION:The Fig Tree\, 217 Vernon Street\, Roseville\, CA\, 95678\, United States
CATEGORIES:Live Music
ATTACH;FMTTYPE=image/png:https://figtreecoffee.com/wp-content/uploads/2025/11/Live-Music-1.png
END:VEVENT
BEGIN:VEVENT
DTSTART;TZID=America/Los_Angeles:20260224T180000
DTEND;TZID=America/Los_Angeles:20260224T210000
DTSTAMP:20260423T165214
CREATED:20260224T222352Z
LAST-MODIFIED:20260224T222352Z
UID:7050-1771956000-1771966800@figtreecoffee.com
SUMMARY:Piano Night\, featuring Zachary Piazzisi
DESCRIPTION:Enjoy an enchanting Piano Night with Zachary Piazzisi as he fills the room with soothing melodies from 6-9 PM. Settle in for a relaxing evening of music that will captivate your soul. Don’t miss it!
URL:https://figtreecoffee.com/event/piano-night-featuring-zachary-piazzisi-28/
LOCATION:The Fig Tree\, 217 Vernon Street\, Roseville\, CA\, 95678\, United States
CATEGORIES:Piano Night
ATTACH;FMTTYPE=image/png:https://figtreecoffee.com/wp-content/uploads/2025/11/Zachary-Piazzisi.png
END:VEVENT
BEGIN:VEVENT
DTSTART;TZID=America/Los_Angeles:20260221T170000
DTEND;TZID=America/Los_Angeles:20260221T210000
DTSTAMP:20260423T165214
CREATED:20260217T230601Z
LAST-MODIFIED:20260217T230601Z
UID:6937-1771693200-1771707600@figtreecoffee.com
SUMMARY:Open Mic Night
DESCRIPTION:Calling all performers and music lovers! Join us for an electrifying Open Mic Night where you can showcase your talents or simply enjoy an evening of diverse performances. It’s your stage\, your moment – let the music and creativity flow! \nRules are as follows: \n1. All materials must be family-friendly. \n2. The signup list will be available at 5 PM in-house. Time slots will be first come first serve. \n3. We encourage each other and create a positive environment\, whether big or small. \nWe hope to see you there!
URL:https://figtreecoffee.com/event/open-mic-night-151/
LOCATION:The Fig Tree\, 217 Vernon Street\, Roseville\, CA\, 95678\, United States
CATEGORIES:Open Mic
ATTACH;FMTTYPE=image/png:https://figtreecoffee.com/wp-content/uploads/2025/11/OPEN-MIC-NIGHT.png
END:VEVENT
BEGIN:VEVENT
DTSTART;TZID=America/Los_Angeles:20260220T180000
DTEND;TZID=America/Los_Angeles:20260220T210000
DTSTAMP:20260423T165214
CREATED:20260217T232909Z
LAST-MODIFIED:20260217T232909Z
UID:6950-1771610400-1771621200@figtreecoffee.com
SUMMARY:Samuel Robinson Jazz Quintet
DESCRIPTION:Start your weekend right with the Samuel Robinson Jazz Quintet from 6–9 pm. Enjoy a full evening of smooth live jazz\, perfect for catching up with friends\, planning a relaxed date night\, or treating yourself to a solo evening out. Pair it with one of our monthly drink specials and something sweet from the pastry case for the ultimate Friday vibe.
URL:https://figtreecoffee.com/event/samuel-robinson-jazz-quintet/
LOCATION:The Fig Tree\, 217 Vernon Street\, Roseville\, CA\, 95678\, United States
CATEGORIES:Live Music
ATTACH;FMTTYPE=image/png:https://figtreecoffee.com/wp-content/uploads/2025/11/Live-Music-1.png
END:VEVENT
BEGIN:VEVENT
DTSTART;TZID=America/Los_Angeles:20260219T180000
DTEND;TZID=America/Los_Angeles:20260219T204000
DTSTAMP:20260423T165214
CREATED:20260217T232722Z
LAST-MODIFIED:20260217T232722Z
UID:6945-1771524000-1771533600@figtreecoffee.com
SUMMARY:Fair Enough Jazz Club
DESCRIPTION:Spend your Thursday evening with Fair Enough Jazz Club from 6–8:40 pm. Smooth\, upbeat jazz sets the tone for a relaxed night out\, whether you’re meeting friends\, planning a casual date\, or enjoying a solo coffee break. Pair the music with one of our monthly drink specials and settle into the cozy atmosphere.
URL:https://figtreecoffee.com/event/fair-enough-jazz-club/
LOCATION:The Fig Tree\, 217 Vernon Street\, Roseville\, CA\, 95678\, United States
CATEGORIES:Live Music
ATTACH;FMTTYPE=image/png:https://figtreecoffee.com/wp-content/uploads/2026/02/Live-Music-6-pm-840-pm.png
END:VEVENT
BEGIN:VEVENT
DTSTART;TZID=America/Los_Angeles:20260218T180000
DTEND;TZID=America/Los_Angeles:20260218T204000
DTSTAMP:20260423T165214
CREATED:20260217T231209Z
LAST-MODIFIED:20260217T231209Z
UID:6943-1771437600-1771447200@figtreecoffee.com
SUMMARY:Brendan Scott; Brandan Gibson
DESCRIPTION:Settle into your Wednesday with a smooth lineup of live local music. Brendan Scott kicks things off from 6–7 pm\, followed by Brandan Gibson from 7–8:30 pm. Pair the evening with a cozy drink and something sweet from the pastry case for the perfect midweek reset.
URL:https://figtreecoffee.com/event/brendan-scott-brandan-gibson/
LOCATION:The Fig Tree\, 217 Vernon Street\, Roseville\, CA\, 95678\, United States
CATEGORIES:Live Music
ATTACH;FMTTYPE=image/png:https://figtreecoffee.com/wp-content/uploads/2025/12/Live-Music.png
END:VEVENT
BEGIN:VEVENT
DTSTART;TZID=America/Los_Angeles:20260217T180000
DTEND;TZID=America/Los_Angeles:20260217T210000
DTSTAMP:20260423T165214
CREATED:20260217T230748Z
LAST-MODIFIED:20260217T230748Z
UID:6941-1771351200-1771362000@figtreecoffee.com
SUMMARY:Piano Night\, featuring Leslie W.
DESCRIPTION:Indulge in an enchanting evening of Piano Night with Leslie W. from 6-9 pm. Join us for a soulful journey through captivating melodies and musical brilliance.
URL:https://figtreecoffee.com/event/piano-night-featuring-leslie-w-16/
LOCATION:The Fig Tree\, 217 Vernon Street\, Roseville\, CA\, 95678\, United States
CATEGORIES:Piano Night
ATTACH;FMTTYPE=image/jpeg:https://figtreecoffee.com/wp-content/uploads/2024/09/Live-Music_20240916_172259_0000.jpg
END:VEVENT
BEGIN:VEVENT
DTSTART;TZID=America/Los_Angeles:20260214T170000
DTEND;TZID=America/Los_Angeles:20260214T210000
DTSTAMP:20260423T165214
CREATED:20260210T001855Z
LAST-MODIFIED:20260210T001855Z
UID:6750-1771088400-1771102800@figtreecoffee.com
SUMMARY:Open Mic Night
DESCRIPTION:Calling all performers and music lovers! Join us for an electrifying Open Mic Night where you can showcase your talents or simply enjoy an evening of diverse performances. It’s your stage\, your moment – let the music and creativity flow! \nRules are as follows: \n1. All materials must be family-friendly. \n2. The signup list will be available at 5 PM in-house. Time slots will be first come first serve. \n3. We encourage each other and create a positive environment\, whether big or small. \nWe hope to see you there!
URL:https://figtreecoffee.com/event/open-mic-night-150/
LOCATION:The Fig Tree\, 217 Vernon Street\, Roseville\, CA\, 95678\, United States
CATEGORIES:Open Mic
ATTACH;FMTTYPE=image/png:https://figtreecoffee.com/wp-content/uploads/2025/11/OPEN-MIC-NIGHT.png
END:VEVENT
BEGIN:VEVENT
DTSTART;TZID=America/Los_Angeles:20260213T180000
DTEND;TZID=America/Los_Angeles:20260213T210000
DTSTAMP:20260423T165214
CREATED:20260210T002441Z
LAST-MODIFIED:20260210T002441Z
UID:6758-1771005600-1771016400@figtreecoffee.com
SUMMARY:Big Chip Jazz Combo
DESCRIPTION:Start the weekend right with a full evening of live jazz from Big Chip Jazz Combo\, playing from 6-9 pm. Settle in with friends\, sip on seasonal drinks\, and let the smooth sounds set the tone for a relaxed Friday night. Perfect for unwinding after the week or easing into the weekend with great music and a welcoming vibe.
URL:https://figtreecoffee.com/event/big-chip-jazz-combo-2/
LOCATION:The Fig Tree\, 217 Vernon Street\, Roseville\, CA\, 95678\, United States
CATEGORIES:Live Music
ATTACH;FMTTYPE=image/png:https://figtreecoffee.com/wp-content/uploads/2025/12/Live-Music_20251208_144617_0000.png
END:VEVENT
BEGIN:VEVENT
DTSTART;TZID=America/Los_Angeles:20260212T180000
DTEND;TZID=America/Los_Angeles:20260212T204000
DTSTAMP:20260423T165214
CREATED:20260210T002322Z
LAST-MODIFIED:20260210T002322Z
UID:6756-1770919200-1770928800@figtreecoffee.com
SUMMARY:Jessica Ortega; The Suspenders
DESCRIPTION:Enjoy a relaxed Thursday evening with live local music and welcoming café vibes. Jessica Ortega opens the night from 6–7 pm\, followed by The Suspenders from 7:15–8:40 pm. Grab a seasonal drink\, settle in with friends\, and let the smooth sounds carry you through an easygoing night out.
URL:https://figtreecoffee.com/event/jessica-ortega-the-suspenders/
LOCATION:The Fig Tree\, 217 Vernon Street\, Roseville\, CA\, 95678\, United States
CATEGORIES:Live Music
ATTACH;FMTTYPE=image/png:https://figtreecoffee.com/wp-content/uploads/2025/12/Live-Music.png
END:VEVENT
BEGIN:VEVENT
DTSTART;TZID=America/Los_Angeles:20260211T180000
DTEND;TZID=America/Los_Angeles:20260211T203000
DTSTAMP:20260423T165214
CREATED:20260210T002034Z
LAST-MODIFIED:20260210T002518Z
UID:6754-1770832800-1770841800@figtreecoffee.com
SUMMARY:Jazz Jam Session
DESCRIPTION:Immerse yourself in the smooth\, soulful sounds of jazz at tonight’s Jazz Jam Session. Whether you’re a musician looking to join the groove or a listener soaking in the melodies\, it’s the perfect night for jazz lovers to connect and enjoy the art of improvisation. Grab your favorite coffee or tea and let the music take you away! \n 
URL:https://figtreecoffee.com/event/jazz-jam-session-13/
LOCATION:The Fig Tree\, 217 Vernon Street\, Roseville\, CA\, 95678\, United States
CATEGORIES:Live Music
ATTACH;FMTTYPE=image/png:https://figtreecoffee.com/wp-content/uploads/2025/11/Jazz-Jam-Session-6-830.png
END:VEVENT
BEGIN:VEVENT
DTSTART;TZID=America/Los_Angeles:20260210T180000
DTEND;TZID=America/Los_Angeles:20260210T210000
DTSTAMP:20260423T165214
CREATED:20260210T001936Z
LAST-MODIFIED:20260210T001936Z
UID:6752-1770746400-1770757200@figtreecoffee.com
SUMMARY:Piano Night\, featuring David Brown
DESCRIPTION:Enjoy an intimate evening of piano with David Brown from 6-9 pm. Relax with friends\, savor your favorite seasonal drinks\, and let the music create the perfect midweek reset.
URL:https://figtreecoffee.com/event/piano-night-featuring-david-brown-2/
LOCATION:The Fig Tree\, 217 Vernon Street\, Roseville\, CA\, 95678\, United States
CATEGORIES:Piano Night
ATTACH;FMTTYPE=image/png:https://figtreecoffee.com/wp-content/uploads/2026/01/David-Brown.png
END:VEVENT
BEGIN:VEVENT
DTSTART;TZID=America/Los_Angeles:20260207T170000
DTEND;TZID=America/Los_Angeles:20260207T210000
DTSTAMP:20260423T165214
CREATED:20260203T055503Z
LAST-MODIFIED:20260203T055503Z
UID:6597-1770483600-1770498000@figtreecoffee.com
SUMMARY:Open Mic Night
DESCRIPTION:Calling all performers and music lovers! Join us for an electrifying Open Mic Night where you can showcase your talents or simply enjoy an evening of diverse performances. It’s your stage\, your moment – let the music and creativity flow! \nRules are as follows: \n1. All materials must be family-friendly. \n2. The signup list will be available at 5 PM in-house. Time slots will be first come first serve. \n3. We encourage each other and create a positive environment\, whether big or small. \nWe hope to see you there!
URL:https://figtreecoffee.com/event/open-mic-night-149/
LOCATION:The Fig Tree\, 217 Vernon Street\, Roseville\, CA\, 95678\, United States
CATEGORIES:Open Mic
ATTACH;FMTTYPE=image/png:https://figtreecoffee.com/wp-content/uploads/2025/11/OPEN-MIC-NIGHT.png
END:VEVENT
BEGIN:VEVENT
DTSTART;TZID=America/Los_Angeles:20260206T180000
DTEND;TZID=America/Los_Angeles:20260206T210000
DTSTAMP:20260423T165214
CREATED:20260203T055706Z
LAST-MODIFIED:20260203T055706Z
UID:6601-1770400800-1770411600@figtreecoffee.com
SUMMARY:The Footsies Jazz Combo
DESCRIPTION:Set the tone for your Friday night with The Footsies Jazz Combo performing from 6–9 pm. Smooth jazz\, cozy drinks\, and an inviting atmosphere make this the perfect spot to unwind\, gather with friends\, or ease into your weekend plans.
URL:https://figtreecoffee.com/event/the-footsies-jazz-combo-2/
LOCATION:The Fig Tree\, 217 Vernon Street\, Roseville\, CA\, 95678\, United States
CATEGORIES:Live Music
ATTACH;FMTTYPE=image/jpeg:https://figtreecoffee.com/wp-content/uploads/2025/12/Live-Music.jpg
END:VEVENT
BEGIN:VEVENT
DTSTART;TZID=America/Los_Angeles:20260205T180000
DTEND;TZID=America/Los_Angeles:20260205T204000
DTSTAMP:20260423T165214
CREATED:20260205T153941Z
LAST-MODIFIED:20260205T153941Z
UID:6651-1770314400-1770324000@figtreecoffee.com
SUMMARY:Brenna Weeks; Sam Caylor
DESCRIPTION:Ease into Thursday with a night of heartfelt live music. Brenna Weeks opens the evening from 6–7 pm\, followed by Sam Caylor from 7–9 pm. Settle in with a seasonal drink\, enjoy a fresh pastry\, and unwind with cozy vibes and local talent.
URL:https://figtreecoffee.com/event/brenna-weeks-sam-caylor/
LOCATION:The Fig Tree\, 217 Vernon Street\, Roseville\, CA\, 95678\, United States
CATEGORIES:Live Music
ATTACH;FMTTYPE=image/png:https://figtreecoffee.com/wp-content/uploads/2025/12/Live-Music.png
END:VEVENT
BEGIN:VEVENT
DTSTART;TZID=America/Los_Angeles:20260204T183000
DTEND;TZID=America/Los_Angeles:20260204T203000
DTSTAMP:20260423T165214
CREATED:20260203T055542Z
LAST-MODIFIED:20260203T055542Z
UID:6599-1770229800-1770237000@figtreecoffee.com
SUMMARY:Celtic Session
DESCRIPTION:Get ready for a lively Celtic Session from 6:30-8:30 PM! Bring your own instrument and jump into the jam\, or simply enjoy the traditional tunes and good company. Let the music bring a bit of Celtic charm to your evening!
URL:https://figtreecoffee.com/event/celtic-session-16/
LOCATION:The Fig Tree\, 217 Vernon Street\, Roseville\, CA\, 95678\, United States
CATEGORIES:Live Music
ATTACH;FMTTYPE=image/png:https://figtreecoffee.com/wp-content/uploads/2025/03/Celtic-Session.png
END:VEVENT
BEGIN:VEVENT
DTSTART;TZID=America/Los_Angeles:20260203T180000
DTEND;TZID=America/Los_Angeles:20260203T210000
DTSTAMP:20260423T165214
CREATED:20260203T055440Z
LAST-MODIFIED:20260203T055440Z
UID:6595-1770141600-1770152400@figtreecoffee.com
SUMMARY:Piano Night\, featuring The Gentleman in Black
DESCRIPTION:Join us Tuesday for Piano Night with The Gentleman in Black from 6 to 9 pm. Enjoy an intimate evening of live piano\, cozy vibes\, and seasonal drinks that make it easy to unwind\, focus\, or simply soak in the music midweek.
URL:https://figtreecoffee.com/event/piano-night-featuring-the-gentleman-in-black-2/
LOCATION:The Fig Tree\, 217 Vernon Street\, Roseville\, CA\, 95678\, United States
CATEGORIES:Piano Night
ATTACH;FMTTYPE=image/png:https://figtreecoffee.com/wp-content/uploads/2025/11/Live-Music-1.png
END:VEVENT
END:VCALENDAR