BEGIN:VCALENDAR
VERSION:2.0
PRODID:-//The Fig Tree - ECPv6.15.20//NONSGML v1.0//EN
CALSCALE:GREGORIAN
METHOD:PUBLISH
X-ORIGINAL-URL:https://figtreecoffee.com
X-WR-CALDESC:Events for The Fig Tree
REFRESH-INTERVAL;VALUE=DURATION:PT1H
X-Robots-Tag:noindex
X-PUBLISHED-TTL:PT1H
BEGIN:VTIMEZONE
TZID:America/Los_Angeles
BEGIN:DAYLIGHT
TZOFFSETFROM:-0800
TZOFFSETTO:-0700
TZNAME:PDT
DTSTART:20220313T100000
END:DAYLIGHT
BEGIN:STANDARD
TZOFFSETFROM:-0700
TZOFFSETTO:-0800
TZNAME:PST
DTSTART:20221106T090000
END:STANDARD
BEGIN:DAYLIGHT
TZOFFSETFROM:-0800
TZOFFSETTO:-0700
TZNAME:PDT
DTSTART:20230312T100000
END:DAYLIGHT
BEGIN:STANDARD
TZOFFSETFROM:-0700
TZOFFSETTO:-0800
TZNAME:PST
DTSTART:20231105T090000
END:STANDARD
BEGIN:DAYLIGHT
TZOFFSETFROM:-0800
TZOFFSETTO:-0700
TZNAME:PDT
DTSTART:20240310T100000
END:DAYLIGHT
BEGIN:STANDARD
TZOFFSETFROM:-0700
TZOFFSETTO:-0800
TZNAME:PST
DTSTART:20241103T090000
END:STANDARD
END:VTIMEZONE
BEGIN:VEVENT
DTSTART;TZID=America/Los_Angeles:20230301T180000
DTEND;TZID=America/Los_Angeles:20230301T210000
DTSTAMP:20260425T180939
CREATED:20230228T031417Z
LAST-MODIFIED:20230228T031417Z
UID:2371-1677693600-1677704400@figtreecoffee.com
SUMMARY:Jacob Ward & Jion
DESCRIPTION:Enjoy live music from Jacob Ward starting at 6\, and Jion at 7!
URL:https://figtreecoffee.com/event/jacob-ward-jion/
LOCATION:The Fig Tree\, 217 Vernon Street\, Roseville\, CA\, 95678\, United States
CATEGORIES:Live Music
ATTACH;FMTTYPE=image/png:https://figtreecoffee.com/wp-content/uploads/2022/09/Live-Music.png
END:VEVENT
BEGIN:VEVENT
DTSTART;TZID=America/Los_Angeles:20230302T180000
DTEND;TZID=America/Los_Angeles:20230302T210000
DTSTAMP:20260425T180939
CREATED:20230228T031506Z
LAST-MODIFIED:20230228T031506Z
UID:2373-1677780000-1677790800@figtreecoffee.com
SUMMARY:Savanna Lee & Marcus and the Dirty Laundry
DESCRIPTION:Enjoy live music from Savanna Lee between 6 to 7 pm and Marcus and the Dirty Laundry takes the stage from 7-9 pm.
URL:https://figtreecoffee.com/event/savanna-lee-marcus-and-the-dirty-laundry/
LOCATION:The Fig Tree\, 217 Vernon Street\, Roseville\, CA\, 95678\, United States
CATEGORIES:Live Music
ATTACH;FMTTYPE=image/png:https://figtreecoffee.com/wp-content/uploads/2022/09/Live-Music.png
END:VEVENT
BEGIN:VEVENT
DTSTART;TZID=America/Los_Angeles:20230303T180000
DTEND;TZID=America/Los_Angeles:20230303T210000
DTSTAMP:20260425T180939
CREATED:20230228T031531Z
LAST-MODIFIED:20230228T031531Z
UID:2375-1677866400-1677877200@figtreecoffee.com
SUMMARY:Steve Wildanger & Jebby Trio
DESCRIPTION:Enjoy live music from Steve Wildanger between 6 to 7 pm and Marcus and the Jebby Trio takes the stage from 7-9 pm.
URL:https://figtreecoffee.com/event/steve-wildanger-jebby-trio/
LOCATION:The Fig Tree\, 217 Vernon Street\, Roseville\, CA\, 95678\, United States
CATEGORIES:Live Music
ATTACH;FMTTYPE=image/png:https://figtreecoffee.com/wp-content/uploads/2022/09/Live-Music.png
END:VEVENT
BEGIN:VEVENT
DTSTART;TZID=America/Los_Angeles:20230304T180000
DTEND;TZID=America/Los_Angeles:20230304T210000
DTSTAMP:20260425T180939
CREATED:20230228T031305Z
LAST-MODIFIED:20230228T031305Z
UID:2367-1677952800-1677963600@figtreecoffee.com
SUMMARY:Open Mic Night
DESCRIPTION:We hosted the best open mic\,\ntil’ Covid hit\, then we said sike!\nwe took it away\,\nuntil yesterday\,\nand now you can sing as you’d like! \nThat’s right! Our favorite event is back in action every Saturday this month! Rules are as follows: \n1. All materials must be family-friendly. \n2. The signup list will be available at 5 PM in-house. Time slots will be first come first serve. \n3. We encourage each other and create a positive environment\, no matter how big or small. \nThat being said\, we hope to see you there!
URL:https://figtreecoffee.com/event/open-mic-night-15/
LOCATION:The Fig Tree\, 217 Vernon Street\, Roseville\, CA\, 95678\, United States
CATEGORIES:Open Mic
ATTACH;FMTTYPE=image/jpeg:https://figtreecoffee.com/wp-content/uploads/2022/09/Open-Mic-Night.jpg
END:VEVENT
BEGIN:VEVENT
DTSTART;TZID=America/Los_Angeles:20230307T180000
DTEND;TZID=America/Los_Angeles:20230307T210000
DTSTAMP:20260425T180939
CREATED:20230307T042658Z
LAST-MODIFIED:20230307T042804Z
UID:2386-1678212000-1678222800@figtreecoffee.com
SUMMARY:Dalton McLaughlin & Ryman Brothers
DESCRIPTION:Enjoy live music from Dalton McLaughlin between 6 to 7 pm and Ryman Brothers take the stage from 7-9 pm.
URL:https://figtreecoffee.com/event/dalton-mclaughlin-ryman-brothers/
LOCATION:The Fig Tree\, 217 Vernon Street\, Roseville\, CA\, 95678\, United States
CATEGORIES:Live Music
ATTACH;FMTTYPE=image/png:https://figtreecoffee.com/wp-content/uploads/2022/09/Live-Music.png
END:VEVENT
BEGIN:VEVENT
DTSTART;TZID=America/Los_Angeles:20230308T180000
DTEND;TZID=America/Los_Angeles:20230308T210000
DTSTAMP:20260425T180939
CREATED:20230307T042751Z
LAST-MODIFIED:20230307T042751Z
UID:2388-1678298400-1678309200@figtreecoffee.com
SUMMARY:Brian Strand & Rumi Shimada Trio
DESCRIPTION:Enjoy live music from Brian Strand between 6 to 7 pm and Rumi Shimada Trio takes the stage from 7-9 pm.
URL:https://figtreecoffee.com/event/brian-strand-rumi-shimada-trio/
LOCATION:The Fig Tree\, 217 Vernon Street\, Roseville\, CA\, 95678\, United States
CATEGORIES:Live Music
ATTACH;FMTTYPE=image/png:https://figtreecoffee.com/wp-content/uploads/2022/09/Live-Music.png
END:VEVENT
BEGIN:VEVENT
DTSTART;TZID=America/Los_Angeles:20230309T180000
DTEND;TZID=America/Los_Angeles:20230309T210000
DTSTAMP:20260425T180939
CREATED:20230307T042842Z
LAST-MODIFIED:20230307T042842Z
UID:2391-1678384800-1678395600@figtreecoffee.com
SUMMARY:Graven Tyler & Isaac Morris
DESCRIPTION:Enjoy live music from Graven Tyler between 6 to 7 pm and Isaac Morris takes the stage from 7-9 pm.
URL:https://figtreecoffee.com/event/graven-tyler-isaac-morris/
LOCATION:The Fig Tree\, 217 Vernon Street\, Roseville\, CA\, 95678\, United States
CATEGORIES:Live Music
ATTACH;FMTTYPE=image/png:https://figtreecoffee.com/wp-content/uploads/2022/09/Live-Music.png
END:VEVENT
BEGIN:VEVENT
DTSTART;TZID=America/Los_Angeles:20230310T180000
DTEND;TZID=America/Los_Angeles:20230310T210000
DTSTAMP:20260425T180939
CREATED:20230307T042922Z
LAST-MODIFIED:20230307T042922Z
UID:2393-1678471200-1678482000@figtreecoffee.com
SUMMARY:Savanna Lee & Jion
DESCRIPTION:Enjoy live music from Savanna Lee between 6 to 7 pm and Jion takes the stage from 7-9 pm.
URL:https://figtreecoffee.com/event/savanna-lee-jion/
LOCATION:The Fig Tree\, 217 Vernon Street\, Roseville\, CA\, 95678\, United States
CATEGORIES:Live Music
ATTACH;FMTTYPE=image/png:https://figtreecoffee.com/wp-content/uploads/2022/09/Live-Music.png
END:VEVENT
BEGIN:VEVENT
DTSTART;TZID=America/Los_Angeles:20230311T180000
DTEND;TZID=America/Los_Angeles:20230311T210000
DTSTAMP:20260425T180939
CREATED:20230307T042445Z
LAST-MODIFIED:20230307T042445Z
UID:2384-1678557600-1678568400@figtreecoffee.com
SUMMARY:Open Mic Night
DESCRIPTION:We hosted the best open mic\,\ntil’ Covid hit\, then we said sike!\nwe took it away\,\nuntil yesterday\,\nand now you can sing as you’d like! \nThat’s right! Our favorite event is back in action every Saturday this month! Rules are as follows: \n1. All materials must be family-friendly. \n2. The signup list will be available at 5 PM in-house. Time slots will be first come first serve. \n3. We encourage each other and create a positive environment\, no matter how big or small. \nThat being said\, we hope to see you there!
URL:https://figtreecoffee.com/event/open-mic-night-16/
LOCATION:The Fig Tree\, 217 Vernon Street\, Roseville\, CA\, 95678\, United States
CATEGORIES:Open Mic
ATTACH;FMTTYPE=image/jpeg:https://figtreecoffee.com/wp-content/uploads/2022/09/Open-Mic-Night.jpg
END:VEVENT
BEGIN:VEVENT
DTSTART;TZID=America/Los_Angeles:20230314T180000
DTEND;TZID=America/Los_Angeles:20230314T210000
DTSTAMP:20260425T180939
CREATED:20230315T042808Z
LAST-MODIFIED:20230315T042808Z
UID:2398-1678816800-1678827600@figtreecoffee.com
SUMMARY:Alec Ogston & Carol Bara
DESCRIPTION:Enjoy live music from Alec Ogston between 6 to 7 pm and Carol Bara takes the stage from 7-9 pm.
URL:https://figtreecoffee.com/event/alec-ogston-carol-bara/
LOCATION:The Fig Tree\, 217 Vernon Street\, Roseville\, CA\, 95678\, United States
CATEGORIES:Live Music
ATTACH;FMTTYPE=image/png:https://figtreecoffee.com/wp-content/uploads/2022/09/Live-Music.png
END:VEVENT
BEGIN:VEVENT
DTSTART;TZID=America/Los_Angeles:20230315T180000
DTEND;TZID=America/Los_Angeles:20230315T210000
DTSTAMP:20260425T180939
CREATED:20230315T042839Z
LAST-MODIFIED:20230315T042839Z
UID:2400-1678903200-1678914000@figtreecoffee.com
SUMMARY:Sam Caylor & Wesley Laumer
DESCRIPTION:Enjoy live music from Sam Caylor between 6 to 7 pm and Carol Bara takes the stage from 7:30-9 pm.
URL:https://figtreecoffee.com/event/sam-caylor-wesley-laumer/
LOCATION:The Fig Tree\, 217 Vernon Street\, Roseville\, CA\, 95678\, United States
CATEGORIES:Live Music
ATTACH;FMTTYPE=image/png:https://figtreecoffee.com/wp-content/uploads/2022/09/Live-Music.png
END:VEVENT
BEGIN:VEVENT
DTSTART;TZID=America/Los_Angeles:20230316T180000
DTEND;TZID=America/Los_Angeles:20230316T210000
DTSTAMP:20260425T180939
CREATED:20230315T042913Z
LAST-MODIFIED:20230315T042913Z
UID:2402-1678989600-1679000400@figtreecoffee.com
SUMMARY:Frank Mouton & Glenn Lowe
DESCRIPTION:Enjoy live music from Frank Mouton between 6 to 7 pm and Glenn Lowe takes the stage from 7-9 pm.
URL:https://figtreecoffee.com/event/frank-mouton-glenn-lowe/
LOCATION:The Fig Tree\, 217 Vernon Street\, Roseville\, CA\, 95678\, United States
CATEGORIES:Live Music
ATTACH;FMTTYPE=image/png:https://figtreecoffee.com/wp-content/uploads/2022/09/Live-Music.png
END:VEVENT
BEGIN:VEVENT
DTSTART;TZID=America/Los_Angeles:20230317T180000
DTEND;TZID=America/Los_Angeles:20230317T210000
DTSTAMP:20260425T180939
CREATED:20230315T042958Z
LAST-MODIFIED:20230315T042958Z
UID:2404-1679076000-1679086800@figtreecoffee.com
SUMMARY:Celia St Croi & Silver Linings
DESCRIPTION:Enjoy live music from Celia St Croi between 6 to 7 pm and Silver Linings takes the stage from 7-9 pm.
URL:https://figtreecoffee.com/event/celia-st-croi-silver-linings/
LOCATION:The Fig Tree\, 217 Vernon Street\, Roseville\, CA\, 95678\, United States
CATEGORIES:Live Music
ATTACH;FMTTYPE=image/png:https://figtreecoffee.com/wp-content/uploads/2022/09/Live-Music.png
END:VEVENT
BEGIN:VEVENT
DTSTART;TZID=America/Los_Angeles:20230318T180000
DTEND;TZID=America/Los_Angeles:20230318T210000
DTSTAMP:20260425T180939
CREATED:20230315T042726Z
LAST-MODIFIED:20230315T042726Z
UID:2396-1679162400-1679173200@figtreecoffee.com
SUMMARY:Open Mic Night
DESCRIPTION:We hosted the best open mic\,\ntil’ Covid hit\, then we said sike!\nwe took it away\,\nuntil yesterday\,\nand now you can sing as you’d like! \nThat’s right! Our favorite event is back in action every Saturday this month! Rules are as follows: \n1. All materials must be family-friendly. \n2. The signup list will be available at 5 PM in-house. Time slots will be first come first serve. \n3. We encourage each other and create a positive environment\, no matter how big or small. \nThat being said\, we hope to see you there!
URL:https://figtreecoffee.com/event/open-mic-night-17/
LOCATION:The Fig Tree\, 217 Vernon Street\, Roseville\, CA\, 95678\, United States
CATEGORIES:Open Mic
ATTACH;FMTTYPE=image/jpeg:https://figtreecoffee.com/wp-content/uploads/2022/09/Open-Mic-Night.jpg
END:VEVENT
END:VCALENDAR