BEGIN:VCALENDAR
VERSION:2.0
PRODID:-//The Fig Tree - ECPv6.15.20//NONSGML v1.0//EN
CALSCALE:GREGORIAN
METHOD:PUBLISH
X-WR-CALNAME:The Fig Tree
X-ORIGINAL-URL:https://figtreecoffee.com
X-WR-CALDESC:Events for The Fig Tree
REFRESH-INTERVAL;VALUE=DURATION:PT1H
X-Robots-Tag:noindex
X-PUBLISHED-TTL:PT1H
BEGIN:VTIMEZONE
TZID:America/Los_Angeles
BEGIN:DAYLIGHT
TZOFFSETFROM:-0800
TZOFFSETTO:-0700
TZNAME:PDT
DTSTART:20220313T100000
END:DAYLIGHT
BEGIN:STANDARD
TZOFFSETFROM:-0700
TZOFFSETTO:-0800
TZNAME:PST
DTSTART:20221106T090000
END:STANDARD
BEGIN:DAYLIGHT
TZOFFSETFROM:-0800
TZOFFSETTO:-0700
TZNAME:PDT
DTSTART:20230312T100000
END:DAYLIGHT
BEGIN:STANDARD
TZOFFSETFROM:-0700
TZOFFSETTO:-0800
TZNAME:PST
DTSTART:20231105T090000
END:STANDARD
BEGIN:DAYLIGHT
TZOFFSETFROM:-0800
TZOFFSETTO:-0700
TZNAME:PDT
DTSTART:20240310T100000
END:DAYLIGHT
BEGIN:STANDARD
TZOFFSETFROM:-0700
TZOFFSETTO:-0800
TZNAME:PST
DTSTART:20241103T090000
END:STANDARD
END:VTIMEZONE
BEGIN:VEVENT
DTSTART;TZID=America/Los_Angeles:20230701T180000
DTEND;TZID=America/Los_Angeles:20230701T210000
DTSTAMP:20260425T113742
CREATED:20230627T051203Z
LAST-MODIFIED:20230627T051203Z
UID:2612-1688234400-1688245200@figtreecoffee.com
SUMMARY:Open Mic Night
DESCRIPTION:Unleash your inner artist at our Open Mic Night\, where talents of all kinds take the stage. Join us for a night of creativity\, music\, and spoken word as performers from all walks of life share their passion and captivate the audience. \nRules are as follows: \n1. All materials must be family-friendly. \n2. The signup list will be available at 5 PM in-house. Time slots will be first come first serve. \n3. We encourage each other and create a positive environment\, no matter how big or small. \nWe hope to see you there! \nHost: Alec Ogston
URL:https://figtreecoffee.com/event/open-mic-night-30/
LOCATION:The Fig Tree\, 217 Vernon Street\, Roseville\, CA\, 95678\, United States
CATEGORIES:Open Mic
ATTACH;FMTTYPE=image/jpeg:https://figtreecoffee.com/wp-content/uploads/2023/04/open-mic-Night.jpg
END:VEVENT
BEGIN:VEVENT
DTSTART;TZID=America/Los_Angeles:20230705T180000
DTEND;TZID=America/Los_Angeles:20230705T210000
DTSTAMP:20260425T113742
CREATED:20230706T035304Z
LAST-MODIFIED:20230706T035304Z
UID:2626-1688580000-1688590800@figtreecoffee.com
SUMMARY:Griffin and Emma
DESCRIPTION:Join us for a captivating evening of live music with the talented duo\, Griffin and Emma. From 7-9 pm\, be serenaded by their harmonious melodies and dynamic performances. Sit back\, relax\, and let the enchanting sounds of Griffin and Emma transport you to a world of musical bliss.
URL:https://figtreecoffee.com/event/griffin-and-emma/
LOCATION:The Fig Tree\, 217 Vernon Street\, Roseville\, CA\, 95678\, United States
CATEGORIES:Live Music
ATTACH;FMTTYPE=image/jpeg:https://figtreecoffee.com/wp-content/uploads/2023/04/Live-Music.jpg
END:VEVENT
BEGIN:VEVENT
DTSTART;TZID=America/Los_Angeles:20230706T180000
DTEND;TZID=America/Los_Angeles:20230706T210000
DTSTAMP:20260425T113742
CREATED:20230706T035424Z
LAST-MODIFIED:20230706T035424Z
UID:2628-1688666400-1688677200@figtreecoffee.com
SUMMARY:Savanna Lee
DESCRIPTION:Experience an extraordinary evening of live music with the captivating talent of Savanna Lee. Join us from 6-9 pm and be mesmerized by her enchanting vocals and soulful performances. Don’t miss this opportunity to immerse yourself in an unforgettable musical journey.
URL:https://figtreecoffee.com/event/savanna-lee-2/
LOCATION:The Fig Tree\, 217 Vernon Street\, Roseville\, CA\, 95678\, United States
CATEGORIES:Live Music
ATTACH;FMTTYPE=image/jpeg:https://figtreecoffee.com/wp-content/uploads/2023/04/Live-Music.jpg
END:VEVENT
BEGIN:VEVENT
DTSTART;TZID=America/Los_Angeles:20230707T180000
DTEND;TZID=America/Los_Angeles:20230707T210000
DTSTAMP:20260425T113742
CREATED:20230706T035502Z
LAST-MODIFIED:20230706T041815Z
UID:2625-1688752800-1688763600@figtreecoffee.com
SUMMARY:Vanden & Isle of Stipe
DESCRIPTION:Get ready for an incredible night of live music. From 6-7 pm\, let Vanden captivate you with their unique sound\, followed by the mesmerizing tunes of Isle of Stipe from 7-9 pm. Join us for an unforgettable experience as these talented artists take the stage and fill the air with their captivating melodies.
URL:https://figtreecoffee.com/event/vanden-isle-of-stipe/
LOCATION:The Fig Tree\, 217 Vernon Street\, Roseville\, CA\, 95678\, United States
CATEGORIES:Live Music
ATTACH;FMTTYPE=image/jpeg:https://figtreecoffee.com/wp-content/uploads/2023/07/Live-Music-Vanden.jpg
END:VEVENT
BEGIN:VEVENT
DTSTART;TZID=America/Los_Angeles:20230708T180000
DTEND;TZID=America/Los_Angeles:20230708T210000
DTSTAMP:20260425T113742
CREATED:20230706T035209Z
LAST-MODIFIED:20230706T035209Z
UID:2623-1688839200-1688850000@figtreecoffee.com
SUMMARY:Open Mic Night
DESCRIPTION:Join us for an unforgettable Open Mic Night at Fig! Share your talent in a welcoming atmosphere. Don’t miss your chance to shine! Sign up now and let your creativity take the stage. \nRules are as follows: \n1. All materials must be family-friendly. \n2. The signup list will be available at 5 PM in-house. Time slots will be first come first serve. \n3. We encourage each other and create a positive environment\, no matter how big or small. \nWe hope to see you there! \nHost: Alec Ogston
URL:https://figtreecoffee.com/event/open-mic-night-31/
LOCATION:The Fig Tree\, 217 Vernon Street\, Roseville\, CA\, 95678\, United States
CATEGORIES:Open Mic
ATTACH;FMTTYPE=image/jpeg:https://figtreecoffee.com/wp-content/uploads/2023/04/open-mic-Night.jpg
END:VEVENT
BEGIN:VEVENT
DTSTART;TZID=America/Los_Angeles:20230712T190000
DTEND;TZID=America/Los_Angeles:20230712T210000
DTSTAMP:20260425T113742
CREATED:20230711T023512Z
LAST-MODIFIED:20230711T023512Z
UID:2634-1689188400-1689195600@figtreecoffee.com
SUMMARY:Donrico DeCastro
DESCRIPTION:Join us for live music featuring Donrico DeCastro from 7-9 pm! This is an excellent opportunity to see one of our talented and local musicians in the area perform.
URL:https://figtreecoffee.com/event/donrico-decastro-2/
LOCATION:The Fig Tree\, 217 Vernon Street\, Roseville\, CA\, 95678\, United States
CATEGORIES:Live Music
ATTACH;FMTTYPE=image/jpeg:https://figtreecoffee.com/wp-content/uploads/2023/04/Live-Music.jpg
END:VEVENT
BEGIN:VEVENT
DTSTART;TZID=America/Los_Angeles:20230713T180000
DTEND;TZID=America/Los_Angeles:20230713T210000
DTSTAMP:20260425T113742
CREATED:20230711T023628Z
LAST-MODIFIED:20230711T024001Z
UID:2636-1689271200-1689282000@figtreecoffee.com
SUMMARY:Lydia & TMB
DESCRIPTION:Mark your calendars for an amazing night of live music on July 13th! Join us from 6-7 pm as Lydia takes the stage\, captivating the audience with her soulful tunes. Then\, from 7-9 pm\, get ready to groove to the energetic beats of TMB. Don’t miss this incredible lineup of talented musicians for an unforgettable evening of music and entertainment.
URL:https://figtreecoffee.com/event/lydia-tmb/
LOCATION:The Fig Tree\, 217 Vernon Street\, Roseville\, CA\, 95678\, United States
CATEGORIES:Live Music
ATTACH;FMTTYPE=image/jpeg:https://figtreecoffee.com/wp-content/uploads/2023/04/Live-Music.jpg
END:VEVENT
BEGIN:VEVENT
DTSTART;TZID=America/Los_Angeles:20230714T180000
DTEND;TZID=America/Los_Angeles:20230714T210000
DTSTAMP:20260425T113742
CREATED:20230711T023728Z
LAST-MODIFIED:20230713T033006Z
UID:2638-1689357600-1689368400@figtreecoffee.com
SUMMARY:Bach 2 Rock & Madison Lazark
DESCRIPTION:Get ready for an electrifying night of live music! From 6-8 pm\, Bach 2 Rock will captivate you with their soulful tunes\, followed by performances by Madison Lazark from 8-9 pm. Join us for a vibrant and unforgettable experience filled with incredible music\, infectious rhythms\, and endless smiles.
URL:https://figtreecoffee.com/event/madison-lazark-bach-2-rock/
LOCATION:The Fig Tree\, 217 Vernon Street\, Roseville\, CA\, 95678\, United States
CATEGORIES:Live Music
ATTACH;FMTTYPE=image/jpeg:https://figtreecoffee.com/wp-content/uploads/2023/04/Live-Music.jpg
END:VEVENT
BEGIN:VEVENT
DTSTART;TZID=America/Los_Angeles:20230715T180000
DTEND;TZID=America/Los_Angeles:20230715T210000
DTSTAMP:20260425T113742
CREATED:20230711T023342Z
LAST-MODIFIED:20230711T023342Z
UID:2632-1689444000-1689454800@figtreecoffee.com
SUMMARY:Open Mic Night
DESCRIPTION:Join us for our Open Mic Night on July 15th at Fig Coffee Shop! All are welcome to perform. This is an excellent opportunity to share your talents with the community and have fun! \nRules are as follows: \n1. All materials must be family-friendly. \n2. The signup list will be available at 5 PM in-house. Time slots will be first come first serve. \n3. We encourage each other and create a positive environment\, whether big or small. \nWe hope to see you there! \nHost: Alec Ogston
URL:https://figtreecoffee.com/event/open-mic-night-32/
LOCATION:The Fig Tree\, 217 Vernon Street\, Roseville\, CA\, 95678\, United States
CATEGORIES:Open Mic
ATTACH;FMTTYPE=image/jpeg:https://figtreecoffee.com/wp-content/uploads/2023/04/open-mic-Night.jpg
END:VEVENT
BEGIN:VEVENT
DTSTART;TZID=America/Los_Angeles:20230720T180000
DTEND;TZID=America/Los_Angeles:20230720T210000
DTSTAMP:20260425T113742
CREATED:20230719T155549Z
LAST-MODIFIED:20230719T155549Z
UID:2650-1689876000-1689886800@figtreecoffee.com
SUMMARY:GarSham
DESCRIPTION:Join us for live music featuring GarSham from 6-9 pm! This is an excellent opportunity to see one of our talented and local musicians in the area perform.
URL:https://figtreecoffee.com/event/garsham/
LOCATION:The Fig Tree\, 217 Vernon Street\, Roseville\, CA\, 95678\, United States
CATEGORIES:Live Music
ATTACH;FMTTYPE=image/jpeg:https://figtreecoffee.com/wp-content/uploads/2023/04/Live-Music.jpg
END:VEVENT
BEGIN:VEVENT
DTSTART;TZID=America/Los_Angeles:20230721T180000
DTEND;TZID=America/Los_Angeles:20230721T210000
DTSTAMP:20260425T113742
CREATED:20230719T155625Z
LAST-MODIFIED:20230719T155625Z
UID:2652-1689962400-1689973200@figtreecoffee.com
SUMMARY:Rumi Shimada Trio
DESCRIPTION:Enjoy live music from Rumi Shimada Trio\, 6-9.
URL:https://figtreecoffee.com/event/rumi-shimada-trio-2/
LOCATION:The Fig Tree\, 217 Vernon Street\, Roseville\, CA\, 95678\, United States
CATEGORIES:Live Music
ATTACH;FMTTYPE=image/jpeg:https://figtreecoffee.com/wp-content/uploads/2023/04/Live-Music.jpg
END:VEVENT
BEGIN:VEVENT
DTSTART;TZID=America/Los_Angeles:20230722T180000
DTEND;TZID=America/Los_Angeles:20230722T210000
DTSTAMP:20260425T113742
CREATED:20230719T155514Z
LAST-MODIFIED:20230719T155514Z
UID:2648-1690048800-1690059600@figtreecoffee.com
SUMMARY:Open Mic Night
DESCRIPTION:Join us for our Open Mic Night at Fig Coffee! All are welcome to perform. This is an excellent opportunity to share your talents with the community and have fun! \nRules are as follows: \n1. All materials must be family-friendly. \n2. The signup list will be available at 5 PM in-house. Time slots will be first come first serve. \n3. We encourage each other and create a positive environment\, whether big or small. \nWe hope to see you there! \nHost: Alec Ogston
URL:https://figtreecoffee.com/event/open-mic-night-33/
LOCATION:The Fig Tree\, 217 Vernon Street\, Roseville\, CA\, 95678\, United States
CATEGORIES:Open Mic
ATTACH;FMTTYPE=image/jpeg:https://figtreecoffee.com/wp-content/uploads/2023/04/open-mic-Night.jpg
END:VEVENT
BEGIN:VEVENT
DTSTART;TZID=America/Los_Angeles:20230726T180000
DTEND;TZID=America/Los_Angeles:20230726T210000
DTSTAMP:20260425T113742
CREATED:20230728T055808Z
LAST-MODIFIED:20230728T055808Z
UID:2655-1690394400-1690405200@figtreecoffee.com
SUMMARY:Alec Ogston
DESCRIPTION:Enjoy live music from Alec Ogston between 6 to 9 pm
URL:https://figtreecoffee.com/event/alec-ogston/
LOCATION:The Fig Tree\, 217 Vernon Street\, Roseville\, CA\, 95678\, United States
CATEGORIES:Live Music
ATTACH;FMTTYPE=image/png:https://figtreecoffee.com/wp-content/uploads/2022/09/Live-Music.png
END:VEVENT
BEGIN:VEVENT
DTSTART;TZID=America/Los_Angeles:20230728T180000
DTEND;TZID=America/Los_Angeles:20230728T210000
DTSTAMP:20260425T113742
CREATED:20230728T055953Z
LAST-MODIFIED:20230728T060002Z
UID:2657-1690567200-1690578000@figtreecoffee.com
SUMMARY:Mischief & The Studebakers
DESCRIPTION:Join us for an evening of pure fun and lively entertainment! From 6-8 pm\, Mischief will bring their playful tunes to the stage\, followed by the rockin’ sounds of The Studebakers from 8-9 pm. Get ready to dance\, sing along\, and create memories with friends and family at this fantastic live music event
URL:https://figtreecoffee.com/event/mischief-the-studebakers/
LOCATION:The Fig Tree\, 217 Vernon Street\, Roseville\, CA\, 95678\, United States
CATEGORIES:Live Music
ATTACH;FMTTYPE=image/jpeg:https://figtreecoffee.com/wp-content/uploads/2023/04/Live-Music.jpg
END:VEVENT
BEGIN:VEVENT
DTSTART;TZID=America/Los_Angeles:20230729T180000
DTEND;TZID=America/Los_Angeles:20230729T210000
DTSTAMP:20260425T113742
CREATED:20230728T060038Z
LAST-MODIFIED:20230728T060038Z
UID:2660-1690653600-1690664400@figtreecoffee.com
SUMMARY:Open Mic Night
DESCRIPTION:Join us for our Open Mic Night at Fig Coffee! All are welcome to perform. This is an excellent opportunity to share your talents with the community and have fun! \nRules are as follows: \n1. All materials must be family-friendly. \n2. The signup list will be available at 5 PM in-house. Time slots will be first come first serve. \n3. We encourage each other and create a positive environment\, whether big or small. \nWe hope to see you there! \nHost: Josh
URL:https://figtreecoffee.com/event/open-mic-night-34/
LOCATION:The Fig Tree\, 217 Vernon Street\, Roseville\, CA\, 95678\, United States
CATEGORIES:Open Mic
ATTACH;FMTTYPE=image/jpeg:https://figtreecoffee.com/wp-content/uploads/2023/04/open-mic-Night.jpg
END:VEVENT
END:VCALENDAR