BEGIN:VCALENDAR
VERSION:2.0
PRODID:-//The Fig Tree - ECPv6.15.20//NONSGML v1.0//EN
CALSCALE:GREGORIAN
METHOD:PUBLISH
X-ORIGINAL-URL:https://figtreecoffee.com
X-WR-CALDESC:Events for The Fig Tree
REFRESH-INTERVAL;VALUE=DURATION:PT1H
X-Robots-Tag:noindex
X-PUBLISHED-TTL:PT1H
BEGIN:VTIMEZONE
TZID:America/Los_Angeles
BEGIN:DAYLIGHT
TZOFFSETFROM:-0800
TZOFFSETTO:-0700
TZNAME:PDT
DTSTART:20220313T100000
END:DAYLIGHT
BEGIN:STANDARD
TZOFFSETFROM:-0700
TZOFFSETTO:-0800
TZNAME:PST
DTSTART:20221106T090000
END:STANDARD
BEGIN:DAYLIGHT
TZOFFSETFROM:-0800
TZOFFSETTO:-0700
TZNAME:PDT
DTSTART:20230312T100000
END:DAYLIGHT
BEGIN:STANDARD
TZOFFSETFROM:-0700
TZOFFSETTO:-0800
TZNAME:PST
DTSTART:20231105T090000
END:STANDARD
BEGIN:DAYLIGHT
TZOFFSETFROM:-0800
TZOFFSETTO:-0700
TZNAME:PDT
DTSTART:20240310T100000
END:DAYLIGHT
BEGIN:STANDARD
TZOFFSETFROM:-0700
TZOFFSETTO:-0800
TZNAME:PST
DTSTART:20241103T090000
END:STANDARD
END:VTIMEZONE
BEGIN:VEVENT
DTSTART;TZID=America/Los_Angeles:20231004T180000
DTEND;TZID=America/Los_Angeles:20231004T210000
DTSTAMP:20260425T063842
CREATED:20231003T030837Z
LAST-MODIFIED:20231003T032428Z
UID:2783-1696442400-1696453200@figtreecoffee.com
SUMMARY:SVLT & Daryla Griser
DESCRIPTION:Join us for a night of musical diversity! SVLT will grace the stage with their captivating tunes from 6-7 pm and return for an encore performance from 8-9 pm. In between\, let Daryla Griser serenade you with her enchanting melodies from 7-8 pm. It’s an evening of unforgettable performances and musical magic.
URL:https://figtreecoffee.com/event/svlt-daryla-griser/
LOCATION:The Fig Tree\, 217 Vernon Street\, Roseville\, CA\, 95678\, United States
CATEGORIES:Live Music
END:VEVENT
BEGIN:VEVENT
DTSTART;TZID=America/Los_Angeles:20231005T180000
DTEND;TZID=America/Los_Angeles:20231005T210000
DTSTAMP:20260425T063842
CREATED:20231003T030957Z
LAST-MODIFIED:20231003T030957Z
UID:2785-1696528800-1696539600@figtreecoffee.com
SUMMARY:TMB
DESCRIPTION:Prepare for an unforgettable evening of music with TMB! From 6-9 pm\, let their talented musicians take you on a journey with their captivating tunes. It’s a night of non-stop entertainment and incredible performances you won’t want to miss.
URL:https://figtreecoffee.com/event/tmb/
LOCATION:The Fig Tree\, 217 Vernon Street\, Roseville\, CA\, 95678\, United States
CATEGORIES:Live Music
ATTACH;FMTTYPE=image/jpeg:https://figtreecoffee.com/wp-content/uploads/2023/04/Live-Music.jpg
END:VEVENT
BEGIN:VEVENT
DTSTART;TZID=America/Los_Angeles:20231006T180000
DTEND;TZID=America/Los_Angeles:20231006T210000
DTSTAMP:20260425T063842
CREATED:20231003T031057Z
LAST-MODIFIED:20231003T031057Z
UID:2787-1696615200-1696626000@figtreecoffee.com
SUMMARY:Still Sam\, Donrico De Castro\, & The Art Project
DESCRIPTION:Get ready for a night of musical magic with a trio of talented performers! Still Sam will serenade you from 6-6:55 pm\, followed by Donrico De Castro from 7-8 pm\, and ‘The Art Project’ will wrap up the evening with a heartwarming performance from 8-9 pm. Join us for an evening of diverse talent and unforgettable melodies.
URL:https://figtreecoffee.com/event/still-sam-donrico-de-castro-the-art-project/
LOCATION:The Fig Tree\, 217 Vernon Street\, Roseville\, CA\, 95678\, United States
CATEGORIES:Live Music
ATTACH;FMTTYPE=image/jpeg:https://figtreecoffee.com/wp-content/uploads/2023/04/Live-Music.jpg
END:VEVENT
BEGIN:VEVENT
DTSTART;TZID=America/Los_Angeles:20231011T180000
DTEND;TZID=America/Los_Angeles:20231011T210000
DTSTAMP:20260425T063842
CREATED:20231013T184556Z
LAST-MODIFIED:20231013T184556Z
UID:2792-1697047200-1697058000@figtreecoffee.com
SUMMARY:Jonathan Schneider & Madilyn Mackensie
DESCRIPTION:Join us this Wednesday for an evening of live music! From 6-7 pm\, Jonathan Schneider will captivate you with his soulful tunes\, followed by the enchanting performance of Madilyn Mackensie from 7-7:45 pm. It’s an hour of diverse musical talents and unforgettable melodies.
URL:https://figtreecoffee.com/event/jonathan-schneider-madilyn-mackensie/
LOCATION:The Fig Tree\, 217 Vernon Street\, Roseville\, CA\, 95678\, United States
CATEGORIES:Live Music
ATTACH;FMTTYPE=image/jpeg:https://figtreecoffee.com/wp-content/uploads/2023/04/Live-Music.jpg
END:VEVENT
BEGIN:VEVENT
DTSTART;TZID=America/Los_Angeles:20231012T180000
DTEND;TZID=America/Los_Angeles:20231012T210000
DTSTAMP:20260425T063842
CREATED:20231013T184622Z
LAST-MODIFIED:20231013T184622Z
UID:2794-1697133600-1697144400@figtreecoffee.com
SUMMARY:Avenue Blue
DESCRIPTION:Prepare for an incredible evening of music with Avenue Blue! From 6-9 pm\, let their talented musicians take you on a captivating musical journey. It’s an unmissable night of entertainment and exceptional performances.
URL:https://figtreecoffee.com/event/avenue-blue/
LOCATION:The Fig Tree\, 217 Vernon Street\, Roseville\, CA\, 95678\, United States
CATEGORIES:Live Music
ATTACH;FMTTYPE=image/jpeg:https://figtreecoffee.com/wp-content/uploads/2023/04/Live-Music.jpg
END:VEVENT
BEGIN:VEVENT
DTSTART;TZID=America/Los_Angeles:20231013T180000
DTEND;TZID=America/Los_Angeles:20231013T210000
DTSTAMP:20260425T063842
CREATED:20231013T184650Z
LAST-MODIFIED:20231013T184650Z
UID:2796-1697220000-1697230800@figtreecoffee.com
SUMMARY:Madison Lazark & Rumi Shimada
DESCRIPTION:Join us for an evening of captivating live music! From 6-7 pm\, Madison Lazark will serenade you with her enchanting melodies\, followed by the ethereal sounds of Rumi Shimada from 7-9 pm. It’s a night of diverse musical talents and unforgettable performances that you won’t want to miss.
URL:https://figtreecoffee.com/event/madison-lazark-rumi-shimada-2/
LOCATION:The Fig Tree\, 217 Vernon Street\, Roseville\, CA\, 95678\, United States
CATEGORIES:Live Music
ATTACH;FMTTYPE=image/jpeg:https://figtreecoffee.com/wp-content/uploads/2023/04/Live-Music.jpg
END:VEVENT
BEGIN:VEVENT
DTSTART;TZID=America/Los_Angeles:20231017T180000
DTEND;TZID=America/Los_Angeles:20231017T210000
DTSTAMP:20260425T063842
CREATED:20231016T193750Z
LAST-MODIFIED:20231018T005346Z
UID:2809-1697565600-1697576400@figtreecoffee.com
SUMMARY:Piano Night\, featuring Neptune
DESCRIPTION:Experience a magical night of live piano music! Join us for ‘Piano Night’ featuring the incredible talent of Neptune from 6-9 pm. It’s an evening that will transport you into a world of enchanting melodies and musical brilliance.
URL:https://figtreecoffee.com/event/piano-night-featuring-piano-night-featuring-neptune/
LOCATION:The Fig Tree\, 217 Vernon Street\, Roseville\, CA\, 95678\, United States
CATEGORIES:Live Music,Piano Night
END:VEVENT
BEGIN:VEVENT
DTSTART;TZID=America/Los_Angeles:20231018T180000
DTEND;TZID=America/Los_Angeles:20231018T210000
DTSTAMP:20260425T063842
CREATED:20231016T193842Z
LAST-MODIFIED:20231016T193842Z
UID:2811-1697652000-1697662800@figtreecoffee.com
SUMMARY:Rachel Mullen & Of The Heart
DESCRIPTION:Get ready for an evening of musical diversity! Rachel Mullen will serenade you with her enchanting melodies from 6-7 pm and return for an encore performance from 8-9 pm. In between\, let ‘Of The Heart’ captivate you with their soulful tunes from 7-8 pm. It’s an evening filled with unforgettable performances and musical magic.
URL:https://figtreecoffee.com/event/rachel-mullen-of-the-heart/
LOCATION:The Fig Tree\, 217 Vernon Street\, Roseville\, CA\, 95678\, United States
CATEGORIES:Live Music
ATTACH;FMTTYPE=image/jpeg:https://figtreecoffee.com/wp-content/uploads/2023/04/Live-Music.jpg
END:VEVENT
BEGIN:VEVENT
DTSTART;TZID=America/Los_Angeles:20231019T180000
DTEND;TZID=America/Los_Angeles:20231019T210000
DTSTAMP:20260425T063842
CREATED:20231016T193916Z
LAST-MODIFIED:20231016T193916Z
UID:2813-1697738400-1697749200@figtreecoffee.com
SUMMARY:Jaela the Harpist & Alec Ogsten
DESCRIPTION:Join us for an enchanting night of live music! From 6-7 pm\, let Jaela the Harpist serenade you with the ethereal sounds of her harp. Then\, from 7-9 pm\, immerse yourself in the captivating melodies of Alec Ogsten. It’s an evening of diverse musical talents and unforgettable performances that will leave you mesmerized
URL:https://figtreecoffee.com/event/jaela-the-harpist-alec-ogsten/
LOCATION:The Fig Tree\, 217 Vernon Street\, Roseville\, CA\, 95678\, United States
CATEGORIES:Live Music
ATTACH;FMTTYPE=image/jpeg:https://figtreecoffee.com/wp-content/uploads/2023/04/Live-Music.jpg
END:VEVENT
BEGIN:VEVENT
DTSTART;TZID=America/Los_Angeles:20231020T180000
DTEND;TZID=America/Los_Angeles:20231020T210000
DTSTAMP:20260425T063842
CREATED:20231016T193954Z
LAST-MODIFIED:20231018T005536Z
UID:2815-1697824800-1697835600@figtreecoffee.com
SUMMARY:Kelly Slusher\, Jion\, & Donrico
DESCRIPTION:Get ready for a musical journey! From 6-7 pm\, let Kelly Slusher captivate you with her enchanting melodies. Then\, from 7-8 pm\, enjoy the soulful tunes of Jion. Finally\, from 8-9 pm\, let Donrico serenade you with his unique sound. It’s an evening filled with diverse musical talents and unforgettable performances.
URL:https://figtreecoffee.com/event/kelly-slusher-jion-donrico/
LOCATION:The Fig Tree\, 217 Vernon Street\, Roseville\, CA\, 95678\, United States
CATEGORIES:Live Music
ATTACH;FMTTYPE=image/jpeg:https://figtreecoffee.com/wp-content/uploads/2023/04/Live-Music.jpg
END:VEVENT
BEGIN:VEVENT
DTSTART;TZID=America/Los_Angeles:20231024T180000
DTEND;TZID=America/Los_Angeles:20231024T200000
DTSTAMP:20260425T063842
CREATED:20231024T041431Z
LAST-MODIFIED:20231024T041431Z
UID:2823-1698170400-1698177600@figtreecoffee.com
SUMMARY:Krista White
DESCRIPTION:Mark your calendars for a night of piano magic! Join us on Tuesday\, October 24th\, for ‘Piano Night’ featuring the enchanting talent of Krista White from 6-8 pm. It’s an evening that promises to fill the air with captivating melodies and musical brilliance.
URL:https://figtreecoffee.com/event/krista-white/
LOCATION:The Fig Tree\, 217 Vernon Street\, Roseville\, CA\, 95678\, United States
CATEGORIES:Live Music,Piano Night
ATTACH;FMTTYPE=image/png:https://figtreecoffee.com/wp-content/uploads/2023/10/Piano-Night-Featuring-Krista-White.png
END:VEVENT
BEGIN:VEVENT
DTSTART;TZID=America/Los_Angeles:20231025T180000
DTEND;TZID=America/Los_Angeles:20231025T210000
DTSTAMP:20260425T063842
CREATED:20231024T041537Z
LAST-MODIFIED:20231024T041537Z
UID:2826-1698256800-1698267600@figtreecoffee.com
SUMMARY:Rachel Mullen & Jodi Pabst
DESCRIPTION:Prepare for an evening of musical diversity! From 6-6:45 pm and again from 8-9 pm\, let Rachel Mullen serenade you with her enchanting melodies. In between\, from 6:45-8 pm\, Jodi Pabst will captivate you with her soulful tunes. It’s an evening filled with diverse musical talents and unforgettable performances.
URL:https://figtreecoffee.com/event/rachel-mullen-jodi-pabst/
LOCATION:The Fig Tree\, 217 Vernon Street\, Roseville\, CA\, 95678\, United States
CATEGORIES:Live Music
ATTACH;FMTTYPE=image/jpeg:https://figtreecoffee.com/wp-content/uploads/2023/04/Live-Music.jpg
END:VEVENT
BEGIN:VEVENT
DTSTART;TZID=America/Los_Angeles:20231026T180000
DTEND;TZID=America/Los_Angeles:20231026T210000
DTSTAMP:20260425T063842
CREATED:20231024T041654Z
LAST-MODIFIED:20231024T041654Z
UID:2828-1698343200-1698354000@figtreecoffee.com
SUMMARY:John Freeman and Sam Caylor & Will N
DESCRIPTION:Get ready for an evening of diverse musical talent\, all while sipping on your favorite hot chocolate or tea! From 6-6:45 pm\, let John Freeman serenade you with his soulful tunes. Then\, from 7-9 pm\, enjoy the dynamic duo of Sam Caylor & Will N as they take the stage. It’s an evening filled with captivating performances\, delightful beverages\, and a range of musical delights.
URL:https://figtreecoffee.com/event/john-freeman-and-sam-caylor-will-n/
LOCATION:The Fig Tree\, 217 Vernon Street\, Roseville\, CA\, 95678\, United States
CATEGORIES:Live Music
ATTACH;FMTTYPE=image/jpeg:https://figtreecoffee.com/wp-content/uploads/2023/04/Live-Music.jpg
END:VEVENT
BEGIN:VEVENT
DTSTART;TZID=America/Los_Angeles:20231027T180000
DTEND;TZID=America/Los_Angeles:20231027T204500
DTSTAMP:20260425T063842
CREATED:20231024T041812Z
LAST-MODIFIED:20231024T041812Z
UID:2830-1698429600-1698439500@figtreecoffee.com
SUMMARY:Mischief & Jion
DESCRIPTION:From 6-8 pm\, let Mischief entertain you with their playful tunes. Then\, from 8-8:45 pm\, savor the soulful melodies of Jion. It’s an evening filled with festive music\, delightful Halloween-inspired beverages\, and captivating performances.
URL:https://figtreecoffee.com/event/mischief-jion/
LOCATION:The Fig Tree\, 217 Vernon Street\, Roseville\, CA\, 95678\, United States
CATEGORIES:Live Music
ATTACH;FMTTYPE=image/jpeg:https://figtreecoffee.com/wp-content/uploads/2023/04/Live-Music.jpg
END:VEVENT
BEGIN:VEVENT
DTSTART;TZID=America/Los_Angeles:20231028T180000
DTEND;TZID=America/Los_Angeles:20231028T210000
DTSTAMP:20260425T063842
CREATED:20231024T041857Z
LAST-MODIFIED:20231024T041857Z
UID:2832-1698516000-1698526800@figtreecoffee.com
SUMMARY:Open Mic Night
DESCRIPTION:Calling all performers and music lovers! Join us for an electrifying Open Mic Night where you can showcase your talents or simply enjoy an evening of diverse performances. It’s your stage\, your moment – let the music and creativity flow! \nRules are as follows: \n1. All materials must be family-friendly. \n2. The signup list will be available at 5 PM in-house. Time slots will be first come first serve. \n3. We encourage each other and create a positive environment\, whether big or small. \nWe hope to see you there!
URL:https://figtreecoffee.com/event/open-mic-night-38/
LOCATION:The Fig Tree\, 217 Vernon Street\, Roseville\, CA\, 95678\, United States
CATEGORIES:Open Mic
ATTACH;FMTTYPE=image/jpeg:https://figtreecoffee.com/wp-content/uploads/2023/04/open-mic-Night.jpg
END:VEVENT
BEGIN:VEVENT
DTSTART;TZID=America/Los_Angeles:20231031T180000
DTEND;TZID=America/Los_Angeles:20231031T210000
DTSTAMP:20260425T063842
CREATED:20231031T050004Z
LAST-MODIFIED:20231031T050655Z
UID:3061-1698775200-1698786000@figtreecoffee.com
SUMMARY:Piano Night\, featuring One Giant Fish
DESCRIPTION:Prepare for a mesmerizing evening of piano magic! Join us for Piano Night with One Giant Fish from 6-9 pm. Immerse yourself in a world of enchanting melodies and musical brilliance that will leave you spellbound.
URL:https://figtreecoffee.com/event/piano-night-featuring-one-giant-fish/
LOCATION:The Fig Tree\, 217 Vernon Street\, Roseville\, CA\, 95678\, United States
CATEGORIES:Live Music,Piano Night
ATTACH;FMTTYPE=image/jpeg:https://figtreecoffee.com/wp-content/uploads/2023/10/Piano-Night.jpg
END:VEVENT
END:VCALENDAR